Workbook
Name finI_1: 'Progress Report Phase-I (2)'!#REF!
Name finI_1: 'Progress Report Phase-I (3)'!#REF!
Name finI_10: 'Progress Report Phase-I (2)'!#REF!
Name finI_10: 'Progress Report Phase-I (3)'!#REF!
Name finI_11: 'Progress Report Phase-I (2)'!#REF!
Name finI_11: 'Progress Report Phase-I (3)'!#REF!
Name finI_12: 'Progress Report Phase-I (2)'!#REF!
Name finI_12: 'Progress Report Phase-I (3)'!#REF!
Name finI_13: 'Progress Report Phase-I (2)'!#REF!
Name finI_13: 'Progress Report Phase-I (3)'!#REF!
Name finI_14: 'Progress Report Phase-I (2)'!#REF!
Name finI_14: 'Progress Report Phase-I (3)'!#REF!
Name finI_15: 'Progress Report Phase-I (2)'!#REF!
Name finI_15: 'Progress Report Phase-I (3)'!#REF!
Name finI_16: 'Progress Report Phase-I (2)'!#REF!
Name finI_16: 'Progress Report Phase-I (3)'!#REF!
Name finI_17: 'Progress Report Phase-I (2)'!#REF!
Name finI_17: 'Progress Report Phase-I (3)'!#REF!
Name finI_18: 'Progress Report Phase-I (2)'!#REF!
Name finI_18: 'Progress Report Phase-I (3)'!#REF!
Name finI_19: 'Progress Report Phase-I (2)'!#REF!
Name finI_19: 'Progress Report Phase-I (3)'!#REF!
Name finI_2: 'Progress Report Phase-I (2)'!#REF!
Name finI_2: 'Progress Report Phase-I (3)'!#REF!
Name finI_20: 'Progress Report Phase-I (2)'!#REF!
Name finI_20: 'Progress Report Phase-I (3)'!#REF!
Name finI_21: 'Progress Report Phase-I (2)'!#REF!
Name finI_21: 'Progress Report Phase-I (3)'!#REF!
Name finI_22: 'Progress Report Phase-I (2)'!#REF!
Name finI_22: 'Progress Report Phase-I (3)'!#REF!
Name finI_23: 'Progress Report Phase-I (2)'!#REF!
Name finI_23: 'Progress Report Phase-I (3)'!#REF!
Name finI_24: 'Progress Report Phase-I (2)'!#REF!
Name finI_24: 'Progress Report Phase-I (3)'!#REF!
Name finI_25: 'Progress Report Phase-I (2)'!#REF!
Name finI_25: 'Progress Report Phase-I (3)'!#REF!
Name finI_26: 'Progress Report Phase-I (2)'!#REF!
Name finI_26: 'Progress Report Phase-I (3)'!#REF!
Name finI_27: 'Progress Report Phase-I (2)'!#REF!
Name finI_27: 'Progress Report Phase-I (3)'!#REF!
Name finI_28: 'Progress Report Phase-I (2)'!#REF!
Name finI_28: 'Progress Report Phase-I (3)'!#REF!
Name finI_29: 'Progress Report Phase-I (2)'!#REF!
Name finI_29: 'Progress Report Phase-I (3)'!#REF!
Name finI_3: 'Progress Report Phase-I (2)'!#REF!
Name finI_3: 'Progress Report Phase-I (3)'!#REF!
Name finI_30: 'Progress Report Phase-I (2)'!#REF!
Name finI_30: 'Progress Report Phase-I (3)'!#REF!
Name finI_31: 'Progress Report Phase-I (2)'!#REF!
Name finI_31: 'Progress Report Phase-I (3)'!#REF!
Name finI_32: 'Progress Report Phase-I (2)'!#REF!
Name finI_32: 'Progress Report Phase-I (3)'!#REF!
Name finI_33: 'Progress Report Phase-I (2)'!#REF!
Name finI_33: 'Progress Report Phase-I (3)'!#REF!
Name finI_34: 'Progress Report Phase-I (2)'!#REF!
Name finI_34: 'Progress Report Phase-I (3)'!#REF!
Name finI_35: 'Progress Report Phase-I (2)'!#REF!
Name finI_35: 'Progress Report Phase-I (3)'!#REF!
Name finI_36: 'Progress Report Phase-I (2)'!#REF!
Name finI_36: 'Progress Report Phase-I (3)'!#REF!

Sheet Progress Report Phase-I (2)
A1: GOVERNMENT OF KARNATAKA, PIU - STATE HIGHWAY DEVELOPMENT PROJECT, K.R.CIRCLE, BANGALORE
A2: SHDP - PHASE - I PACKAGES
A3: 44530
A4: Sl. No. | B4: Admini- strative approval No. | C4: Pkg No | D4: Details of packages | E4: SH No. | F4: Estimate Amount as per Administrative approval (Rs. in lakhs) | G4: Contract Amount (Rs. in lakhs) | H4: Variation Amount (Rs. in lakhs) | I4: Revised Contract Amount including VO (Rs. in lakhs) | J4: Name of the Contractor | K4: Date | N4: Length As per DPR in km | Q4: Length after VO in km | T4: Physical Progress | X4: Balance Length | AA4: Financial Progress | AC4: Remarks
K5: Commencement | L5: Completion | M5: Revised | N5: Length (in km) Renewal | O5: Length (in km) Improvements | P5: Total Length (in km) | Q5: Length (in km) Renewal | R5: Length (in km) Improvements | S5: Total Length (in km) | T5: Renewal (km) | U5: Improvements (km) | V5: Total Length Completed (in km) | W5: % Progress | X5: Renewal (km) | Y5: Improvements(km) | Z5: Total Length (in km) | AA5: Total (Rs. In Lakhs) | AB5: Financial Progress To Be Achived (Rs. In lakhs)
A7: 1 | B7: 2 | C7: 3 | D7: 4 | E7: 5 | F7: 6 | G7: 7 | H7: 8 | I7: 9 | J7: 10 | K7: 10 | L7: 11 | M7: 12 | N7: 14 | O7: 15 | P7: 16 | Q7: 17 | R7: 18 | S7: 19 | T7: 20 | U7: 21 | V7: 22 | W7: 23 | X7: 24 | Y7: 25 | Z7: 26 | AA7: 27 | AB7: 28 | AC7: 29
A8: NORTH ZONE
A9: DHARWAD DIVISION
A10: 1 | B10: PWD/ 45/EAP/01 | C10: 1 | D10: Improvements to Padubidri -Chikkalgudda SH - 01 from km 318.50 to km 356.96 (In selected reaches) (Tabakadahonnahalli, Devalingikoppa of Kalaghatagi Taluk) | E10: 1 | F10: 1926.67 | G10: 1609.73 | H10: 215.09 | I10: =G10+H10 -> 1824.82 | J10: M/s N.S.Nayak & Sons | K10: 02.11.2012 | L10: 02.10.2013 | M10: 26.12.2013 | N10: 0 | O10: 35.25 | P10: =N10+O10 -> 35.25 | Q10: 0 | R10: 35.25 | S10: =Q10+R10 -> 35.25 | T10: 0 | U10: 35.25 | V10: =T10+U10 -> 35.25 | W10: =V10/S10 -> 1 | X10: =Q10-T10 -> 0 | Y10: =R10-U10 -> 0 | Z10: =X10+Y10 -> 0 | AA10: 1890.98 | AB10: 0 | AC10: Completed
A11: 2 | B11: PWD/ 45/EAP/02 | C11: 2a | D11: Improvements to Kalmala Shiggaon SH - 23 from km 273.61 to km 284.51(In selected reaches) (Railway Gate to Savanur, Taluka Border of Kundagol Taluk) | E11: 23 | F11: 2134.94 | G11: 1929.66 | H11: 53.5 | I11: =G11+H11 -> 1983.16 | J11: N.S.Nayak | K11: 02.11.2012 | L11: 02.10.2013 | M11: 13.11.2013 | N11: 7.9 | O11: 3 | P11: =SUM(N11:O11) -> 10.9 | Q11: 0 | R11: 2.91 | S11: =SUM(Q11:R11) -> 2.91 | T11: 0 | U11: 2.91 | V11: =T11+U11 -> 2.91 | W11: =V11/S11 -> 1 | X11: =Q11-T11 -> 0 | Y11: =R11-U11 -> 0 | Z11: =X11+Y11 -> 0 | AA11: 2058.88 | AB11: 0 | AC11: Completed
C12: 2b | D12: Improvements to Navalgund - Banavasi SH - 137 from km 4.90 to km 18.30(In selected reaches) (Navalgunda to Annigeri of Navalgunda Taluk) | E12: 137 | N12: 0 | O12: 13.4 | P12: =N12+O12 -> 13.4 | Q12: 0 | R12: 13.8 | S12: =Q12+R12 -> 13.8 | T12: 0 | U12: 13.8 | V12: =T12+U12 -> 13.8 | W12: =V12/S12 -> 1 | X12: =Q12-T12 -> 0 | Y12: =R12-U12 -> 0 | Z12: =X12+Y12 -> 0
C13: 2c | D13: Improvements to Supa - Annigeri SH - 28from km 41.31 to km 68.42(In selected reaches) (Mavinkoppa Checkpost to Dharwad via Nigadi of Dharwad Taluk) | E13: 28 | N13: 10.82 | O13: 16.29 | P13: =N13+O13 -> 27.11 | Q13: 9.68 | R13: 16.47 | S13: =Q13+R13 -> 26.15 | T13: 9.68 | U13: 16.47 | V13: =T13+U13 -> 26.15 | W13: =V13/S13 -> 1 | X13: =Q13-T13 -> 0 | Y13: =R13-U13 -> 0 | Z13: =X13+Y13 -> 0
A14: DIVISION TOTAL | F14: =SUM(F10:F13) -> 4061.61 | G14: =SUM(G10:G13) -> 3539.39 | H14: =SUM(H10:H13) -> 268.59 | I14: =SUM(I10:I13) -> 3807.98 | N14: =SUM(N10:N13) -> 18.72 | O14: =SUM(O10:O13) -> 67.94 | P14: =SUM(P10:P13) -> 86.66 | Q14: =SUM(Q10:Q13) -> 9.68 | R14: =SUM(R10:R13) -> 68.43 | S14: =SUM(S10:S13) -> 78.11 | T14: =SUM(T10:T13) -> 9.68 | U14: =SUM(U10:U13) -> 68.43 | V14: =SUM(V10:V13) -> 78.11 | W14: =V14/S14 -> 1 | X14: =SUM(X10:X13) -> 0 | Y14: =SUM(Y10:Y13) -> 0 | Z14: =SUM(Z10:Z13) -> 0 | AA14: =SUM(AA10:AA13) -> 3949.86 | AB14: =SUM(AB10:AB13) -> 0
A15: GADAG DIVISION
A16: 3 | B16: PWD/ 45/EAP/03 | C16: 3 | D16: Improvements to Karwar - Ilkal SH - 06 from km 199.73 to km 271.60(In selected reaches) (Laxmeshwar, Magadi, Gadag of Gadag Taluk) | E16: 6 | F16: 3066.49 | G16: 2915.69 | H16: 164.69 | I16: =H16+G16 -> 3080.38 | J16: P.R.Nayak | K16: 18.10.2012 | L16: 18.09.2013 | M16: 26.06.2013 | N16: 23.59 | O16: 47.07 | P16: =N16+O16 -> 70.66 | Q16: 23.59 | R16: 47.27 | S16: =Q16+R16 -> 70.86 | T16: 23.59 | U16: 47.27 | V16: =T16+U16 -> 70.86 | W16: =V16/S16 -> 1 | X16: =Q16-T16 -> 0 | Y16: =R16-U16 -> 0 | Z16: =X16+Y16 -> 0 | AA16: 3050.1 | AB16: =I16-AA16 -> 30.28 | AC16: Completed
A17: 4 | B17: PWD/ 45/EAP/04 | C17: 4 | D17: Improvements to Karwar - Ilkal SH-06 from km 271.60 to km 310.81(In selected reaches) (Naregal, Gajendraghada of Ron Taluk) | E17: 6 | F17: 1806.23 | G17: 1875.02 | H17: 94.14 | I17: =H17+G17 -> 1969.16 | J17: B.S.Gaonkar | K17: 10.01.2013 | L17: 10.12.2013 | M17: 28.02.2014 | N17: 6.65 | O17: 30.67 | P17: =N17+O17 -> 37.32 | Q17: 8.4 | R17: 24.6 | S17: =Q17+R17 -> 33 | T17: 8.4 | U17: 24.6 | V17: =T17+U17 -> 33 | W17: =V17/S17 -> 1 | X17: =Q17-T17 -> 0 | Y17: =R17-U17 -> 0 | Z17: =X17+Y17 -> 0 | AA17: 1977.29 | AB17: 0 | AC17: Completed
A18: 5 | B18: PWD/ 45/EAP/05 | C18: 5a | D18: Improvements to Sindhnur - Hemmadga SH - 30 from km 117.80 to km149.00 (In selected reaches) (Belavanaki,Yavagal in Naragund & Ron Taluk) | E18: 30 | F18: 1748.83 | G18: 1978.15 | H18: 242.4 | I18: =G18+H18 -> 2220.55 | J18: B.Thirupathi.Reddy | K18: 20.10.2012 | L18: 20.09.2013 | M18: 29.07.2013 | N18: 17.2 | O18: 14 | P18: =N18+O18 -> 31.2 | Q18: 17.2 | R18: 11.6 | S18: =Q18+R18 -> 28.8 | T18: 17.2 | U18: 11.6 | V18: =T18+U18 -> 28.8 | W18: =V18/S18 -> 1 | X18: =Q18-T18 -> 0 | Y18: =R18-U18 -> 0 | Z18: =X18+Y18 -> 0 | AA18: 2251.55 | AB18: 0 | AC18: Completed
C19: 5b | D19: Improvements to Raravi - Belur SH - 63 from km 160.20 to km185.70 (In selected reaches) (Mushigeri in Ron Taluk) | E19: 63 | N19: 17.05 | O19: 6 | P19: =N19+O19 -> 23.05 | Q19: 17.7 | R19: 5.6 | S19: =Q19+R19 -> 23.3 | T19: 17.7 | U19: 5.6 | V19: =T19+U19 -> 23.3 | W19: =V19/S19 -> 1 | X19: =Q19-T19 -> 0 | Y19: =R19-U19 -> 0 | Z19: =X19+Y19 -> 0
A20: 6 | B20: PWD/ 45/EAP/06 | C20: 6 | D20: Improvements to Munavalli - Kotamuchagi SH-83 from km 63.14 to km104.50 (In selected reaches) (Mensigi, Holehalur of Naragund & Ron Taluk) | E20: 83 | F20: 2144.97 | G20: 2347.41 | H20: 348.23 | I20: =H20+G20 -> 2695.64 | J20: N.B.Hiremath | K20: 26.02.2013 | L20: 25.01.2014 | M20: 24.01.2014 | N20: 6 | O20: 35.36 | P20: =N20+O20 -> 41.36 | Q20: 6 | R20: 35.36 | S20: =Q20+R20 -> 41.36 | T20: 6 | U20: 35.36 | V20: =T20+U20 -> 41.36 | W20: =V20/S20 -> 1 | X20: =Q20-T20 -> 0 | Y20: =R20-U20 -> 0 | Z20: =X20+Y20 -> 0 | AA20: 2706.84 | AB20: 0 | AC20: Completed
A21: 7 | B21: PWD/ 45/EAP/07 | C21: 7 | D21: Improvements to Bagalkote - Biligiriranganabetta SH-57 from km 126.51 to km 167.89 (In selected reaches) (Shirahatti, Belatti of Shirahatti Taluk) | E21: 57 | F21: 2168 | G21: 2499.41 | H21: 372.65 | I21: =H21+G21 -> 2872.06 | J21: N.S.Nayak | K21: 13.03.2013 | L21: 12.02.2014 | M21: 12.02.2014 | N21: 0 | O21: 41.38 | P21: =N21+O21 -> 41.38 | Q21: 0.3 | R21: 41.08 | S21: =Q21+R21 -> 41.38 | T21: 0.3 | U21: 41.08 | V21: =T21+U21 -> 41.38 | W21: =V21/S21 -> 1 | X21: =Q21-T21 -> 0 | Y21: =R21-U21 -> 0 | Z21: =X21+Y21 -> 0 | AA21: 2900.44 | AB21: 0 | AC21: Completed
A22: 8 | B22: PWD/ 45/EAP/08 | C22: 8 | D22: Improvements to Bagalkote - Biligiriranganbetta SH-57 from km 72.27 to km 126.51 (In selected reaches) (Betageri , Beladatti of Ron & Gadag Taluks) | E22: 57 | F22: 2249.1 | G22: 2449.94 | H22: 509.75 | I22: =H22+G22 -> 2959.69 | J22: N.B.Hiremath | K22: 01.03.2013 | L22: 01.02.2014 | M22: 13.12.2014 | N22: 0 | O22: 44.51 | P22: =N22+O22 -> 44.51 | Q22: 0 | R22: 42.55 | S22: =Q22+R22 -> 42.55 | T22: 0 | U22: 42.55 | V22: =T22+U22 -> 42.55 | W22: =V22/S22 -> 1 | X22: =Q22-T22 -> 0 | Y22: =R22-U22 -> 0 | Z22: =X22+Y22 -> 0 | AA22: 2939.45 | AB22: =I22-AA22 -> 20.24 | AC22: Completed
A23: DIVISION TOTAL | F23: =SUM(F16:F22) -> 13183.62 | G23: =SUM(G16:G22) -> 14065.62 | H23: =SUM(H16:H22) -> 1731.86 | I23: =SUM(I16:I22) -> 15797.48 | N23: =SUM(N16:N22) -> 70.49 | O23: =SUM(O16:O22) -> 218.99 | P23: =SUM(P16:P22) -> 289.48 | Q23: =SUM(Q16:Q22) -> 73.19 | R23: =SUM(R16:R22) -> 208.06 | S23: =SUM(S16:S22) -> 281.25 | T23: =SUM(T16:T22) -> 73.19 | U23: =SUM(U16:U22) -> 208.06 | V23: =SUM(V16:V22) -> 281.25 | W23: =V23/S23 -> 1 | X23: =SUM(X16:X22) -> 0 | Y23: =SUM(Y16:Y22) -> 0 | Z23: =X23+Y23 -> 0 | AA23: =SUM(AA16:AA22) -> 15825.67 | AB23: =SUM(AB16:AB22) -> 50.52
A24: HAVERI DIVISION
A25: 9 | B25: PWD/ 45/EAP/09 | C25: 9a | D25: Improvements to Ekkumbi - MolkalmurSH-02 from km 8.20 to km 88.49 (In selected reaches) (From Dasanakoppa cross to Hangal crosss & Agadi, Basapur up to Guttal of Hangal & Haveri Taluk | E25: 2 | F25: 2161.68 | G25: 2542.44 | H25: 220.68 | I25: =G25+H25 -> 2763.12 | J25: A.V.Patil | K25: 28.02.2013 | L25: 27.01.2014 | M25: 25.01.2014 | N25: 23.83 | O25: 10.47 | P25: =N25+O25 -> 34.3 | Q25: 22.65 | R25: 10.92 | S25: =Q25+R25 -> 33.57 | T25: 22.65 | U25: 10.92 | V25: =T25+U25 -> 33.57 | W25: =V25/S25 -> 1 | X25: =Q25-T25 -> 0 | Y25: =R25-U25 -> 0 | Z25: =X25+Y25 -> 0 | AA25: 2725.45 | AB25: =I25-AA25 -> 37.67 | AC25: Completed
C26: 9b | D26: Improvements to Haveri - Sagar SH - 62 from km 9.63 to km 57.20 (In selected reaches) (Kagineli, Hamsabhavi of Byadagi & Hirekerur Taluk) | E26: 62 | N26: 4.8 | O26: 17.86 | P26: =N26+O26 -> 22.66 | Q26: 0 | R26: 15.26 | S26: =Q26+R26 -> 15.26 | T26: 0 | U26: 15.26 | V26: =T26+U26 -> 15.26 | W26: =V26/S26 -> 1 | X26: =Q26-T26 -> 0 | Y26: =R26-U26 -> 0 | Z26: =X26+Y26 -> 0
A27: 10 | B27: PWD/ 45/EAP/10 | C27: 10 | D27: Improvements to Bagalkote - Biligiriranganabetta SH-57 from km 196.72 to km 236.83 (In selected reaches) (Ranebennur, Haligeri of Ranebennur Taluk) | E27: 57 | F27: 1434.02 | G27: 1609.55 | H27: 144.25 | I27: =H27+G27 -> 1753.8 | J27: S.R.Bellary | K27: 17.10.2012 | L27: 17.09.2013 | M27: 03.11.2013 | N27: 0 | O27: 25.83 | P27: =N27+O27 -> 25.83 | Q27: 0 | R27: 26.06 | S27: =SUM(Q27:R27) -> 26.06 | T27: 0 | U27: 26.06 | V27: =T27+U27 -> 26.06 | W27: =V27/S27 -> 1 | X27: =Q27-T27 -> 0 | Y27: =R27-U27 -> 0 | Z27: =X27+Y27 -> 0 | AA27: 1750.33 | AB27: =I27-AA27 -> 3.47 | AC27: Completed
A28: 11 | B28: PWD/ 45/EAP/11 | C28: 11 | D28: Improvements to Birur - Sammasagi SH-76 from km 125.01 to km 189.00 (In selected reaches) (Haligeri, koda of Ranebennuru & Hirekerur Taluk) | E28: 76 | F28: 1452.21 | G28: 1616.25 | H28: 98.97 | I28: =H28+G28 -> 1715.22 | J28: S.R.Bellary | K28: 17.10.2012 | L28: 17.09.2013 | M28: 16.11.2013 | N28: 6.14 | O28: 24.95 | P28: =SUM(N28:O28) -> 31.09 | Q28: 6.12 | R28: 24.98 | S28: =Q28+R28 -> 31.1 | T28: 6.12 | U28: 24.98 | V28: =T28+U28 -> 31.1 | W28: =V28/S28 -> 1 | X28: =Q28-T28 -> 0 | Y28: =R28-U28 -> 0 | Z28: =X28+Y28 -> 0 | AA28: 1666.76 | AB28: =I28-AA28 -> 48.46 | AC28: Completed
A29: DIVISION TOTAL | F29: =SUM(F25:F28) -> 5047.91 | G29: =SUM(G25:G28) -> 5768.24 | H29: =SUM(H25:H28) -> 463.9 | I29: =SUM(I25:I28) -> 6232.14 | N29: =SUM(N25:N28) -> 34.77 | O29: =SUM(O25:O28) -> 79.11 | P29: =SUM(P25:P28) -> 113.88 | Q29: =SUM(Q25:Q28) -> 28.77 | R29: =SUM(R25:R28) -> 77.22 | S29: =SUM(S25:S28) -> 105.99 | T29: =SUM(T25:T28) -> 28.77 | U29: =SUM(U25:U28) -> 77.22 | V29: =SUM(V25:V28) -> 105.99 | W29: =V29/S29 -> 1 | X29: =SUM(X25:X28) -> 0 | Y29: =SUM(Y25:Y28) -> 0 | Z29: =SUM(Z25:Z28) -> 0 | AA29: =SUM(AA25:AA28) -> 6142.54 | AB29: =SUM(AB25:AB28) -> 89.6
A30: SIRSI DIVISION
A31: 12 | B31: PWD/ 45/EAP/12 | C31: 12a | D31: Improvements to Kumta - Tadas SH - 69 from km 0.00 to km 27.15(In selected reaches)(from kumta to Sirsi Taluk Border via Alkod of Karwar Taluk) | E31: 69 | F31: 1207.5 | G31: 1075.97 | H31: 183.74 | I31: =G31+H31 -> 1259.71 | J31: Ramashree Global Construction | K31: 16.10.2012 | L31: 16.09.2013 | M31: 30.04.2014 | N31: 16.4 | O31: 1.6 | P31: =N31+O31 -> 18 | Q31: 16.4 | R31: 1.6 | S31: =Q31+R31 -> 18 | T31: 16.4 | U31: 1.6 | V31: =T31+U31 -> 18 | W31: =V31/S31 -> 1 | X31: =Q31-T31 -> 0 | Y31: =R31-U31 -> 0 | Z31: =X31+Y31 -> 0 | AA31: 1259.94 | AB31: =I31-AA31 -> -0.23 | AC31: Completed
C32: 12b | D32: Improvements to Karwar Kaiga Ilkal SH-06 from km 0.50 to km 69.40(In selected reaches)(Shirwadi, Wailwadi of Karwar Taluk) | E32: 6 | N32: 41.25 | O32: 0 | P32: =N32+O32 -> 41.25 | Q32: 25.95 | R32: 15.15 | S32: =Q32+R32 -> 41.1 | T32: 25.95 | U32: 15.15 | V32: =T32+U32 -> 41.1 | W32: =V32/S32 -> 1 | X32: =Q32-T32 -> 0 | Y32: =R32-U32 -> 0 | Z32: =X32+Y32 -> 0
A33: DIVISION TOTAL | F33: =SUM(F31) -> 1207.5 | G33: =SUM(G31) -> 1075.97 | H33: =SUM(H31) -> 183.74 | I33: =SUM(I31) -> 1259.71 | N33: =SUM(N31:N32) -> 57.65 | O33: =SUM(O31:O32) -> 1.6 | P33: =SUM(P31:P32) -> 59.25 | Q33: =SUM(Q31:Q32) -> 42.35 | R33: =SUM(R31:R32) -> 16.75 | S33: =SUM(S31:S32) -> 59.1 | T33: =SUM(T31:T32) -> 42.35 | U33: =SUM(U31:U32) -> 16.75 | V33: =V31+V32 -> 59.1 | W33: =V33/S33 -> 1 | X33: =SUM(X31:X32) -> 0 | Y33: =SUM(Y31:Y32) -> 0 | Z33: =X33+Y33 -> 0 | AA33: =SUM(AA31) -> 1259.94
A34: KARWAR DIVISION | T34: 0 | U34: 0
A35: 13 | B35: PWD/ 45/EAP/13 | C35: 13a | D35: Improvements to Kumta Tadas SH-69 from km 40.00 to km 83.70 (In selected reaches) (Sirsi,Isloor of Sirsi Taluk) | E35: 69 | F35: 1717.28 | G35: 1494.82 | H35: 0 | I35: =G35+H35 -> 1494.82 | J35: N.S.Nayak | K35: 16.10.2012 | L35: 17.06.2013 | M35: 17.06.2013 | N35: 22 | O35: 6.54 | P35: =N35+O35 -> 28.54 | Q35: 24.59 | R35: 2.47 | S35: =Q35+R35 -> 27.06 | T35: 24.59 | U35: 2.47 | V35: =T35+U35 -> 27.06 | W35: =V35/S35 -> 1 | X35: =Q35-T35 -> 0 | Y35: =R35-U35 -> 0 | Z35: =X35+Y35 -> 0 | AA35: 1390.06 | AB35: =I35-AA35 -> 104.76 | AC35: Completed
C36: 13b | D36: Improvements to Karwar - Kaiga - Ilkal SH-06 from km 69.40 to km125.80 (In selected reaches) (Idagundi, Yellapur Taluk) | E36: 6 | N36: 29.64 | O36: 17.86 | P36: =N36+O36 -> 47.5 | Q36: 29.64 | R36: 18.13 | S36: =Q36+R36 -> 47.77 | T36: 29.64 | U36: 18.132 | V36: =T36+U36 -> 47.772 | W36: =V36/S36 -> 1.0000419 | X36: =Q36-T36 -> 0 | Y36: =R36-U36 -> -0.002 | Z36: =X36+Y36 -> -0.002
A37: DIVISION TOTAL | F37: =SUM(F35) -> 1717.28 | G37: =SUM(G35) -> 1494.82 | H37: =SUM(H35) -> 0 | I37: =SUM(I35) -> 1494.82 | N37: =SUM(N35:N36) -> 51.64 | O37: =SUM(O35:O36) -> 24.4 | P37: =SUM(P35:P36) -> 76.04 | Q37: =SUM(Q35:Q36) -> 54.23 | R37: =SUM(R35:R36) -> 20.6 | S37: =SUM(S35:S36) -> 74.83 | T37: =SUM(T35:T36) -> 54.23 | U37: =SUM(U35:U36) -> 20.602 | V37: =SUM(V35:V36) -> 74.832 | W37: =V37/S37 -> 1.0000267 | X37: =SUM(X35:X36) -> 0 | Y37: =SUM(Y35:Y36) -> -0.002 | Z37: =X37+Y37 -> -0.002 | AA37: =SUM(AA35:AA36) -> 1390.06 | AB37: =SUM(AB35:AB36) -> 104.76
A38: DHARWAD CIRCLE TOTAL | F38: =F37+F33+F29+F23+F14 -> 25217.92 | G38: =G37+G33+G29+G23+G14 -> 25944.04 | H38: =H37+H33+H29+H23+H14 -> 2648.09 | I38: =I37+I33+I29+I23+I14 -> 28592.13 | N38: =N37+N33+N29+N23+N14 -> 233.27 | O38: =O37+O33+O29+O23+O14 -> 392.04 | P38: =P37+P33+P29+P23+P14 -> 625.31 | Q38: =Q37+Q33+Q29+Q23+Q14 -> 208.22 | R38: =R37+R33+R29+R23+R14 -> 391.06 | S38: =S37+S33+S29+S23+S14 -> 599.28 | T38: =T37+T33+T29+T23+T14 -> 208.22 | U38: =U37+U33+U29+U23+U14 -> 391.062 | V38: =V37+V33+V29+V23+V14 -> 599.282 | W38: =V38/S38 -> 1.0000033 | X38: =X37+X33+X29+X23+X14 -> 0 | Y38: =Y37+Y33+Y29+Y23+Y14 -> -0.002 | Z38: =Z37+Z33+Z29+Z23+Z14 -> -0.002 | AA38: =AA37+AA33+AA29+AA23+AA14 -> 28568.07 | AB38: =AB37+AB33+AB29+AB23+AB14 -> 244.88
A39: BELAGAVI CIRCLE
A40: BELAGAVI DIVISION
A41: 14 | B41: PWD/ 45/EAP/14 | C41: 14a | D41: Improvements to Khanapur - Talaguppa SH - 93 from km 0.00 to km 34.58 (In selected reaches) (Khanapur of Kahanapur Taluk) | E41: 93 | F41: 2266.02 | G41: 2212.08 | H41: -7.17 | I41: =G41+H41 -> 2204.91 | J41: M/s. P.R. Nayak. Hubli | K41: 41194 | L41: 41528 | M41: 24.05.2013 | N41: 31.57 | O41: 1.456 | P41: =N41+O41 -> 33.026 | Q41: 33.03 | R41: 0 | S41: =SUM(Q41:R41) -> 33.03 | T41: 33.03 | U41: 0 | V41: =T41+U41 -> 33.03 | W41: =V41/S41 -> 1 | X41: =Q41-T41 -> 0 | Y41: =R41-U41 -> 0 | Z41: =X41+Y41 -> 0 | AA41: 2220.59 | AB41: 0 | AC41: Completed
C42: 14b | D42: Improvements to Yargatti - Babaleshwar SH-55 from km 7.50 to km 28.46(In selected reaches) (Yaragalli, Sattigeri,Savadatti, Itnal, Hulkund of Ramadurga Taluk) | E42: 55 | N42: 0 | O42: 20.96 | P42: =N42+O42 -> 20.96 | Q42: 0 | R42: 20.96 | S42: =SUM(Q42:R42) -> 20.96 | T42: 0 | U42: 20.96 | V42: =T42+U42 -> 20.96 | W42: =V42/S42 -> 1 | X42: =Q42-T42 -> 0 | Y42: =R42-U42 -> 0 | Z42: =X42+Y42 -> 0
C43: 14c | D43: Improvements to of Jamboti - Rabkavi SH - 54 from km 29.74 to km 54.28.(In selected reaches) (Belgaum, Kanbargi, Muchhandi, Suldhal, Tumarguddi, Hudli of Belgaum Taluk) | E43: 54 | N43: 7.2 | O43: 7.85 | P43: =N43+O43 -> 15.05 | Q43: 9.857 | R43: 8.884 | S43: =SUM(Q43:R43) -> 18.741 | T43: 9.857 | U43: 8.884 | V43: =T43+U43 -> 18.741 | W43: =V43/S43 -> 1 | X43: =Q43-T43 -> 0 | Y43: =R43-U43 -> 0 | Z43: =X43+Y43 -> 0
A44: DIVISION TOTAL | F44: =SUM(F41) -> 2266.02 | G44: =SUM(G41:G43) -> 2212.08 | H44: =SUM(H41:H43) -> -7.17 | I44: =SUM(I41:I43) -> 2204.91 | N44: =SUM(N41:N43) -> 38.77 | O44: =SUM(O41:O43) -> 30.266 | P44: =SUM(P41:P43) -> 69.036 | Q44: =SUM(Q41:Q43) -> 42.887 | R44: =SUM(R41:R43) -> 29.844 | S44: =SUM(S41:S43) -> 72.731 | T44: =SUM(T41:T43) -> 42.887 | U44: =SUM(U41:U43) -> 29.844 | V44: =SUM(V41:V43) -> 72.731 | W44: =V44/S44 -> 1 | X44: =SUM(X41:X43) -> 0 | Y44: =SUM(Y41:Y43) -> 0 | Z44: =X44+Y44 -> 0 | AA44: =SUM(AA41) -> 2220.59 | AB44: =SUM(AB41) -> 0
A45: CHIKKODI DIVISION
A46: 15 | B46: PWD/ 45/EAP/15 | C46: 15a | D46: Improvements to Padubidri - Chikklagudda SH-01 from km 478.77 to km 497.35 (In selected reaches) (Hosur, Yaragatti, Badkundri cross, Kurni Chikkalgudda of Hukkeri Taluk) | E46: 1 | F46: 2144.97 | G46: 2464.85 | H46: 174.28 | I46: =H46+G46 -> 2639.13 | J46: R.S.Patil | K46: 06.02.2013 | L46: 05.01.2014 | M46: 30.04.2014 | N46: 12 | O46: 4 | P46: =O46+N46 -> 16 | Q46: 12 | R46: 4 | S46: =Q46+R46 -> 16 | T46: 12 | U46: 4 | V46: =T46+U46 -> 16 | W46: =V46/S46 -> 1 | X46: =Q46-T46 -> 0 | Y46: =R46-U46 -> 0 | Z46: =X46+Y46 -> 0 | AA46: 2646.71 | AB46: =I46-AA46 -> -7.58 | AC46: Completed
C47: 15b | D47: Improvements to Jath - Jamboti SH-31 from km 0.00 to km 116.82 (In selected reaches) (Anantpur, Malabad, Parthanalli & Gokak cross, Kolavi, Vannur of Athani Taluk) | E47: 31 | N47: 20 | O47: 0 | P47: =O47+N47 -> 20 | Q47: 20 | R47: 10 | S47: =Q47+R47 -> 30 | T47: 20 | U47: 10 | V47: =T47+U47 -> 30 | W47: =V47/S47 -> 1 | X47: =Q47-T47 -> 0 | Y47: =R47-U47 -> 0 | Z47: =X47+Y47 -> 0
C48: 15c | D48: Improvements to Kagawad Kaladagi SH-53 from km0.00 to km15.70(In selected reaches) (Kagwad, Shedbal, UgarBK, Ughar Kurd of Athani Taluk) | E48: 53 | N48: 9.85 | O48: 0 | P48: =O48+N48 -> 9.85 | Q48: 9.78 | R48: 0 | S48: =Q48+R48 -> 9.78 | T48: 9.78 | U48: 0 | V48: =T48+U48 -> 9.78 | W48: =V48/S48 -> 1 | X48: =Q48-T48 -> 0 | Y48: =R48-U48 -> 0 | Z48: =X48+Y48 -> 0
C49: 15d | D49: Improvements to Mangasuli Laxmeshwar SH-73 from km 79.03 to km114.80 (In selected reaches) (Ghataprabha, Konnur, Mavanur, Godchinmalki, Pachhapur, Akkatangerhal of Gokak Taluk) | E49: 73 | N49: 16.98 | O49: 9.11 | P49: =O49+N49 -> 26.09 | Q49: 15.56 | R49: 11.12 | S49: =Q49+R49 -> 26.68 | T49: 15.56 | U49: 11.12 | V49: =T49+U49 -> 26.68 | W49: =V49/S49 -> 1 | X49: =Q49-T49 -> 0 | Y49: =R49-U49 -> 0 | Z49: =X49+Y49 -> 0
A50: 16 | B50: PWD/ 45/EAP/16 | C50: 16 | D50: 16(a)Improvements to Nippani - Kottalagi SH-72 from km 0.00 to km 67.45 (Excluding from km 57.20 to km 58.18 ) (In selected reaches) (Madalga, Shippur & Nippani, Galataga, Nej ,Nandi,Examba, Kallol, Manjri, Shriguppi of Athani Taluk) | E50: 72 | F50: 1628.29 | G50: 1876.92 | H50: -0.236 | I50: =H50+G50 -> 1876.684 | J50: P.Wantamutte | K50: 22.02.2013 | L50: 01.01.2014 | M50: 31.12.2013 | N50: 49.85 | O50: 14.847 | P50: =N50+O50 -> 64.697 | Q50: 28.43 | R50: 30.772 | S50: =Q50+R50 -> 59.202 | T50: 28.43 | U50: 30.77 | V50: =T50+U50 -> 59.2 | W50: =V50/S50 -> 0.99996622 | X50: =Q50-T50 -> 0 | Y50: =R50-U50 -> 0.002 | Z50: =X50+Y50 -> 0.002 | AA50: 1873.21 | AB50: =I50-AA50 -> 3.474 | AC50: Completed
D51: 16(b)Improvements to Madalaga - ShippurSH-72 from km 0.00 to km 12.00 (In selected reaches) | X51: =Q51-T51 -> 0 | Y51: =R51-U51 -> 0
A52: 17 | B52: PWD/ 45/EAP/17 | C52: 17 | D52: Improvements to Nippani - Kottalagi SH-72 from km 57.20 to km 58.18 & km 67.45 to km 151.81 (In selected reaches) (Shriguppi, Molwad, Kusnal, Ugar BK, UgarKH of Athani Taluk) | E52: 72 | F52: 2201.28 | G52: 2678.34 | H52: 441.77 | I52: =H52+G52 -> 3120.11 | J52: S.S.Alur | K52: 06.10.2012 | L52: 05.10.2013 | M52: 31.12.2013 | N52: 47.99 | O52: 22 | P52: =N52+O52 -> 69.99 | Q52: 42.98 | R52: 27.04 | S52: =SUM(Q52:R52) -> 70.02 | T52: 42.98 | U52: 27.04 | V52: =SUM(T52:U52) -> 70.02 | W52: =V52/S52 -> 1 | X52: =Q52-T52 -> 0 | Y52: =R52-U52 -> 0 | Z52: =X52+Y52 -> 0 | AA52: 2916.01 | AB52: 0 | AC52: Completed
A53: DIVISION TOTAL | F53: =SUM(F46:F52) -> 5974.54 | G53: =SUM(G46:G52) -> 7020.11 | H53: =SUM(H46:H52) -> 615.814 | I53: =SUM(I46:I52) -> 7635.924 | N53: =SUM(N46:N52) -> 156.67 | O53: =SUM(O46:O52) -> 49.957 | P53: =SUM(P46:P52) -> 206.627 | Q53: =SUM(Q46:Q52) -> 128.75 | R53: =SUM(R46:R52) -> 82.932 | S53: =SUM(S46:S52) -> 211.682 | T53: =SUM(T46:T52) -> 128.75 | U53: =SUM(U46:U52) -> 82.93 | V53: =SUM(V46:V52) -> 211.68 | W53: =V53/S53 -> 0.99999055 | X53: =SUM(X46:X52) -> 0 | Y53: =SUM(Y46:Y52) -> 0.002 | Z53: =SUM(Z46:Z52) -> 0.002 | AA53: =SUM(AA46:AA52) -> 7435.93 | AB53: =SUM(AB46:AB52) -> -4.106
A54: BAGALKOT DIVISION
A55: 18 | B55: PWD/ 45/EAP/18 | C55: 18a | D55: Improvements to Bagalkot - Biligiriranganabetta SH-57 from km0.00 to km 29.38 (In selected reaches)(Bagalkote , Sulekere, Katageri, Badami of Badami Taluk) | E55: 57 | F55: 2342.33 | G55: 2478.84 | H55: 246.18 | I55: =H55+G55 -> 2725.02 | J55: Haigreevea Construction | K55: 08.10.2012 | L55: 07.10.2013 | M55: 30.4.2014 | N55: 9.14 | O55: 20.24 | P55: =N55+O55 -> 29.38 | Q55: 0 | R55: 29.38 | S55: =Q55+R55 -> 29.38 | T55: 0 | U55: 29.38 | V55: =T55+U55 -> 29.38 | W55: =V55/S55 -> 1 | X55: =Q55-T55 -> 0 | Y55: =R55-U55 -> 0 | Z55: =X55+Y55 -> 0 | AA55: 2705.56 | AB55: =I55-AA55 -> 19.46 | AC55: Completed
C56: 18b | D56: Improvements to Yaragatti - Babaleshwar S.H.55 from km 42.41 to km 44.91 km 78.79 (In selected reaches) (Mudhol, Amalzari, Balgali of Badami Taluk) | E56: 55 | N56: 0 | O56: 17 | P56: =N56+O56 -> 17 | Q56: 0 | R56: 17.81 | S56: =Q56+R56 -> 17.81 | T56: 0 | U56: 17.81 | V56: =T56+U56 -> 17.81 | W56: =V56/S56 -> 1 | X56: =Q56-T56 -> 0 | Y56: =R56-U56 -> 0 | Z56: =X56+Y56 -> 0
A57: DIVISION TOTAL | F57: =SUM(F55:F56) -> 2342.33 | G57: =SUM(G55:G56) -> 2478.84 | H57: =SUM(H55:H56) -> 246.18 | I57: =SUM(I55:I56) -> 2725.02 | N57: =SUM(N55:N56) -> 9.14 | O57: =SUM(O55:O56) -> 37.24 | P57: =SUM(P55:P56) -> 46.38 | Q57: =SUM(Q55:Q56) -> 0 | R57: =SUM(R55:R56) -> 47.19 | S57: =SUM(S55:S56) -> 47.19 | T57: =SUM(T55:T56) -> 0 | U57: =SUM(U55:U56) -> 47.19 | V57: =T57+U57 -> 47.19 | W57: =V57/S57 -> 1 | X57: =SUM(X55:X56) -> 0 | Y57: =SUM(Y55:Y56) -> 0 | Z57: =X57+Y57 -> 0 | AA57: =SUM(AA55:AA56) -> 2705.56 | AB57: =SUM(AB55:AB56) -> 19.46
A58: BIJAPUR DIVISION
A59: 19 | B59: PWD/ 45/EAP/19 | C59: 19a | D59: Improvements to Shiradan - Lingasur SH-41from km 0.00 to km 71.43 (In selected reaches) (Shirdon, Chadchan, Zalki, Indi of Indi Taluk) | E59: 41 | F59: 2814 | G59: 2736.37 | H59: 139.88 | I59: =H59+G59 -> 2876.25 | J59: S.M.Authade | K59: 26.10.2012 | L59: 25.10.2013 | M59: 18.05.2013 | N59: 0.61 | O59: 26.23 | P59: =N59+O59 -> 26.84 | Q59: 0 | R59: 30.04 | S59: =Q59+R59 -> 30.04 | T59: 0 | U59: 30.04 | V59: =T59+U59 -> 30.04 | W59: =V59/S59 -> 1 | X59: =Q59-T59 -> 0 | Y59: =R59-U59 -> 0 | Z59: =X59+Y59 -> 0 | AA59: 2882.39 | AB59: =I59-AA59 -> -6.14 | AC59: Completed
C60: 19b | D60: Improvements to Shiradan - Lingasur SH-41 from km 71.43 to km 100.73(In selected reaches) (Roog, Devaripurgi of Indi Taluk) | E60: 41 | N60: 0 | O60: 26.15 | P60: =N60+O60 -> 26.15 | Q60: 0 | R60: 26.15 | S60: =Q60+R60 -> 26.15 | T60: 0 | U60: 26.15 | V60: =T60+U60 -> 26.15 | W60: =V60/S60 -> 1 | X60: =Q60-T60 -> 0 | Y60: =R60-U60 -> 0 | Z60: =X60+Y60 -> 0
A61: 20 | B61: PWD/ 45/EAP/20 | C61: 20a | D61: Improvements to Shiradan - Lingasur SH-41 from km 100.73 to km131.18 (In selected reaches) (Shirdon, Basavanbagewadi cross, of Muddebihal Taluk) | E61: 41 | F61: 2404 | G61: 2577.82 | H61: 227.56 | I61: =H61+G61 -> 2805.38 | J61: S.S.Alur | K61: 19.10.2012 | L61: 18.10.2013 | M61: 06.05.2013 | N61: 0 | O61: 24.45 | P61: =N61+O61 -> 24.45 | Q61: 0 | R61: 24.115 | S61: =Q61+R61 -> 24.115 | T61: 0 | U61: 24.115 | V61: =T61+U61 -> 24.115 | W61: =V61/S61 -> 1 | X61: =Q61-T61 -> 0 | Y61: =R61-U61 -> 0 | Z61: =X61+Y61 -> 0 | AA61: 2826.62 | AB61: 0 | AC61: Completed
C62: 20b | D62: Improvements to Shiradan - Lingasur SH-41 from km131.18 to km 176.78 (In selected reaches) (Nalatwad, Muddebihal of Muddebihal Taluk) | E62: 41 | N62: 21.88 | O62: 16.29 | P62: =N62+O62 -> 38.17 | Q62: 6.25 | R62: 35.57 | S62: =Q62+R62 -> 41.82 | T62: 6.25 | U62: 35.57 | V62: =T62+U62 -> 41.82 | W62: =V62/S62 -> 1 | X62: =Q62-T62 -> 0 | Y62: =R62-U62 -> 0 | Z62: =X62+Y62 -> 0
A63: DIVISION TOTAL | F63: =SUM(F59:F62) -> 5218 | G63: =SUM(G59:G62) -> 5314.19 | H63: =SUM(H59:H62) -> 367.44 | I63: =SUM(I59:I62) -> 5681.63 | N63: =SUM(N59:N62) -> 22.49 | O63: =SUM(O59:O62) -> 93.12 | P63: =SUM(P59:P62) -> 115.61 | Q63: =SUM(Q59:Q62) -> 6.25 | R63: =SUM(R59:R62) -> 115.875 | S63: =SUM(S59:S62) -> 122.125 | T63: =SUM(T59:T62) -> 6.25 | U63: =SUM(U59:U62) -> 115.875 | V63: =SUM(V59:V62) -> 122.125 | W63: =V63/S63 -> 1 | X63: =SUM(X59:X62) -> 0 | Y63: =SUM(Y59:Y62) -> 0 | Z63: =SUM(Z59:Z62) -> 0 | AA63: =SUM(AA59:AA62) -> 5709.01 | AB63: =SUM(AB59:AB62) -> -6.14
A64: BELAGAVI CIRCLE TOTAL | F64: =F63+F57+F53+F44 -> 15800.89 | G64: =G63+G57+G53+G44 -> 17025.22 | H64: =H63+H57+H53+H44 -> 1222.264 | I64: =I63+I57+I53+I44 -> 18247.484 | N64: =N63+N57+N53+N44 -> 227.07 | O64: =O63+O57+O53+O44 -> 210.583 | P64: =P63+P57+P53+P44 -> 437.653 | Q64: =Q63+Q57+Q53+Q44 -> 177.887 | R64: =R63+R57+R53+R44 -> 275.841 | S64: =S63+S57+S53+S44 -> 453.728 | T64: =T63+T57+T53+T44 -> 177.887 | U64: =U63+U57+U53+U44 -> 275.839 | V64: =V63+V57+V53+V44 -> 453.726 | W64: =V64/S64 -> 0.99999559 | X64: =X63+X57+X53+X44 -> 0 | Y64: =Y63+Y57+Y53+Y44 -> 0.002 | Z64: =Z63+Z57+Z53+Z44 -> 0.002 | AA64: =AA63+AA57+AA53+AA44 -> 18071.09 | AB64: =AB63+AB57+AB53+AB44 -> 9.214
A65: BELLARY CIRCLE
A66: BELLARY DIVISION
A67: 21 | B67: PWD/ 45/EAP/21 | C67: 21 | D67: Improvements to Kampli - Bellary SH-132 from km 0.00 to km 69.20 (In selected reaches) (Kampli town, Nilludi Kottayal, Emmiganur of Hospet Taluk & Kurugodu, Siddammanahalli, Badanhatti, Kudutini, Hariginadoni, Belagal& Bellary city limit of Bellary Taluk) | E67: 132 | F67: 2766 | G67: 3042.53 | H67: 135.88 | I67: =G67+H67 -> 3178.41 | J67: Prabhakar Reddy | K67: 12.03.13 | L67: 11.02.14 | M67: 30.06.2014 | N67: 25.3 | O67: 43.79 | P67: =N67+O67 -> 69.09 | Q67: 16.384 | R67: 45.22 | S67: =Q67+R67 -> 61.604 | T67: 16.384 | U67: 45.22 | V67: =T67+U67 -> 61.604 | W67: =V67/S67 -> 1 | X67: =Q67-T67 -> 0 | Y67: =R67-U67 -> 0 | Z67: =X67+Y67 -> 0 | AA67: 3114.94 | AB67: =I67-AA67 -> 63.47 | AC67: Completed
A68: 22 | B68: PWD/ 45/EAP/22 | C68: 22a | D68: Improvements to Shiraguppa - Sandur SH-49 from km 27.00 to kmb 73.73 & SH-25 from km 0.00 to km 2.60 (In selected reaches) (Mallappana Gudi, Kamalapur, Bukka Sagara, Ramasagara, Kampli, Sanapura in Hospet Taluk) | E68: 49 & 25 | F68: 2414.1 | G68: 2653.24 | H68: 260.4 | I68: =G68+H68 -> 2913.64 | J68: Rajshekhar (Swamy Constructions) | K68: 31.10.2013 | L68: 42394 | M68: 42394 | N68: 3.4 | O68: 23.63 | P68: =N68+O68 -> 27.03 | Q68: 0 | R68: 21.32 | S68: =Q68+R68 -> 21.32 | T68: 0 | U68: 21.32 | V68: =T68+U68 -> 21.32 | W68: =V68/S68 -> 1 | X68: =Q68-T68 -> 0 | Y68: =R68-U68 -> 0 | Z68: =X68+Y68 -> 0 | AA68: 2921.45 | AB68: =I68-AA68 -> -7.81 | AC68: Completed
C69: 22b | D69: Improvements to Shirguppa - Sandur SH-49 from km 73.73 to km 106.23 (In selected reaches) (Manur Sugur, Nadivi in Siraguppa Taluk) | E69: 49 | N69: 0 | O69: 14.76 | P69: =N69+O69 -> 14.76 | Q69: 0 | R69: 9.17 | S69: =Q69+R69 -> 9.17 | T69: 0 | U69: 9.17 | V69: =T69+U69 -> 9.17 | W69: =V69/S69 -> 1 | X69: =Q69-T69 -> 0 | Y69: =R69-U69 -> 0 | Z69: =X69+Y69 -> 0
A70: 23 | B70: PWD/ 45/EAP/23 | C70: 23a | D70: Improvements to Hampi - Hagaribommanahalli SH-131 from km 0.00 to km 22.70 (In selected reaches) (Hampi, Kamalapura, Kakubal in Hospet Taluk) | E70: 131 | F70: 2937 | G70: 2951.09 | H70: 259.64 | I70: =G70+H70 -> 3210.73 | J70: P.R.Nayak | K70: 25.10.12 | L70: 24.09.13 | M70: 31.05.2014 | N70: 6.2 | O70: 12.9 | P70: =N70+O70 -> 19.1 | Q70: 1.904 | R70: 14.365 | S70: =Q70+R70 -> 16.269 | T70: 1.904 | U70: 14.365 | V70: =T70+U70 -> 16.269 | W70: =V70/S70 -> 1 | X70: =Q70-T70 -> 0 | Y70: =R70-U70 -> 0 | Z70: =X70+Y70 -> 0 | AA70: 3168.9 | AB70: =I70-AA70 -> 41.83 | AC70: Completed
C71: 23b | D71: Improvements to Hampi - Hagaribommanahalli SH-131from km 22.70 to km 73.20 (In selected reaches) (Talur, Ubbalagundi, Rajapur, Metriki in Sandur Taluk) | E71: 131 | N71: 9 | O71: 35.93 | P71: =N71+O71 -> 44.93 | Q71: 5.172 | R71: 39.544 | S71: =Q71+R71 -> 44.716 | T71: 5.172 | U71: 39.544 | V71: =T71+U71 -> 44.716 | W71: =V71/S71 -> 1 | X71: =Q71-T71 -> 0 | Y71: =R71-U71 -> 0 | Z71: =X71+Y71 -> 0
A72: DIVISION TOTAL | F72: =SUM(F67:F71) -> 8117.1 | G72: =SUM(G67:G71) -> 8646.86 | H72: =SUM(H67:H71) -> 655.92 | I72: =SUM(I67:I71) -> 9302.78 | N72: =SUM(N67:N71) -> 43.9 | O72: =SUM(O67:O71) -> 131.01 | P72: =SUM(P67:P71) -> 174.91 | Q72: =SUM(Q67:Q71) -> 23.46 | R72: =SUM(R67:R71) -> 129.619 | S72: =SUM(S67:S71) -> 153.079 | T72: =SUM(T67:T71) -> 23.46 | U72: =SUM(U67:U71) -> 129.619 | V72: =SUM(V67:V71) -> 153.079 | W72: =V72/S72 -> 1 | X72: =SUM(X67:X71) -> 0 | Y72: =SUM(Y67:Y71) -> 0 | Z72: =SUM(Z67:Z71) -> 0 | AA72: =SUM(AA67:AA71) -> 9205.29 | AB72: =SUM(AB67:AB71) -> 97.49
A73: HADAGALI DIVISION
A74: 24 | B74: PWD/ 45/EAP/24 | C74: 24a | D74: Improvements to Mylar - Toranagal SH-40 from km 0.0 to km 97.33 (In selected reaches) (Holallu, Badanuru, Giriyapura, Hirehadagali, Haganuru, Thippapura, Huvinahadagali of Hadagali Taluk & Hampa sagara, Basapura, H.B.Halli, Anekallu, Basapura Thanda, Hosakere, Hansi in H.B.Halli Taluk) | E74: 40 | F74: 1878 | G74: 1995.25 | H74: 195.25 | I74: =H74+G74 -> 2190.5 | J74: Rammohan Reddy | K74: 19.12.2013 | L74: 18.11-2014 | M74: 42460 | N74: 30.25 | O74: 23.47 | P74: =N74+O74 -> 53.72 | Q74: 27 | R74: 25.12 | S74: =SUM(Q74:R74) -> 52.12 | T74: 27 | U74: 25.12 | V74: =T74+U74 -> 52.12 | W74: =V74/S74 -> 1 | X74: =Q74-T74 -> 0 | Y74: =R74-U74 -> 0 | Z74: =X74+Y74 -> 0 | AA74: 2191.54 | AB74: =I74-AA74 -> -1.04 | AC74: Completed
C75: 24b | D75: Improvements to Mylar - Torangal SH-40 from km 104.00 to km 109.00 (In selected reaches) (Kudligi Town inKudligi Taluk) | E75: 40 | N75: 0 | O75: 3.85 | P75: =N75+O75 -> 3.85 | Q75: 0 | R75: 2.95 | S75: =Q75+R75 -> 2.95 | T75: 0 | U75: 2.95 | V75: =T75+U75 -> 2.95 | W75: =V75/S75 -> 1 | X75: =Q75-T75 -> 0 | Y75: =R75-U75 -> 0 | Z75: =X75+Y75 -> 0
A76: 25 | B76: PWD/ 45/EAP/25 | C76: 25a | D76: Improvements to Hampi - Hagaribommanhalli SH-131from km 96.45 to km 137.00(In selected reaches)(Appena Halli, Appena Hall Thanda, Mahadevapura, Gudekote, Ramadurga Cross, C.J.Halli in Kudligi Taluk) | E76: 131 | F76: 2298 | G76: 2393.23 | H76: 128.1 | I76: =H76+G76 -> 2521.33 | J76: K.Krishna | K76: 18.10.12 | L76: 17.09.13 | M76: 30.07.2014 | N76: 0 | O76: 26.61 | P76: =N76+O76 -> 26.61 | Q76: 0 | R76: 26.7 | S76: =Q76+R76 -> 26.7 | T76: 0 | U76: 26.7 | V76: =T76+U76 -> 26.7 | W76: =V76/S76 -> 1 | X76: =Q76-T76 -> 0 | Y76: =R76-U76 -> 0 | Z76: =X76+Y76 -> 0 | AA76: 2469.97 | AB76: =I76-AA76 -> 51.36 | AC76: Completed
C77: 25b | D77: Improvements to Hampi -Hagaribommanhalli SH-131 from km 187.92 to km 198.75 (In selected reaches) (H.B.Halli, Chintara palli in H.B.Halli Taluk) | E77: 131 | N77: 2.1 | O77: 4.09 | P77: =N77+O77 -> 6.19 | Q77: 2.35 | R77: 3.95 | S77: =Q77+R77 -> 6.3 | T77: 2.35 | U77: 3.95 | V77: =T77+U77 -> 6.3 | W77: =V77/S77 -> 1 | X77: =Q77-T77 -> 0 | Y77: =R77-U77 -> 0 | Z77: =X77+Y77 -> 0
C78: 25c | D78: Improvements to Arabhavi - Challakere SH-45 from km 239.00 to km 261.02 (In Selected reaches) (Kottur, Kaalapur, Ujjini, Lakkampura in Kudligi Taluk) | E78: 45 | N78: 0 | O78: 13.42 | P78: =N78+O78 -> 13.42 | Q78: 0 | R78: 13.52 | S78: =Q78+R78 -> 13.52 | T78: 0 | U78: 13.52 | V78: =T78+U78 -> 13.52 | W78: =V78/S78 -> 1 | X78: =Q78-T78 -> 0 | Y78: =R78-U78 -> 0 | Z78: =X78+Y78 -> 0
A79: DIVISION TOTAL | F79: =SUM(F74:F78) -> 4176 | G79: =SUM(G74:G78) -> 4388.48 | H79: =SUM(H74:H78) -> 323.35 | I79: =SUM(I74:I78) -> 4711.83 | N79: =SUM(N74:N78) -> 32.35 | O79: =SUM(O74:O78) -> 71.44 | P79: =SUM(P74:P78) -> 103.79 | Q79: =SUM(Q74:Q78) -> 29.35 | R79: =SUM(R74:R78) -> 72.24 | S79: =SUM(S74:S78) -> 101.59 | T79: =SUM(T74:T78) -> 29.35 | U79: =SUM(U74:U78) -> 72.24 | V79: =SUM(V74:V78) -> 101.59 | W79: =V79/S79 -> 1 | X79: =SUM(X74:X78) -> 0 | Y79: =SUM(Y74:Y78) -> 0 | Z79: =SUM(Z74:Z78) -> 0 | AA79: =SUM(AA74:AA78) -> 4661.51 | AB79: =SUM(AB74:AB78) -> 50.32
A80: RAICHUR DIVISION
A81: 26 | B81: PWD/ 45/EAP/26 | C81: 26a | D81: Improvements to Mudhol - Yeragera SH-127 from km 134.91 to km 177.24 (In selected reaches) (Attunur, Kudri, Aroli, Purtipalli in Manvi Taluk) | E81: 127 | F81: 2114 | G81: 2005.47 | H81: 184.96 | I81: =H81+G81 -> 2190.43 | J81: Shankar Kotarki | K81: 05.11.12 | L81: 04.10.13 | M81: 30.06.2014 | N81: 14.82 | O81: 16.07 | P81: =N81+O81 -> 30.89 | Q81: 10.664 | R81: 20.092 | S81: =Q81+R81 -> 30.756 | T81: 10.664 | U81: 20.092 | V81: =T81+U81 -> 30.756 | W81: =V81/S81 -> 1 | X81: =Q81-T81 -> 0 | Y81: =R81-U81 -> 0 | Z81: =X81+Y81 -> 0 | AA81: 2117.51 | AB81: =I81-AA81 -> 72.92 | AC81: Completed
C82: 26b | D82: Improvements to Mudhol - Yeragera SH - 127 from km 177.24 to km 207.96 (In selected reaches) (Gujhali, Yeragera, Jambaladinni in Raichur Taluk) | E82: 127 | N82: 15.3 | O82: 11.31 | P82: =N82+O82 -> 26.61 | Q82: 10.265 | R82: 14.096 | S82: =Q82+R82 -> 24.361 | T82: 10.265 | U82: 14.096 | V82: =T82+U82 -> 24.361 | W82: =V82/S82 -> 1 | X82: =Q82-T82 -> 0 | Y82: =R82-U82 -> 0 | Z82: =X82+Y82 -> 0
A83: 27 | B83: PWD/ 45/EAP/27 | C83: 27a | D83: Improvements to Deodurg - Bellary SH - 128 from km 21.00 to km 76.24 (In selected reaches) (Chinchirki, K Thimmapura, Hussain pura, Hire Hanagi, Bhogavathi, Bagalvada, Hirekottankal, Chikkotnakalin Manvi Taluk) | E83: 128 | F83: 2374 | G83: 2305.32 | H83: 200.92 | I83: =G83+H83 -> 2506.24 | J83: Jagadeeswarudu Chilukuri (M/s Haigreeva Infratech Pvt. Ltd) | K83: 05.11.12 | L83: 30.09.2014 | M83: 31.03.2015 | N83: 18.64 | O83: 29.57 | P83: =N83+O83 -> 48.21 | Q83: 16.548 | R83: 23.317 | S83: =Q83+R83 -> 39.865 | T83: 16.548 | U83: 23.317 | V83: =T83+U83 -> 39.865 | W83: =V83/S83 -> 1 | X83: =Q83-T83 -> 0 | Y83: =R83-U83 -> 0 | Z83: =X83+Y83 -> 0 | AA83: 2512.42 | AB83: =I83-AA83 -> -6.18 | AC83: Completed
C84: 27b | D84: Improvements to Deodurg - Bellary SH - 128 from km 0.00 to km 21.00 (In selected reaches)(Mundargi, Galag in Deodurga Taluk) | E84: 128 | N84: 9.9 | O84: 6.6 | P84: =N84+O84 -> 16.5 | Q84: 6.7 | R84: 8.21 | S84: =Q84+R84 -> 14.91 | T84: 6.7 | U84: 8.21 | V84: =T84+U84 -> 14.91 | W84: =V84/S84 -> 1 | X84: =Q84-T84 -> 0 | Y84: =R84-U84 -> 0 | Z84: =X84+Y84 -> 0
A85: 28 | B85: PWD/ 45/EAP/28 | C85: 28a | D85: Improvements to Wanmarpalli - Raichur SH-15 from km 332.05 to km 346.29 (In selected reaches) (Raichur town limit, Singanodi in Raichur Taluk) | E85: 15 | F85: 1770.4 | G85: 1951.97 | H85: 292.13 | I85: =H85+G85 -> 2244.1 | J85: P.Ramarao (Patel Engineering) | K85: 19.10.12 | L85: 18.09.13 | M85: 31.10.2014 | N85: 6.25 | O85: 7.99 | P85: =N85+O85 -> 14.24 | Q85: 5.527 | R85: 8.548 | S85: =Q85+R85 -> 14.075 | T85: 5.527 | U85: 8.548 | V85: =T85+U85 -> 14.075 | W85: =V85/S85 -> 1 | X85: =Q85-T85 -> 0 | Y85: =R85-U85 -> 0 | Z85: =X85+Y85 -> 0 | AA85: 2202.56 | AB85: =I85-AA85 -> 41.54 | AC85: Completed
C86: 28b | D86: Improvements to Managuli - Bichal SH - 61from km 161.00 to km 191.87 (In selected reaches) (Kottadoddi, Arkera, Jagir Jadaladinni, of Deodurga Taluk & Siravara inManvi Taluk) | E86: 61 | N86: 13.07 | O86: 17.8 | P86: =N86+O86 -> 30.87 | Q86: 9.55 | R86: 21.325 | S86: =Q86+R86 -> 30.875 | T86: 9.55 | U86: 21.325 | V86: =SUM(T86:U86) -> 30.875 | W86: =V86/S86 -> 1 | X86: =Q86-T86 -> 0 | Y86: =R86-U86 -> 0 | Z86: =X86+Y86 -> 0
A87: 29 | B87: PWD/ 45/EAP/29 | C87: 29a | D87: Improvements to Raravi- Belur SH - 63 from km 32.50 to km 44.98 (In selected reaches)(Salgunda, Gorebal in Sindanur Taluk) | E87: 63 | F87: 1925.5 | G87: 2140.59 | H87: 64.25 | I87: =H87+G87 -> 2204.84 | J87: P.Ramarao (Patel Engineering) | K87: 12.03.13 | L87: 11.02.14 | M87: 30.11.2014 | N87: 0 | O87: 12.48 | P87: =N87+O87 -> 12.48 | Q87: 0 | R87: 12.48 | S87: =Q87+R87 -> 12.48 | T87: 0 | U87: 12.48 | V87: =T87+U87 -> 12.48 | W87: =V87/S87 -> 1 | X87: =Q87-T87 -> 0 | Y87: =R87-U87 -> 0 | Z87: =X87+Y87 -> 0 | AA87: 2071 | AB87: =I87-AA87 -> 133.84 | AC87: Completed
C88: 29b | D88: Srirangapatna Jewargi SH -19 from km 477.00 to km 505.00 (In selected reaches)(Lingasugur, Gurugunta in Lingasugur Taluk) | E88: 19 | N88: 28 | O88: 0 | P88: =N88+O88 -> 28 | Q88: 28 | R88: 0 | S88: =Q88+R88 -> 28 | T88: 28 | U88: 0 | V88: =T88+U88 -> 28 | W88: =V88/S88 -> 1 | X88: =Q88-T88 -> 0 | Y88: =R88-U88 -> 0 | Z88: =X88+Y88 -> 0
C89: 29c | D89: Improvements to Managuli -Bichal SH -61 from km 239.03 to km 251.05 (In selected reaches) (Gillesuguru in Raichur Taluk) | E89: 61 | N89: 0 | O89: 12.03 | P89: =N89+O89 -> 12.03 | Q89: 0 | R89: 11.975 | S89: =Q89+R89 -> 11.975 | T89: 0 | U89: 11.975 | V89: =T89+U89 -> 11.975 | W89: =V89/S89 -> 1 | X89: =Q89-T89 -> 0 | Y89: =R89-U89 -> 0 | Z89: =X89+Y89 -> 0
A90: DIVISION TOTAL | F90: =SUM(F81:F89) -> 8183.9 | G90: =SUM(G81:G89) -> 8403.35 | H90: =SUM(H81:H89) -> 742.26 | I90: =SUM(I81:I89) -> 9145.61 | N90: =SUM(N81:N89) -> 105.98 | O90: =SUM(O81:O89) -> 113.85 | P90: =SUM(P81:P89) -> 219.83 | Q90: =SUM(Q81:Q89) -> 87.254 | R90: =SUM(R81:R89) -> 120.043 | S90: =SUM(S81:S89) -> 207.297 | T90: =SUM(T81:T89) -> 87.254 | U90: =SUM(U81:U89) -> 120.043 | V90: =SUM(V81:V89) -> 207.297 | W90: =V90/S90 -> 1 | X90: =SUM(X81:X89) -> 0 | Y90: =SUM(Y81:Y89) -> 0 | Z90: =SUM(Z81:Z89) -> 0 | AA90: =SUM(AA81:AA89) -> 8903.49 | AB90: =SUM(AB81:AB89) -> 242.12
A91: KOPPAL DIVISION
A92: 30 | B92: PWD/ 45/EAP/30 | C92: 30 | D92: Improvements to Kalmala - Shiggaon SH -23 from km 162.45 to km 203.58 & Ginigera - Gondabal MDR from km 4.57 to km 20.90 (In selected reaches) (Ginigera, Basavapura, koppal town limit, Chikkasindagi, Hiresindagi, Hatti, Billi Gatta in Koppal Taluk) | E92: 23 & MD R | F92: 2258 | G92: 2464.93 | H92: 244.04 | I92: =G92+H92 -> 2708.97 | J92: Sai Constructions | K92: 16.10.12 | L92: 15.09.13 | M92: 31.03.2014 | N92: 26.04 | O92: 29.09 | P92: =N92+O92 -> 55.13 | Q92: 16.98 | R92: 36.46 | S92: =Q92+R92 -> 53.44 | T92: 16.98 | U92: 36.46 | V92: =T92+U92 -> 53.44 | W92: =V92/S92 -> 1 | X92: =Q92-T92 -> 0 | Y92: =R92-U92 -> 0 | Z92: =X92+Y92 -> 0 | AA92: 2710.98 | AB92: 0 | AC92: Completed
A93: DIVISION TOTAL | F93: =SUM(F92) -> 2258 | G93: =SUM(G92) -> 2464.93 | H93: =SUM(H92) -> 244.04 | I93: =SUM(I92) -> 2708.97 | N93: =SUM(N92) -> 26.04 | O93: =SUM(O92) -> 29.09 | P93: =SUM(P92) -> 55.13 | Q93: =SUM(Q92) -> 16.98 | R93: =SUM(R92) -> 36.46 | S93: =SUM(S92) -> 53.44 | T93: =SUM(T92) -> 16.98 | U93: =SUM(U92) -> 36.46 | V93: =SUM(V92) -> 53.44 | W93: =V93/S93 -> 1 | X93: =SUM(X92) -> 0 | Y93: =SUM(Y92) -> 0 | Z93: =X93+Y93 -> 0 | AA93: =SUM(AA92) -> 2710.98 | AB93: =SUM(AB92) -> 0
A94: BELLARY CIRCLE TOTAL | F94: =F93+F90+F79+F72 -> 22735 | G94: =G93+G90+G79+G72 -> 23903.62 | H94: =H93+H90+H79+H72 -> 1965.57 | I94: =I93+I90+I79+I72 -> 25869.19 | N94: =N93+N90+N79+N72 -> 208.27 | O94: =O93+O90+O79+O72 -> 345.39 | P94: =P93+P90+P79+P72 -> 553.66 | Q94: =Q93+Q90+Q79+Q72 -> 157.044 | R94: =R93+R90+R79+R72 -> 358.362 | S94: =S93+S90+S79+S72 -> 515.406 | T94: =T93+T90+T79+T72 -> 157.044 | U94: =U93+U90+U79+U72 -> 358.362 | V94: =V93+V90+V79+V72 -> 515.406 | W94: =V94/S94 -> 1 | X94: =X93+X90+X79+X72 -> 0 | Y94: =Y93+Y90+Y79+Y72 -> 0 | Z94: =Z93+Z90+Z79+Z72 -> 0 | AA94: =AA93+AA90+AA79+AA72 -> 25481.27 | AB94: =AB93+AB90+AB79+AB72 -> 389.93
A95: GULBARGA CIRCLE
A96: GULBARGA DIVISION
A97: 31 | B97: PWD/ 45/EAP/31 | C97: 31 | D97: Improvements to Mahagaon - Sulepeth SH - 32 from km 70.42 to km 118.00 (In selected reaches) (Mahagaon of Gulbarga Taluk& Ratkal,Kodli, Sulepet of Chincholli Taluk) | E97: 32 | F97: 2486 | G97: 2904.53 | H97: 725.44 | I97: =G97+H97 -> 3629.97 | J97: M/s Shankar Kotarki | K97: 41212 | L97: 41546 | M97: 30.06.2015 | N97: 0 | O97: 47.58 | P97: =N97+O97 -> 47.58 | Q97: 0 | R97: 47.58 | S97: =Q97+R97 -> 47.58 | T97: 0 | U97: 47.58 | V97: =T97+U97 -> 47.58 | W97: =V97/S97 -> 1 | X97: =Q97-T97 -> 0 | Y97: =R97-U97 -> 0 | Z97: =X97+Y97 -> 0 | AA97: 3568.71 | AB97: =I97-AA97 -> 61.26 | AC97: Completed
A98: 32 | B98: PWD/ 45/EAP/32 | C98: 32a | D98: Improvements to Gulbarga - Jewargi - Sindagi MDR via Chigaralli cross joining Yadrami from km 0.00 to km 52.00 (In selected reaches)(Chigaralli , Yedrami of Jewargi Taluk) | E98: MDR | F98: 3144 | G98: 3158.78 | H98: 271.22 | I98: =G98+H98 -> 3430 | J98: M/sKPC Projects . Ltd | K98: 41208 | L98: 41542 | M98: 24.10.2014 | N98: 22 | O98: 30 | P98: =N98+O98 -> 52 | Q98: 0 | R98: 39 | S98: =Q98+R98 -> 39 | T98: 0 | U98: 39 | V98: =T98+U98 -> 39 | W98: =V98/S98 -> 1 | X98: =Q98-T98 -> 0 | Y98: =R98-U98 -> 0 | Z98: =X98+Y98 -> 0 | AA98: 3465.91 | AB98: 0 | AC98: Completed
C99: 32b | D99: Improvements to Srirangapatna - JewargiSH-19 from km 573.00 to km 592.00 (In selected reaches)(Kallur &Jewargi of Jewargi Taluk) | E99: 19 | N99: 19 | O99: 0 | P99: =N99+O99 -> 19 | Q99: 19 | R99: 0 | S99: =Q99+R99 -> 19 | T99: 19 | U99: 0 | V99: =T99+U99 -> 19 | W99: =V99/S99 -> 1 | X99: =Q99-T99 -> 0 | Y99: =R99-U99 -> 0 | Z99: =X99+Y99 -> 0
C100: 32c | D100: Improvements to Mudhol -Yeragera SH-127 from km 0.00 to km 24.50 (In selected reaches)(Mudhol & Itkal of Sedam Taluk) | E100: 127 | N100: 18.94 | O100: 5.56 | P100: =N100+O100 -> 24.5 | Q100: 18.7 | R100: 5.8 | S100: =Q100+R100 -> 24.5 | T100: 18.7 | U100: 5.8 | V100: =T100+U100 -> 24.5 | W100: =V100/S100 -> 1 | X100: =Q100-T100 -> 0 | Y100: =R100-U100 -> 0 | Z100: =X100+Y100 -> 0
A101: 33 | B101: PWD/ 45/EAP/33 | C101: 33 | D101: Improvements to Aurad - Sadashivgad SH - 34 from km 138.67 to km 206.40 (In selected reaches) (Kinni sultan , Jidga of Aland Taluk) | E101: 34 | F101: 1988 | G101: 2372.65 | H101: 229.49 | I101: =G101+H101 -> 2602.14 | J101: M/s SRK Constructions | K101: 41601 | L101: 41569 | M101: 42460 | N101: 33 | O101: 29.7 | P101: =N101+O101 -> 62.7 | Q101: 0 | R101: 26.76 | S101: =Q101+R101 -> 26.76 | T101: 0 | U101: 26.76 | V101: =T101+U101 -> 26.76 | W101: =V101/S101 -> 1 | X101: =Q101-T101 -> 0 | Y101: =R101-U101 -> 0 | Z101: =X101+Y101 -> 0 | AA101: 2514.75 | AB101: =I101-AA101 -> 87.39 | AC101: Completed
...

Sheet District wise
A1: Phase I Progress District Wise
A2: Sl No | B2: District | C2: No Of Packages | D2: No Of Packages Completed | E2: Improvement in Km | F2: Financial Progress in Lakhs
A4: 1 | B4: Kalburgi | C4: 3 | D4: 3 | E4: ='Progress Report Phase-I (2)'!V102 -> 156.84 | F4: ='Progress Report Phase-I (2)'!AA102 -> 9549.37
A5: 2 | B5: Bidar | C5: 3 | D5: 3 | E5: ='Progress Report Phase-I (2)'!V111 -> 155.03 | F5: ='Progress Report Phase-I (2)'!AA111 -> 7443.62
A6: 3 | B6: Yadgir | C6: 1 | D6: 1 | E6: ='Progress Report Phase-I (2)'!V106 -> 60.5 | F6: ='Progress Report Phase-I (2)'!AA106 -> 2121.38
A7: 4 | B7: Bellary | C7: 5 | D7: 5 | E7: ='Progress Report Phase-I (2)'!V72+'Progress Report Phase-I (2)'!V79 -> 254.669 | F7: ='Progress Report Phase-I (2)'!AA72+'Progress Report Phase-I (2)'!AA79 -> 13866.8
A8: 5 | B8: Raichur | C8: 4 | D8: 4 | E8: ='Progress Report Phase-I (2)'!V90 -> 207.297 | F8: ='Progress Report Phase-I (2)'!AA90 -> 8903.49
A9: 6 | B9: Koppal | C9: 1 | D9: 1 | E9: ='Progress Report Phase-I (2)'!V93 -> 53.44 | F9: ='Progress Report Phase-I (2)'!AA93 -> 2710.98
A10: 7 | B10: Dharwad | C10: 2 | D10: 2 | E10: ='Progress Report Phase-I (2)'!V14 -> 78.11 | F10: ='Progress Report Phase-I (2)'!AA14 -> 3949.86
A11: 8 | B11: Gadag | C11: 6 | D11: 6 | E11: ='Progress Report Phase-I (2)'!V23 -> 281.25 | F11: ='Progress Report Phase-I (2)'!AA23 -> 15825.67
A12: 9 | B12: Haveri | C12: 3 | D12: 3 | E12: ='Progress Report Phase-I (2)'!V29 -> 105.99 | F12: ='Progress Report Phase-I (2)'!AA29 -> 6142.54
A13: 10 | B13: Uttar Kannada | C13: 2 | D13: 2 | E13: ='Progress Report Phase-I (2)'!V33+'Progress Report Phase-I (2)'!V37 -> 133.932 | F13: ='Progress Report Phase-I (2)'!AA33+'Progress Report Phase-I (2)'!AA37 -> 2650
A14: 11 | B14: Belgaum | C14: 4 | D14: 4 | E14: ='Progress Report Phase-I (2)'!V44+'Progress Report Phase-I (2)'!V53 -> 284.411 | F14: ='Progress Report Phase-I (2)'!AA44+'Progress Report Phase-I (2)'!AA53 -> 9656.52
A15: 12 | B15: Vijayapura | C15: 2 | D15: 2 | E15: ='Progress Report Phase-I (2)'!V63 -> 122.125 | F15: ='Progress Report Phase-I (2)'!AA63 -> 5709.01
A16: 13 | B16: Bagalkote | C16: 1 | D16: 1 | E16: ='Progress Report Phase-I (2)'!V57 -> 47.19 | F16: ='Progress Report Phase-I (2)'!AA57 -> 2705.56
A17: 14 | B17: Davanagere | C17: 2 | D17: 2 | E17: ='Progress Report Phase-I (2)'!V181+'Progress Report Phase-I (2)'!V201 -> 95.77 | F17: ='Progress Report Phase-I (2)'!AA181+'Progress Report Phase-I (2)'!AA201 -> 6224.78
A18: 15 | B18: Chitradurga | C18: 3 | D18: 3 | E18: ='Progress Report Phase-I (2)'!V177 -> 157.707 | F18: ='Progress Report Phase-I (2)'!AA177 -> 9217.03
A19: 16 | B19: Shimoga | C19: 3 | D19: 3 | E19: ='Progress Report Phase-I (2)'!V166+'Progress Report Phase-I (2)'!V171 -> 153.77 | F19: ='Progress Report Phase-I (2)'!AA166+'Progress Report Phase-I (2)'!AA171 -> 8952.95
A20: 17 | B20: Bangalore | C20: 0 | D20: 0 | E20: 0 | F20: 0
A21: 18 | B21: C B pura | C21: 0 | D21: 0 | E21: 0 | F21: 0
A22: 19 | B22: Ramanagara | C22: 1 | D22: 1 | E22: ='Progress Report Phase-I (2)'!V117 -> 43.39 | F22: ='Progress Report Phase-I (2)'!AA117 -> 2068.46
A23: 20 | B23: Kolar | C23: 1 | D23: 1 | E23: ='Progress Report Phase-I (2)'!V120 -> 41.182 | F23: ='Progress Report Phase-I (2)'!AA120 -> 2972.56
A24: 21 | B24: Tumkur | C24: 1 | D24: 1 | E24: ='Progress Report Phase-I (2)'!V124 -> 30.57 | F24: ='Progress Report Phase-I (2)'!AA124 -> 2390.57
A25: 22 | B25: Mandya | C25: 3 | D25: 3 | E25: ='Progress Report Phase-I (2)'!V140 -> 153.493 | F25: ='Progress Report Phase-I (2)'!AA140 -> 6904.68
A26: 23 | B26: Mysore | C26: 3 | D26: 3 | E26: ='Progress Report Phase-I (2)'!V130+'Progress Report Phase-I (2)'!V133 -> 97.555 | F26: ='Progress Report Phase-I (2)'!AA130+'Progress Report Phase-I (2)'!AA133 -> 7449.02
A27: 24 | B27: Chamarajnagar | C27: 0 | D27: 0 | E27: 0 | F27: 0
A28: 25 | B28: Udupi | C28: 1 | D28: 1 | E28: ='Progress Report Phase-I (2)'!V193 -> 53.95 | F28: ='Progress Report Phase-I (2)'!AA193 -> 1935.7
A29: 26 | B29: Kodagu | C29: 1 | D29: 1 | E29: ='Progress Report Phase-I (2)'!V197 -> 74.972 | F29: ='Progress Report Phase-I (2)'!AA197 -> 1916.19
A30: 27 | B30: Dakishna Kannada | C30: 2 | D30: 2 | E30: ='Progress Report Phase-I (2)'!V189 -> 127.87 | F30: ='Progress Report Phase-I (2)'!AA189 -> 7132.11
A31: 28 | B31: Chickmagaluru | C31: 2 | D31: 2 | E31: ='Progress Report Phase-I (2)'!V162 -> 130.05 | F31: ='Progress Report Phase-I (2)'!AA162 -> 4302.62
A32: 29 | B32: Hassan | C32: 6 | D32: 6 | E32: ='Progress Report Phase-I (2)'!V151+'Progress Report Phase-I (2)'!V157 -> 302.821 | F32: ='Progress Report Phase-I (2)'!AA151+'Progress Report Phase-I (2)'!AA157 -> 15877.19
A33: TOTAL | C33: =SUM(C4:C32) -> 66 | D33: =SUM(D4:D32) -> 66 | E33: =SUM(E4:E32) -> 3403.884 | F33: =SUM(F4:F32) -> 168578.66

Sheet Progress Report Phase-I (3)
A1: GOVERNMENT OF KARNATAKA, PIU - STATE HIGHWAY DEVELOPMENT PROJECT, K.R.CIRCLE, BANGALORE
A2: SHDP - PHASE - I PACKAGES
A3: 44560
A4: Sl. No. | B4: Admini- strative approval No. | C4: Pkg No | D4: Details of packages | E4: SH No. | F4: Estimate Amount as per Administrative approval (Rs. in lakhs) | G4: Contract Amount (Rs. in lakhs) | H4: Variation Amount (Rs. in lakhs) | I4: Revised Contract Amount including VO (Rs. in lakhs) | J4: Name of the Contractor | K4: Date | N4: Length As per DPR in km | Q4: Length after VO in km | T4: Physical Progress | X4: Balance Length | AA4: Financial Progress | AC4: Remarks
K5: Commencement | L5: Completion | M5: Revised | N5: Length (in km) Renewal | O5: Length (in km) Improvements | P5: Total Length (in km) | Q5: Length (in km) Renewal | R5: Length (in km) Improvements | S5: Total Length (in km) | T5: Renewal (km) | U5: Improvements (km) | V5: Total Length Completed (in km) | W5: % Progress | X5: Renewal (km) | Y5: Improvements(km) | Z5: Total Length (in km) | AA5: Total (Rs. In Lakhs) | AB5: Financial Progress To Be Achived (Rs. In lakhs)
A7: 1 | B7: 2 | C7: 3 | D7: 4 | E7: 5 | F7: 6 | G7: 7 | H7: 8 | I7: 9 | J7: 10 | K7: 10 | L7: 11 | M7: 12 | N7: 14 | O7: 15 | P7: 16 | Q7: 17 | R7: 18 | S7: 19 | T7: 20 | U7: 21 | V7: 22 | W7: 23 | X7: 24 | Y7: 25 | Z7: 26 | AA7: 27 | AB7: 28 | AC7: 29
A8: NORTH ZONE
A9: DHARWAD DIVISION
A10: 1 | B10: PWD/ 45/EAP/01 | C10: 1 | D10: Improvements to Padubidri -Chikkalgudda SH - 01 from km 318.50 to km 356.96 (In selected reaches) (Tabakadahonnahalli, Devalingikoppa of Kalaghatagi Taluk) | E10: 1 | F10: 1926.67 | G10: 1609.73 | H10: 215.09 | I10: =G10+H10 -> 1824.82 | J10: M/s N.S.Nayak & Sons | K10: 02.11.2012 | L10: 02.10.2013 | M10: 26.12.2013 | N10: 0 | O10: 35.25 | P10: =N10+O10 -> 35.25 | Q10: 0 | R10: 35.25 | S10: =Q10+R10 -> 35.25 | T10: 0 | U10: 35.25 | V10: =T10+U10 -> 35.25 | W10: =V10/S10 -> 1 | X10: =Q10-T10 -> 0 | Y10: =R10-U10 -> 0 | Z10: =X10+Y10 -> 0 | AA10: 1890.98 | AB10: 0 | AC10: Completed
A11: 2 | B11: PWD/ 45/EAP/02 | C11: 2a | D11: Improvements to Kalmala Shiggaon SH - 23 from km 273.61 to km 284.51(In selected reaches) (Railway Gate to Savanur, Taluka Border of Kundagol Taluk) | E11: 23 | F11: 2134.94 | G11: 1929.66 | H11: 53.5 | I11: =G11+H11 -> 1983.16 | J11: N.S.Nayak | K11: 02.11.2012 | L11: 02.10.2013 | M11: 13.11.2013 | N11: 7.9 | O11: 3 | P11: =SUM(N11:O11) -> 10.9 | Q11: 0 | R11: 2.91 | S11: =SUM(Q11:R11) -> 2.91 | T11: 0 | U11: 2.91 | V11: =T11+U11 -> 2.91 | W11: =V11/S11 -> 1 | X11: =Q11-T11 -> 0 | Y11: =R11-U11 -> 0 | Z11: =X11+Y11 -> 0 | AA11: 2058.88 | AB11: 0 | AC11: Completed
C12: 2b | D12: Improvements to Navalgund - Banavasi SH - 137 from km 4.90 to km 18.30(In selected reaches) (Navalgunda to Annigeri of Navalgunda Taluk) | E12: 137 | N12: 0 | O12: 13.4 | P12: =N12+O12 -> 13.4 | Q12: 0 | R12: 13.8 | S12: =Q12+R12 -> 13.8 | T12: 0 | U12: 13.8 | V12: =T12+U12 -> 13.8 | W12: =V12/S12 -> 1 | X12: =Q12-T12 -> 0 | Y12: =R12-U12 -> 0 | Z12: =X12+Y12 -> 0
C13: 2c | D13: Improvements to Supa - Annigeri SH - 28from km 41.31 to km 68.42(In selected reaches) (Mavinkoppa Checkpost to Dharwad via Nigadi of Dharwad Taluk) | E13: 28 | N13: 10.82 | O13: 16.29 | P13: =N13+O13 -> 27.11 | Q13: 9.68 | R13: 16.47 | S13: =Q13+R13 -> 26.15 | T13: 9.68 | U13: 16.47 | V13: =T13+U13 -> 26.15 | W13: =V13/S13 -> 1 | X13: =Q13-T13 -> 0 | Y13: =R13-U13 -> 0 | Z13: =X13+Y13 -> 0
A14: DIVISION TOTAL | F14: =SUM(F10:F13) -> 4061.61 | G14: =SUM(G10:G13) -> 3539.39 | H14: =SUM(H10:H13) -> 268.59 | I14: =SUM(I10:I13) -> 3807.98 | N14: =SUM(N10:N13) -> 18.72 | O14: =SUM(O10:O13) -> 67.94 | P14: =SUM(P10:P13) -> 86.66 | Q14: =SUM(Q10:Q13) -> 9.68 | R14: =SUM(R10:R13) -> 68.43 | S14: =SUM(S10:S13) -> 78.11 | T14: =SUM(T10:T13) -> 9.68 | U14: =SUM(U10:U13) -> 68.43 | V14: =SUM(V10:V13) -> 78.11 | W14: =V14/S14 -> 1 | X14: =SUM(X10:X13) -> 0 | Y14: =SUM(Y10:Y13) -> 0 | Z14: =SUM(Z10:Z13) -> 0 | AA14: =SUM(AA10:AA13) -> 3949.86 | AB14: =SUM(AB10:AB13) -> 0
A15: GADAG DIVISION
A16: 3 | B16: PWD/ 45/EAP/03 | C16: 3 | D16: Improvements to Karwar - Ilkal SH - 06 from km 199.73 to km 271.60(In selected reaches) (Laxmeshwar, Magadi, Gadag of Gadag Taluk) | E16: 6 | F16: 3066.49 | G16: 2915.69 | H16: 164.69 | I16: =H16+G16 -> 3080.38 | J16: P.R.Nayak | K16: 18.10.2012 | L16: 18.09.2013 | M16: 26.06.2013 | N16: 23.59 | O16: 47.07 | P16: =N16+O16 -> 70.66 | Q16: 23.59 | R16: 47.27 | S16: =Q16+R16 -> 70.86 | T16: 23.59 | U16: 47.27 | V16: =T16+U16 -> 70.86 | W16: =V16/S16 -> 1 | X16: =Q16-T16 -> 0 | Y16: =R16-U16 -> 0 | Z16: =X16+Y16 -> 0 | AA16: 3050.1 | AB16: =I16-AA16 -> 30.28 | AC16: Completed
A17: 4 | B17: PWD/ 45/EAP/04 | C17: 4 | D17: Improvements to Karwar - Ilkal SH-06 from km 271.60 to km 310.81(In selected reaches) (Naregal, Gajendraghada of Ron Taluk) | E17: 6 | F17: 1806.23 | G17: 1875.02 | H17: 94.14 | I17: =H17+G17 -> 1969.16 | J17: B.S.Gaonkar | K17: 10.01.2013 | L17: 10.12.2013 | M17: 28.02.2014 | N17: 6.65 | O17: 30.67 | P17: =N17+O17 -> 37.32 | Q17: 8.4 | R17: 24.6 | S17: =Q17+R17 -> 33 | T17: 8.4 | U17: 24.6 | V17: =T17+U17 -> 33 | W17: =V17/S17 -> 1 | X17: =Q17-T17 -> 0 | Y17: =R17-U17 -> 0 | Z17: =X17+Y17 -> 0 | AA17: 1977.29 | AB17: 0 | AC17: Completed
A18: 5 | B18: PWD/ 45/EAP/05 | C18: 5a | D18: Improvements to Sindhnur - Hemmadga SH - 30 from km 117.80 to km149.00 (In selected reaches) (Belavanaki,Yavagal in Naragund & Ron Taluk) | E18: 30 | F18: 1748.83 | G18: 1978.15 | H18: 242.4 | I18: =G18+H18 -> 2220.55 | J18: B.Thirupathi.Reddy | K18: 20.10.2012 | L18: 20.09.2013 | M18: 29.07.2013 | N18: 17.2 | O18: 14 | P18: =N18+O18 -> 31.2 | Q18: 17.2 | R18: 11.6 | S18: =Q18+R18 -> 28.8 | T18: 17.2 | U18: 11.6 | V18: =T18+U18 -> 28.8 | W18: =V18/S18 -> 1 | X18: =Q18-T18 -> 0 | Y18: =R18-U18 -> 0 | Z18: =X18+Y18 -> 0 | AA18: 2251.55 | AB18: 0 | AC18: Completed
C19: 5b | D19: Improvements to Raravi - Belur SH - 63 from km 160.20 to km185.70 (In selected reaches) (Mushigeri in Ron Taluk) | E19: 63 | N19: 17.05 | O19: 6 | P19: =N19+O19 -> 23.05 | Q19: 17.7 | R19: 5.6 | S19: =Q19+R19 -> 23.3 | T19: 17.7 | U19: 5.6 | V19: =T19+U19 -> 23.3 | W19: =V19/S19 -> 1 | X19: =Q19-T19 -> 0 | Y19: =R19-U19 -> 0 | Z19: =X19+Y19 -> 0
A20: 6 | B20: PWD/ 45/EAP/06 | C20: 6 | D20: Improvements to Munavalli - Kotamuchagi SH-83 from km 63.14 to km104.50 (In selected reaches) (Mensigi, Holehalur of Naragund & Ron Taluk) | E20: 83 | F20: 2144.97 | G20: 2347.41 | H20: 348.23 | I20: =H20+G20 -> 2695.64 | J20: N.B.Hiremath | K20: 26.02.2013 | L20: 25.01.2014 | M20: 24.01.2014 | N20: 6 | O20: 35.36 | P20: =N20+O20 -> 41.36 | Q20: 6 | R20: 35.36 | S20: =Q20+R20 -> 41.36 | T20: 6 | U20: 35.36 | V20: =T20+U20 -> 41.36 | W20: =V20/S20 -> 1 | X20: =Q20-T20 -> 0 | Y20: =R20-U20 -> 0 | Z20: =X20+Y20 -> 0 | AA20: 2706.84 | AB20: 0 | AC20: Completed
A21: 7 | B21: PWD/ 45/EAP/07 | C21: 7 | D21: Improvements to Bagalkote - Biligiriranganabetta SH-57 from km 126.51 to km 167.89 (In selected reaches) (Shirahatti, Belatti of Shirahatti Taluk) | E21: 57 | F21: 2168 | G21: 2499.41 | H21: 372.65 | I21: =H21+G21 -> 2872.06 | J21: N.S.Nayak | K21: 13.03.2013 | L21: 12.02.2014 | M21: 12.02.2014 | N21: 0 | O21: 41.38 | P21: =N21+O21 -> 41.38 | Q21: 0.3 | R21: 41.08 | S21: =Q21+R21 -> 41.38 | T21: 0.3 | U21: 41.08 | V21: =T21+U21 -> 41.38 | W21: =V21/S21 -> 1 | X21: =Q21-T21 -> 0 | Y21: =R21-U21 -> 0 | Z21: =X21+Y21 -> 0 | AA21: 2900.44 | AB21: 0 | AC21: Completed
A22: 8 | B22: PWD/ 45/EAP/08 | C22: 8 | D22: Improvements to Bagalkote - Biligiriranganbetta SH-57 from km 72.27 to km 126.51 (In selected reaches) (Betageri , Beladatti of Ron & Gadag Taluks) | E22: 57 | F22: 2249.1 | G22: 2449.94 | H22: 509.75 | I22: =H22+G22 -> 2959.69 | J22: N.B.Hiremath | K22: 01.03.2013 | L22: 01.02.2014 | M22: 13.12.2014 | N22: 0 | O22: 44.51 | P22: =N22+O22 -> 44.51 | Q22: 0 | R22: 42.55 | S22: =Q22+R22 -> 42.55 | T22: 0 | U22: 42.55 | V22: =T22+U22 -> 42.55 | W22: =V22/S22 -> 1 | X22: =Q22-T22 -> 0 | Y22: =R22-U22 -> 0 | Z22: =X22+Y22 -> 0 | AA22: 2939.45 | AB22: =I22-AA22 -> 20.24 | AC22: Completed
A23: DIVISION TOTAL | F23: =SUM(F16:F22) -> 13183.62 | G23: =SUM(G16:G22) -> 14065.62 | H23: =SUM(H16:H22) -> 1731.86 | I23: =SUM(I16:I22) -> 15797.48 | N23: =SUM(N16:N22) -> 70.49 | O23: =SUM(O16:O22) -> 218.99 | P23: =SUM(P16:P22) -> 289.48 | Q23: =SUM(Q16:Q22) -> 73.19 | R23: =SUM(R16:R22) -> 208.06 | S23: =SUM(S16:S22) -> 281.25 | T23: =SUM(T16:T22) -> 73.19 | U23: =SUM(U16:U22) -> 208.06 | V23: =SUM(V16:V22) -> 281.25 | W23: =V23/S23 -> 1 | X23: =SUM(X16:X22) -> 0 | Y23: =SUM(Y16:Y22) -> 0 | Z23: =X23+Y23 -> 0 | AA23: =SUM(AA16:AA22) -> 15825.67 | AB23: =SUM(AB16:AB22) -> 50.52
A24: HAVERI DIVISION
A25: 9 | B25: PWD/ 45/EAP/09 | C25: 9a | D25: Improvements to Ekkumbi - MolkalmurSH-02 from km 8.20 to km 88.49 (In selected reaches) (From Dasanakoppa cross to Hangal crosss & Agadi, Basapur up to Guttal of Hangal & Haveri Taluk | E25: 2 | F25: 2161.68 | G25: 2542.44 | H25: 220.68 | I25: =G25+H25 -> 2763.12 | J25: A.V.Patil | K25: 28.02.2013 | L25: 27.01.2014 | M25: 25.01.2014 | N25: 23.83 | O25: 10.47 | P25: =N25+O25 -> 34.3 | Q25: 22.65 | R25: 10.92 | S25: =Q25+R25 -> 33.57 | T25: 22.65 | U25: 10.92 | V25: =T25+U25 -> 33.57 | W25: =V25/S25 -> 1 | X25: =Q25-T25 -> 0 | Y25: =R25-U25 -> 0 | Z25: =X25+Y25 -> 0 | AA25: 2725.45 | AB25: =I25-AA25 -> 37.67 | AC25: Completed
C26: 9b | D26: Improvements to Haveri - Sagar SH - 62 from km 9.63 to km 57.20 (In selected reaches) (Kagineli, Hamsabhavi of Byadagi & Hirekerur Taluk) | E26: 62 | N26: 4.8 | O26: 17.86 | P26: =N26+O26 -> 22.66 | Q26: 0 | R26: 15.26 | S26: =Q26+R26 -> 15.26 | T26: 0 | U26: 15.26 | V26: =T26+U26 -> 15.26 | W26: =V26/S26 -> 1 | X26: =Q26-T26 -> 0 | Y26: =R26-U26 -> 0 | Z26: =X26+Y26 -> 0
A27: 10 | B27: PWD/ 45/EAP/10 | C27: 10 | D27: Improvements to Bagalkote - Biligiriranganabetta SH-57 from km 196.72 to km 236.83 (In selected reaches) (Ranebennur, Haligeri of Ranebennur Taluk) | E27: 57 | F27: 1434.02 | G27: 1609.55 | H27: 144.25 | I27: =H27+G27 -> 1753.8 | J27: S.R.Bellary | K27: 17.10.2012 | L27: 17.09.2013 | M27: 03.11.2013 | N27: 0 | O27: 25.83 | P27: =N27+O27 -> 25.83 | Q27: 0 | R27: 26.06 | S27: =SUM(Q27:R27) -> 26.06 | T27: 0 | U27: 26.06 | V27: =T27+U27 -> 26.06 | W27: =V27/S27 -> 1 | X27: =Q27-T27 -> 0 | Y27: =R27-U27 -> 0 | Z27: =X27+Y27 -> 0 | AA27: 1750.33 | AB27: =I27-AA27 -> 3.47 | AC27: Completed
A28: 11 | B28: PWD/ 45/EAP/11 | C28: 11 | D28: Improvements to Birur - Sammasagi SH-76 from km 125.01 to km 189.00 (In selected reaches) (Haligeri, koda of Ranebennuru & Hirekerur Taluk) | E28: 76 | F28: 1452.21 | G28: 1616.25 | H28: 98.97 | I28: =H28+G28 -> 1715.22 | J28: S.R.Bellary | K28: 17.10.2012 | L28: 17.09.2013 | M28: 16.11.2013 | N28: 6.14 | O28: 24.95 | P28: =SUM(N28:O28) -> 31.09 | Q28: 6.12 | R28: 24.98 | S28: =Q28+R28 -> 31.1 | T28: 6.12 | U28: 24.98 | V28: =T28+U28 -> 31.1 | W28: =V28/S28 -> 1 | X28: =Q28-T28 -> 0 | Y28: =R28-U28 -> 0 | Z28: =X28+Y28 -> 0 | AA28: 1666.76 | AB28: =I28-AA28 -> 48.46 | AC28: Completed
A29: DIVISION TOTAL | F29: =SUM(F25:F28) -> 5047.91 | G29: =SUM(G25:G28) -> 5768.24 | H29: =SUM(H25:H28) -> 463.9 | I29: =SUM(I25:I28) -> 6232.14 | N29: =SUM(N25:N28) -> 34.77 | O29: =SUM(O25:O28) -> 79.11 | P29: =SUM(P25:P28) -> 113.88 | Q29: =SUM(Q25:Q28) -> 28.77 | R29: =SUM(R25:R28) -> 77.22 | S29: =SUM(S25:S28) -> 105.99 | T29: =SUM(T25:T28) -> 28.77 | U29: =SUM(U25:U28) -> 77.22 | V29: =SUM(V25:V28) -> 105.99 | W29: =V29/S29 -> 1 | X29: =SUM(X25:X28) -> 0 | Y29: =SUM(Y25:Y28) -> 0 | Z29: =SUM(Z25:Z28) -> 0 | AA29: =SUM(AA25:AA28) -> 6142.54 | AB29: =SUM(AB25:AB28) -> 89.6
A30: SIRSI DIVISION
A31: 12 | B31: PWD/ 45/EAP/12 | C31: 12a | D31: Improvements to Kumta - Tadas SH - 69 from km 0.00 to km 27.15(In selected reaches)(from kumta to Sirsi Taluk Border via Alkod of Karwar Taluk) | E31: 69 | F31: 1207.5 | G31: 1075.97 | H31: 183.74 | I31: =G31+H31 -> 1259.71 | J31: Ramashree Global Construction | K31: 16.10.2012 | L31: 16.09.2013 | M31: 30.04.2014 | N31: 16.4 | O31: 1.6 | P31: =N31+O31 -> 18 | Q31: 16.4 | R31: 1.6 | S31: =Q31+R31 -> 18 | T31: 16.4 | U31: 1.6 | V31: =T31+U31 -> 18 | W31: =V31/S31 -> 1 | X31: =Q31-T31 -> 0 | Y31: =R31-U31 -> 0 | Z31: =X31+Y31 -> 0 | AA31: 1259.94 | AB31: =I31-AA31 -> -0.23 | AC31: Completed
C32: 12b | D32: Improvements to Karwar Kaiga Ilkal SH-06 from km 0.50 to km 69.40(In selected reaches)(Shirwadi, Wailwadi of Karwar Taluk) | E32: 6 | N32: 41.25 | O32: 0 | P32: =N32+O32 -> 41.25 | Q32: 25.95 | R32: 15.15 | S32: =Q32+R32 -> 41.1 | T32: 25.95 | U32: 15.15 | V32: =T32+U32 -> 41.1 | W32: =V32/S32 -> 1 | X32: =Q32-T32 -> 0 | Y32: =R32-U32 -> 0 | Z32: =X32+Y32 -> 0
A33: DIVISION TOTAL | F33: =SUM(F31) -> 1207.5 | G33: =SUM(G31) -> 1075.97 | H33: =SUM(H31) -> 183.74 | I33: =SUM(I31) -> 1259.71 | N33: =SUM(N31:N32) -> 57.65 | O33: =SUM(O31:O32) -> 1.6 | P33: =SUM(P31:P32) -> 59.25 | Q33: =SUM(Q31:Q32) -> 42.35 | R33: =SUM(R31:R32) -> 16.75 | S33: =SUM(S31:S32) -> 59.1 | T33: =SUM(T31:T32) -> 42.35 | U33: =SUM(U31:U32) -> 16.75 | V33: =V31+V32 -> 59.1 | W33: =V33/S33 -> 1 | X33: =SUM(X31:X32) -> 0 | Y33: =SUM(Y31:Y32) -> 0 | Z33: =X33+Y33 -> 0 | AA33: =SUM(AA31) -> 1259.94
A34: KARWAR DIVISION | T34: 0 | U34: 0
A35: 13 | B35: PWD/ 45/EAP/13 | C35: 13a | D35: Improvements to Kumta Tadas SH-69 from km 40.00 to km 83.70 (In selected reaches) (Sirsi,Isloor of Sirsi Taluk) | E35: 69 | F35: 1717.28 | G35: 1494.82 | H35: 0 | I35: =G35+H35 -> 1494.82 | J35: N.S.Nayak | K35: 16.10.2012 | L35: 17.06.2013 | M35: 17.06.2013 | N35: 22 | O35: 6.54 | P35: =N35+O35 -> 28.54 | Q35: 24.59 | R35: 2.47 | S35: =Q35+R35 -> 27.06 | T35: 24.59 | U35: 2.47 | V35: =T35+U35 -> 27.06 | W35: =V35/S35 -> 1 | X35: =Q35-T35 -> 0 | Y35: =R35-U35 -> 0 | Z35: =X35+Y35 -> 0 | AA35: 1390.06 | AB35: =I35-AA35 -> 104.76 | AC35: Completed
C36: 13b | D36: Improvements to Karwar - Kaiga - Ilkal SH-06 from km 69.40 to km125.80 (In selected reaches) (Idagundi, Yellapur Taluk) | E36: 6 | N36: 29.64 | O36: 17.86 | P36: =N36+O36 -> 47.5 | Q36: 29.64 | R36: 18.13 | S36: =Q36+R36 -> 47.77 | T36: 29.64 | U36: 18.132 | V36: =T36+U36 -> 47.772 | W36: =V36/S36 -> 1.0000419 | X36: =Q36-T36 -> 0 | Y36: =R36-U36 -> -0.002 | Z36: =X36+Y36 -> -0.002
A37: DIVISION TOTAL | F37: =SUM(F35) -> 1717.28 | G37: =SUM(G35) -> 1494.82 | H37: =SUM(H35) -> 0 | I37: =SUM(I35) -> 1494.82 | N37: =SUM(N35:N36) -> 51.64 | O37: =SUM(O35:O36) -> 24.4 | P37: =SUM(P35:P36) -> 76.04 | Q37: =SUM(Q35:Q36) -> 54.23 | R37: =SUM(R35:R36) -> 20.6 | S37: =SUM(S35:S36) -> 74.83 | T37: =SUM(T35:T36) -> 54.23 | U37: =SUM(U35:U36) -> 20.602 | V37: =SUM(V35:V36) -> 74.832 | W37: =V37/S37 -> 1.0000267 | X37: =SUM(X35:X36) -> 0 | Y37: =SUM(Y35:Y36) -> -0.002 | Z37: =X37+Y37 -> -0.002 | AA37: =SUM(AA35:AA36) -> 1390.06 | AB37: =SUM(AB35:AB36) -> 104.76
A38: DHARWAD CIRCLE TOTAL | F38: =F37+F33+F29+F23+F14 -> 25217.92 | G38: =G37+G33+G29+G23+G14 -> 25944.04 | H38: =H37+H33+H29+H23+H14 -> 2648.09 | I38: =I37+I33+I29+I23+I14 -> 28592.13 | N38: =N37+N33+N29+N23+N14 -> 233.27 | O38: =O37+O33+O29+O23+O14 -> 392.04 | P38: =P37+P33+P29+P23+P14 -> 625.31 | Q38: =Q37+Q33+Q29+Q23+Q14 -> 208.22 | R38: =R37+R33+R29+R23+R14 -> 391.06 | S38: =S37+S33+S29+S23+S14 -> 599.28 | T38: =T37+T33+T29+T23+T14 -> 208.22 | U38: =U37+U33+U29+U23+U14 -> 391.062 | V38: =V37+V33+V29+V23+V14 -> 599.282 | W38: =V38/S38 -> 1.0000033 | X38: =X37+X33+X29+X23+X14 -> 0 | Y38: =Y37+Y33+Y29+Y23+Y14 -> -0.002 | Z38: =Z37+Z33+Z29+Z23+Z14 -> -0.002 | AA38: =AA37+AA33+AA29+AA23+AA14 -> 28568.07 | AB38: =AB37+AB33+AB29+AB23+AB14 -> 244.88
A39: BELAGAVI CIRCLE
A40: BELAGAVI DIVISION
A41: 14 | B41: PWD/ 45/EAP/14 | C41: 14a | D41: Improvements to Khanapur - Talaguppa SH - 93 from km 0.00 to km 34.58 (In selected reaches) (Khanapur of Kahanapur Taluk) | E41: 93 | F41: 2266.02 | G41: 2212.08 | H41: -7.17 | I41: =G41+H41 -> 2204.91 | J41: M/s. P.R. Nayak. Hubli | K41: 41194 | L41: 41528 | M41: 24.05.2013 | N41: 31.57 | O41: 1.456 | P41: =N41+O41 -> 33.026 | Q41: 33.03 | R41: 0 | S41: =SUM(Q41:R41) -> 33.03 | T41: 33.03 | U41: 0 | V41: =T41+U41 -> 33.03 | W41: =V41/S41 -> 1 | X41: =Q41-T41 -> 0 | Y41: =R41-U41 -> 0 | Z41: =X41+Y41 -> 0 | AA41: 2220.59 | AB41: 0 | AC41: Completed
C42: 14b | D42: Improvements to Yargatti - Babaleshwar SH-55 from km 7.50 to km 28.46(In selected reaches) (Yaragalli, Sattigeri,Savadatti, Itnal, Hulkund of Ramadurga Taluk) | E42: 55 | N42: 0 | O42: 20.96 | P42: =N42+O42 -> 20.96 | Q42: 0 | R42: 20.96 | S42: =SUM(Q42:R42) -> 20.96 | T42: 0 | U42: 20.96 | V42: =T42+U42 -> 20.96 | W42: =V42/S42 -> 1 | X42: =Q42-T42 -> 0 | Y42: =R42-U42 -> 0 | Z42: =X42+Y42 -> 0
C43: 14c | D43: Improvements to of Jamboti - Rabkavi SH - 54 from km 29.74 to km 54.28.(In selected reaches) (Belgaum, Kanbargi, Muchhandi, Suldhal, Tumarguddi, Hudli of Belgaum Taluk) | E43: 54 | N43: 7.2 | O43: 7.85 | P43: =N43+O43 -> 15.05 | Q43: 9.857 | R43: 8.884 | S43: =SUM(Q43:R43) -> 18.741 | T43: 9.857 | U43: 8.884 | V43: =T43+U43 -> 18.741 | W43: =V43/S43 -> 1 | X43: =Q43-T43 -> 0 | Y43: =R43-U43 -> 0 | Z43: =X43+Y43 -> 0
A44: DIVISION TOTAL | F44: =SUM(F41) -> 2266.02 | G44: =SUM(G41:G43) -> 2212.08 | H44: =SUM(H41:H43) -> -7.17 | I44: =SUM(I41:I43) -> 2204.91 | N44: =SUM(N41:N43) -> 38.77 | O44: =SUM(O41:O43) -> 30.266 | P44: =SUM(P41:P43) -> 69.036 | Q44: =SUM(Q41:Q43) -> 42.887 | R44: =SUM(R41:R43) -> 29.844 | S44: =SUM(S41:S43) -> 72.731 | T44: =SUM(T41:T43) -> 42.887 | U44: =SUM(U41:U43) -> 29.844 | V44: =SUM(V41:V43) -> 72.731 | W44: =V44/S44 -> 1 | X44: =SUM(X41:X43) -> 0 | Y44: =SUM(Y41:Y43) -> 0 | Z44: =X44+Y44 -> 0 | AA44: =SUM(AA41) -> 2220.59 | AB44: =SUM(AB41) -> 0
A45: CHIKKODI DIVISION
A46: 15 | B46: PWD/ 45/EAP/15 | C46: 15a | D46: Improvements to Padubidri - Chikklagudda SH-01 from km 478.77 to km 497.35 (In selected reaches) (Hosur, Yaragatti, Badkundri cross, Kurni Chikkalgudda of Hukkeri Taluk) | E46: 1 | F46: 2144.97 | G46: 2464.85 | H46: 174.28 | I46: =H46+G46 -> 2639.13 | J46: R.S.Patil | K46: 06.02.2013 | L46: 05.01.2014 | M46: 30.04.2014 | N46: 12 | O46: 4 | P46: =O46+N46 -> 16 | Q46: 12 | R46: 4 | S46: =Q46+R46 -> 16 | T46: 12 | U46: 4 | V46: =T46+U46 -> 16 | W46: =V46/S46 -> 1 | X46: =Q46-T46 -> 0 | Y46: =R46-U46 -> 0 | Z46: =X46+Y46 -> 0 | AA46: 2646.71 | AB46: =I46-AA46 -> -7.58 | AC46: Completed
C47: 15b | D47: Improvements to Jath - Jamboti SH-31 from km 0.00 to km 116.82 (In selected reaches) (Anantpur, Malabad, Parthanalli & Gokak cross, Kolavi, Vannur of Athani Taluk) | E47: 31 | N47: 20 | O47: 0 | P47: =O47+N47 -> 20 | Q47: 20 | R47: 10 | S47: =Q47+R47 -> 30 | T47: 20 | U47: 10 | V47: =T47+U47 -> 30 | W47: =V47/S47 -> 1 | X47: =Q47-T47 -> 0 | Y47: =R47-U47 -> 0 | Z47: =X47+Y47 -> 0
C48: 15c | D48: Improvements to Kagawad Kaladagi SH-53 from km0.00 to km15.70(In selected reaches) (Kagwad, Shedbal, UgarBK, Ughar Kurd of Athani Taluk) | E48: 53 | N48: 9.85 | O48: 0 | P48: =O48+N48 -> 9.85 | Q48: 9.78 | R48: 0 | S48: =Q48+R48 -> 9.78 | T48: 9.78 | U48: 0 | V48: =T48+U48 -> 9.78 | W48: =V48/S48 -> 1 | X48: =Q48-T48 -> 0 | Y48: =R48-U48 -> 0 | Z48: =X48+Y48 -> 0
C49: 15d | D49: Improvements to Mangasuli Laxmeshwar SH-73 from km 79.03 to km114.80 (In selected reaches) (Ghataprabha, Konnur, Mavanur, Godchinmalki, Pachhapur, Akkatangerhal of Gokak Taluk) | E49: 73 | N49: 16.98 | O49: 9.11 | P49: =O49+N49 -> 26.09 | Q49: 15.56 | R49: 11.12 | S49: =Q49+R49 -> 26.68 | T49: 15.56 | U49: 11.12 | V49: =T49+U49 -> 26.68 | W49: =V49/S49 -> 1 | X49: =Q49-T49 -> 0 | Y49: =R49-U49 -> 0 | Z49: =X49+Y49 -> 0
A50: 16 | B50: PWD/ 45/EAP/16 | C50: 16 | D50: 16(a)Improvements to Nippani - Kottalagi SH-72 from km 0.00 to km 67.45 (Excluding from km 57.20 to km 58.18 ) (In selected reaches) (Madalga, Shippur & Nippani, Galataga, Nej ,Nandi,Examba, Kallol, Manjri, Shriguppi of Athani Taluk) | E50: 72 | F50: 1628.29 | G50: 1876.92 | H50: -0.236 | I50: =H50+G50 -> 1876.684 | J50: P.Wantamutte | K50: 22.02.2013 | L50: 01.01.2014 | M50: 31.12.2013 | N50: 49.85 | O50: 14.847 | P50: =N50+O50 -> 64.697 | Q50: 28.43 | R50: 30.772 | S50: =Q50+R50 -> 59.202 | T50: 28.43 | U50: 30.77 | V50: =T50+U50 -> 59.2 | W50: =V50/S50 -> 0.99996622 | X50: =Q50-T50 -> 0 | Y50: =R50-U50 -> 0.002 | Z50: =X50+Y50 -> 0.002 | AA50: 1873.21 | AB50: =I50-AA50 -> 3.474 | AC50: Completed
D51: 16(b)Improvements to Madalaga - ShippurSH-72 from km 0.00 to km 12.00 (In selected reaches) | X51: =Q51-T51 -> 0 | Y51: =R51-U51 -> 0
A52: 17 | B52: PWD/ 45/EAP/17 | C52: 17 | D52: Improvements to Nippani - Kottalagi SH-72 from km 57.20 to km 58.18 & km 67.45 to km 151.81 (In selected reaches) (Shriguppi, Molwad, Kusnal, Ugar BK, UgarKH of Athani Taluk) | E52: 72 | F52: 2201.28 | G52: 2678.34 | H52: 441.77 | I52: =H52+G52 -> 3120.11 | J52: S.S.Alur | K52: 06.10.2012 | L52: 05.10.2013 | M52: 31.12.2013 | N52: 47.99 | O52: 22 | P52: =N52+O52 -> 69.99 | Q52: 42.98 | R52: 27.04 | S52: =SUM(Q52:R52) -> 70.02 | T52: 42.98 | U52: 27.04 | V52: =SUM(T52:U52) -> 70.02 | W52: =V52/S52 -> 1 | X52: =Q52-T52 -> 0 | Y52: =R52-U52 -> 0 | Z52: =X52+Y52 -> 0 | AA52: 2916.01 | AB52: 0 | AC52: Completed
A53: DIVISION TOTAL | F53: =SUM(F46:F52) -> 5974.54 | G53: =SUM(G46:G52) -> 7020.11 | H53: =SUM(H46:H52) -> 615.814 | I53: =SUM(I46:I52) -> 7635.924 | N53: =SUM(N46:N52) -> 156.67 | O53: =SUM(O46:O52) -> 49.957 | P53: =SUM(P46:P52) -> 206.627 | Q53: =SUM(Q46:Q52) -> 128.75 | R53: =SUM(R46:R52) -> 82.932 | S53: =SUM(S46:S52) -> 211.682 | T53: =SUM(T46:T52) -> 128.75 | U53: =SUM(U46:U52) -> 82.93 | V53: =SUM(V46:V52) -> 211.68 | W53: =V53/S53 -> 0.99999055 | X53: =SUM(X46:X52) -> 0 | Y53: =SUM(Y46:Y52) -> 0.002 | Z53: =SUM(Z46:Z52) -> 0.002 | AA53: =SUM(AA46:AA52) -> 7435.93 | AB53: =SUM(AB46:AB52) -> -4.106
A54: BAGALKOT DIVISION
A55: 18 | B55: PWD/ 45/EAP/18 | C55: 18a | D55: Improvements to Bagalkot - Biligiriranganabetta SH-57 from km0.00 to km 29.38 (In selected reaches)(Bagalkote , Sulekere, Katageri, Badami of Badami Taluk) | E55: 57 | F55: 2342.33 | G55: 2478.84 | H55: 246.18 | I55: =H55+G55 -> 2725.02 | J55: Haigreevea Construction | K55: 08.10.2012 | L55: 07.10.2013 | M55: 30.4.2014 | N55: 9.14 | O55: 20.24 | P55: =N55+O55 -> 29.38 | Q55: 0 | R55: 29.38 | S55: =Q55+R55 -> 29.38 | T55: 0 | U55: 29.38 | V55: =T55+U55 -> 29.38 | W55: =V55/S55 -> 1 | X55: =Q55-T55 -> 0 | Y55: =R55-U55 -> 0 | Z55: =X55+Y55 -> 0 | AA55: 2705.56 | AB55: =I55-AA55 -> 19.46 | AC55: Completed
C56: 18b | D56: Improvements to Yaragatti - Babaleshwar S.H.55 from km 42.41 to km 44.91 km 78.79 (In selected reaches) (Mudhol, Amalzari, Balgali of Badami Taluk) | E56: 55 | N56: 0 | O56: 17 | P56: =N56+O56 -> 17 | Q56: 0 | R56: 17.81 | S56: =Q56+R56 -> 17.81 | T56: 0 | U56: 17.81 | V56: =T56+U56 -> 17.81 | W56: =V56/S56 -> 1 | X56: =Q56-T56 -> 0 | Y56: =R56-U56 -> 0 | Z56: =X56+Y56 -> 0
A57: DIVISION TOTAL | F57: =SUM(F55:F56) -> 2342.33 | G57: =SUM(G55:G56) -> 2478.84 | H57: =SUM(H55:H56) -> 246.18 | I57: =SUM(I55:I56) -> 2725.02 | N57: =SUM(N55:N56) -> 9.14 | O57: =SUM(O55:O56) -> 37.24 | P57: =SUM(P55:P56) -> 46.38 | Q57: =SUM(Q55:Q56) -> 0 | R57: =SUM(R55:R56) -> 47.19 | S57: =SUM(S55:S56) -> 47.19 | T57: =SUM(T55:T56) -> 0 | U57: =SUM(U55:U56) -> 47.19 | V57: =T57+U57 -> 47.19 | W57: =V57/S57 -> 1 | X57: =SUM(X55:X56) -> 0 | Y57: =SUM(Y55:Y56) -> 0 | Z57: =X57+Y57 -> 0 | AA57: =SUM(AA55:AA56) -> 2705.56 | AB57: =SUM(AB55:AB56) -> 19.46
A58: BIJAPUR DIVISION
A59: 19 | B59: PWD/ 45/EAP/19 | C59: 19a | D59: Improvements to Shiradan - Lingasur SH-41from km 0.00 to km 71.43 (In selected reaches) (Shirdon, Chadchan, Zalki, Indi of Indi Taluk) | E59: 41 | F59: 2814 | G59: 2736.37 | H59: 139.88 | I59: =H59+G59 -> 2876.25 | J59: S.M.Authade | K59: 26.10.2012 | L59: 25.10.2013 | M59: 18.05.2013 | N59: 0.61 | O59: 26.23 | P59: =N59+O59 -> 26.84 | Q59: 0 | R59: 30.04 | S59: =Q59+R59 -> 30.04 | T59: 0 | U59: 30.04 | V59: =T59+U59 -> 30.04 | W59: =V59/S59 -> 1 | X59: =Q59-T59 -> 0 | Y59: =R59-U59 -> 0 | Z59: =X59+Y59 -> 0 | AA59: 2882.39 | AB59: =I59-AA59 -> -6.14 | AC59: Completed
C60: 19b | D60: Improvements to Shiradan - Lingasur SH-41 from km 71.43 to km 100.73(In selected reaches) (Roog, Devaripurgi of Indi Taluk) | E60: 41 | N60: 0 | O60: 26.15 | P60: =N60+O60 -> 26.15 | Q60: 0 | R60: 26.15 | S60: =Q60+R60 -> 26.15 | T60: 0 | U60: 26.15 | V60: =T60+U60 -> 26.15 | W60: =V60/S60 -> 1 | X60: =Q60-T60 -> 0 | Y60: =R60-U60 -> 0 | Z60: =X60+Y60 -> 0
A61: 20 | B61: PWD/ 45/EAP/20 | C61: 20a | D61: Improvements to Shiradan - Lingasur SH-41 from km 100.73 to km131.18 (In selected reaches) (Shirdon, Basavanbagewadi cross, of Muddebihal Taluk) | E61: 41 | F61: 2404 | G61: 2577.82 | H61: 227.56 | I61: =H61+G61 -> 2805.38 | J61: S.S.Alur | K61: 19.10.2012 | L61: 18.10.2013 | M61: 06.05.2013 | N61: 0 | O61: 24.45 | P61: =N61+O61 -> 24.45 | Q61: 0 | R61: 24.115 | S61: =Q61+R61 -> 24.115 | T61: 0 | U61: 24.115 | V61: =T61+U61 -> 24.115 | W61: =V61/S61 -> 1 | X61: =Q61-T61 -> 0 | Y61: =R61-U61 -> 0 | Z61: =X61+Y61 -> 0 | AA61: 2826.62 | AB61: 0 | AC61: Completed
C62: 20b | D62: Improvements to Shiradan - Lingasur SH-41 from km131.18 to km 176.78 (In selected reaches) (Nalatwad, Muddebihal of Muddebihal Taluk) | E62: 41 | N62: 21.88 | O62: 16.29 | P62: =N62+O62 -> 38.17 | Q62: 6.25 | R62: 35.57 | S62: =Q62+R62 -> 41.82 | T62: 6.25 | U62: 35.57 | V62: =T62+U62 -> 41.82 | W62: =V62/S62 -> 1 | X62: =Q62-T62 -> 0 | Y62: =R62-U62 -> 0 | Z62: =X62+Y62 -> 0
A63: DIVISION TOTAL | F63: =SUM(F59:F62) -> 5218 | G63: =SUM(G59:G62) -> 5314.19 | H63: =SUM(H59:H62) -> 367.44 | I63: =SUM(I59:I62) -> 5681.63 | N63: =SUM(N59:N62) -> 22.49 | O63: =SUM(O59:O62) -> 93.12 | P63: =SUM(P59:P62) -> 115.61 | Q63: =SUM(Q59:Q62) -> 6.25 | R63: =SUM(R59:R62) -> 115.875 | S63: =SUM(S59:S62) -> 122.125 | T63: =SUM(T59:T62) -> 6.25 | U63: =SUM(U59:U62) -> 115.875 | V63: =SUM(V59:V62) -> 122.125 | W63: =V63/S63 -> 1 | X63: =SUM(X59:X62) -> 0 | Y63: =SUM(Y59:Y62) -> 0 | Z63: =SUM(Z59:Z62) -> 0 | AA63: =SUM(AA59:AA62) -> 5709.01 | AB63: =SUM(AB59:AB62) -> -6.14
A64: BELAGAVI CIRCLE TOTAL | F64: =F63+F57+F53+F44 -> 15800.89 | G64: =G63+G57+G53+G44 -> 17025.22 | H64: =H63+H57+H53+H44 -> 1222.264 | I64: =I63+I57+I53+I44 -> 18247.484 | N64: =N63+N57+N53+N44 -> 227.07 | O64: =O63+O57+O53+O44 -> 210.583 | P64: =P63+P57+P53+P44 -> 437.653 | Q64: =Q63+Q57+Q53+Q44 -> 177.887 | R64: =R63+R57+R53+R44 -> 275.841 | S64: =S63+S57+S53+S44 -> 453.728 | T64: =T63+T57+T53+T44 -> 177.887 | U64: =U63+U57+U53+U44 -> 275.839 | V64: =V63+V57+V53+V44 -> 453.726 | W64: =V64/S64 -> 0.99999559 | X64: =X63+X57+X53+X44 -> 0 | Y64: =Y63+Y57+Y53+Y44 -> 0.002 | Z64: =Z63+Z57+Z53+Z44 -> 0.002 | AA64: =AA63+AA57+AA53+AA44 -> 18071.09 | AB64: =AB63+AB57+AB53+AB44 -> 9.214
A65: BELLARY CIRCLE
A66: BELLARY DIVISION
A67: 21 | B67: PWD/ 45/EAP/21 | C67: 21 | D67: Improvements to Kampli - Bellary SH-132 from km 0.00 to km 69.20 (In selected reaches) (Kampli town, Nilludi Kottayal, Emmiganur of Hospet Taluk & Kurugodu, Siddammanahalli, Badanhatti, Kudutini, Hariginadoni, Belagal& Bellary city limit of Bellary Taluk) | E67: 132 | F67: 2766 | G67: 3042.53 | H67: 135.88 | I67: =G67+H67 -> 3178.41 | J67: Prabhakar Reddy | K67: 12.03.13 | L67: 11.02.14 | M67: 30.06.2014 | N67: 25.3 | O67: 43.79 | P67: =N67+O67 -> 69.09 | Q67: 16.384 | R67: 45.22 | S67: =Q67+R67 -> 61.604 | T67: 16.384 | U67: 45.22 | V67: =T67+U67 -> 61.604 | W67: =V67/S67 -> 1 | X67: =Q67-T67 -> 0 | Y67: =R67-U67 -> 0 | Z67: =X67+Y67 -> 0 | AA67: 3114.94 | AB67: =I67-AA67 -> 63.47 | AC67: Completed
A68: 22 | B68: PWD/ 45/EAP/22 | C68: 22a | D68: Improvements to Shiraguppa - Sandur SH-49 from km 27.00 to kmb 73.73 & SH-25 from km 0.00 to km 2.60 (In selected reaches) (Mallappana Gudi, Kamalapur, Bukka Sagara, Ramasagara, Kampli, Sanapura in Hospet Taluk) | E68: 49 & 25 | F68: 2414.1 | G68: 2653.24 | H68: 260.4 | I68: =G68+H68 -> 2913.64 | J68: Rajshekhar (Swamy Constructions) | K68: 31.10.2013 | L68: 42394 | M68: 42394 | N68: 3.4 | O68: 23.63 | P68: =N68+O68 -> 27.03 | Q68: 0 | R68: 21.32 | S68: =Q68+R68 -> 21.32 | T68: 0 | U68: 21.32 | V68: =T68+U68 -> 21.32 | W68: =V68/S68 -> 1 | X68: =Q68-T68 -> 0 | Y68: =R68-U68 -> 0 | Z68: =X68+Y68 -> 0 | AA68: 2921.45 | AB68: =I68-AA68 -> -7.81 | AC68: Completed
C69: 22b | D69: Improvements to Shirguppa - Sandur SH-49 from km 73.73 to km 106.23 (In selected reaches) (Manur Sugur, Nadivi in Siraguppa Taluk) | E69: 49 | N69: 0 | O69: 14.76 | P69: =N69+O69 -> 14.76 | Q69: 0 | R69: 9.17 | S69: =Q69+R69 -> 9.17 | T69: 0 | U69: 9.17 | V69: =T69+U69 -> 9.17 | W69: =V69/S69 -> 1 | X69: =Q69-T69 -> 0 | Y69: =R69-U69 -> 0 | Z69: =X69+Y69 -> 0
A70: 23 | B70: PWD/ 45/EAP/23 | C70: 23a | D70: Improvements to Hampi - Hagaribommanahalli SH-131 from km 0.00 to km 22.70 (In selected reaches) (Hampi, Kamalapura, Kakubal in Hospet Taluk) | E70: 131 | F70: 2937 | G70: 2951.09 | H70: 259.64 | I70: =G70+H70 -> 3210.73 | J70: P.R.Nayak | K70: 25.10.12 | L70: 24.09.13 | M70: 31.05.2014 | N70: 6.2 | O70: 12.9 | P70: =N70+O70 -> 19.1 | Q70: 1.904 | R70: 14.365 | S70: =Q70+R70 -> 16.269 | T70: 1.904 | U70: 14.365 | V70: =T70+U70 -> 16.269 | W70: =V70/S70 -> 1 | X70: =Q70-T70 -> 0 | Y70: =R70-U70 -> 0 | Z70: =X70+Y70 -> 0 | AA70: 3168.9 | AB70: =I70-AA70 -> 41.83 | AC70: Completed
C71: 23b | D71: Improvements to Hampi - Hagaribommanahalli SH-131from km 22.70 to km 73.20 (In selected reaches) (Talur, Ubbalagundi, Rajapur, Metriki in Sandur Taluk) | E71: 131 | N71: 9 | O71: 35.93 | P71: =N71+O71 -> 44.93 | Q71: 5.172 | R71: 39.544 | S71: =Q71+R71 -> 44.716 | T71: 5.172 | U71: 39.544 | V71: =T71+U71 -> 44.716 | W71: =V71/S71 -> 1 | X71: =Q71-T71 -> 0 | Y71: =R71-U71 -> 0 | Z71: =X71+Y71 -> 0
A72: DIVISION TOTAL | F72: =SUM(F67:F71) -> 8117.1 | G72: =SUM(G67:G71) -> 8646.86 | H72: =SUM(H67:H71) -> 655.92 | I72: =SUM(I67:I71) -> 9302.78 | N72: =SUM(N67:N71) -> 43.9 | O72: =SUM(O67:O71) -> 131.01 | P72: =SUM(P67:P71) -> 174.91 | Q72: =SUM(Q67:Q71) -> 23.46 | R72: =SUM(R67:R71) -> 129.619 | S72: =SUM(S67:S71) -> 153.079 | T72: =SUM(T67:T71) -> 23.46 | U72: =SUM(U67:U71) -> 129.619 | V72: =SUM(V67:V71) -> 153.079 | W72: =V72/S72 -> 1 | X72: =SUM(X67:X71) -> 0 | Y72: =SUM(Y67:Y71) -> 0 | Z72: =SUM(Z67:Z71) -> 0 | AA72: =SUM(AA67:AA71) -> 9205.29 | AB72: =SUM(AB67:AB71) -> 97.49
A73: HADAGALI DIVISION
A74: 24 | B74: PWD/ 45/EAP/24 | C74: 24a | D74: Improvements to Mylar - Toranagal SH-40 from km 0.0 to km 97.33 (In selected reaches) (Holallu, Badanuru, Giriyapura, Hirehadagali, Haganuru, Thippapura, Huvinahadagali of Hadagali Taluk & Hampa sagara, Basapura, H.B.Halli, Anekallu, Basapura Thanda, Hosakere, Hansi in H.B.Halli Taluk) | E74: 40 | F74: 1878 | G74: 1995.25 | H74: 195.25 | I74: =H74+G74 -> 2190.5 | J74: Rammohan Reddy | K74: 19.12.2013 | L74: 18.11-2014 | M74: 42460 | N74: 30.25 | O74: 23.47 | P74: =N74+O74 -> 53.72 | Q74: 27 | R74: 25.12 | S74: =SUM(Q74:R74) -> 52.12 | T74: 27 | U74: 25.12 | V74: =T74+U74 -> 52.12 | W74: =V74/S74 -> 1 | X74: =Q74-T74 -> 0 | Y74: =R74-U74 -> 0 | Z74: =X74+Y74 -> 0 | AA74: 2191.54 | AB74: =I74-AA74 -> -1.04 | AC74: Completed
C75: 24b | D75: Improvements to Mylar - Torangal SH-40 from km 104.00 to km 109.00 (In selected reaches) (Kudligi Town inKudligi Taluk) | E75: 40 | N75: 0 | O75: 3.85 | P75: =N75+O75 -> 3.85 | Q75: 0 | R75: 2.95 | S75: =Q75+R75 -> 2.95 | T75: 0 | U75: 2.95 | V75: =T75+U75 -> 2.95 | W75: =V75/S75 -> 1 | X75: =Q75-T75 -> 0 | Y75: =R75-U75 -> 0 | Z75: =X75+Y75 -> 0
A76: 25 | B76: PWD/ 45/EAP/25 | C76: 25a | D76: Improvements to Hampi - Hagaribommanhalli SH-131from km 96.45 to km 137.00(In selected reaches)(Appena Halli, Appena Hall Thanda, Mahadevapura, Gudekote, Ramadurga Cross, C.J.Halli in Kudligi Taluk) | E76: 131 | F76: 2298 | G76: 2393.23 | H76: 128.1 | I76: =H76+G76 -> 2521.33 | J76: K.Krishna | K76: 18.10.12 | L76: 17.09.13 | M76: 30.07.2014 | N76: 0 | O76: 26.61 | P76: =N76+O76 -> 26.61 | Q76: 0 | R76: 26.7 | S76: =Q76+R76 -> 26.7 | T76: 0 | U76: 26.7 | V76: =T76+U76 -> 26.7 | W76: =V76/S76 -> 1 | X76: =Q76-T76 -> 0 | Y76: =R76-U76 -> 0 | Z76: =X76+Y76 -> 0 | AA76: 2469.97 | AB76: =I76-AA76 -> 51.36 | AC76: Completed
C77: 25b | D77: Improvements to Hampi -Hagaribommanhalli SH-131 from km 187.92 to km 198.75 (In selected reaches) (H.B.Halli, Chintara palli in H.B.Halli Taluk) | E77: 131 | N77: 2.1 | O77: 4.09 | P77: =N77+O77 -> 6.19 | Q77: 2.35 | R77: 3.95 | S77: =Q77+R77 -> 6.3 | T77: 2.35 | U77: 3.95 | V77: =T77+U77 -> 6.3 | W77: =V77/S77 -> 1 | X77: =Q77-T77 -> 0 | Y77: =R77-U77 -> 0 | Z77: =X77+Y77 -> 0
C78: 25c | D78: Improvements to Arabhavi - Challakere SH-45 from km 239.00 to km 261.02 (In Selected reaches) (Kottur, Kaalapur, Ujjini, Lakkampura in Kudligi Taluk) | E78: 45 | N78: 0 | O78: 13.42 | P78: =N78+O78 -> 13.42 | Q78: 0 | R78: 13.52 | S78: =Q78+R78 -> 13.52 | T78: 0 | U78: 13.52 | V78: =T78+U78 -> 13.52 | W78: =V78/S78 -> 1 | X78: =Q78-T78 -> 0 | Y78: =R78-U78 -> 0 | Z78: =X78+Y78 -> 0
A79: DIVISION TOTAL | F79: =SUM(F74:F78) -> 4176 | G79: =SUM(G74:G78) -> 4388.48 | H79: =SUM(H74:H78) -> 323.35 | I79: =SUM(I74:I78) -> 4711.83 | N79: =SUM(N74:N78) -> 32.35 | O79: =SUM(O74:O78) -> 71.44 | P79: =SUM(P74:P78) -> 103.79 | Q79: =SUM(Q74:Q78) -> 29.35 | R79: =SUM(R74:R78) -> 72.24 | S79: =SUM(S74:S78) -> 101.59 | T79: =SUM(T74:T78) -> 29.35 | U79: =SUM(U74:U78) -> 72.24 | V79: =SUM(V74:V78) -> 101.59 | W79: =V79/S79 -> 1 | X79: =SUM(X74:X78) -> 0 | Y79: =SUM(Y74:Y78) -> 0 | Z79: =SUM(Z74:Z78) -> 0 | AA79: =SUM(AA74:AA78) -> 4661.51 | AB79: =SUM(AB74:AB78) -> 50.32
A80: RAICHUR DIVISION
A81: 26 | B81: PWD/ 45/EAP/26 | C81: 26a | D81: Improvements to Mudhol - Yeragera SH-127 from km 134.91 to km 177.24 (In selected reaches) (Attunur, Kudri, Aroli, Purtipalli in Manvi Taluk) | E81: 127 | F81: 2114 | G81: 2005.47 | H81: 184.96 | I81: =H81+G81 -> 2190.43 | J81: Shankar Kotarki | K81: 05.11.12 | L81: 04.10.13 | M81: 30.06.2014 | N81: 14.82 | O81: 16.07 | P81: =N81+O81 -> 30.89 | Q81: 10.664 | R81: 20.092 | S81: =Q81+R81 -> 30.756 | T81: 10.664 | U81: 20.092 | V81: =T81+U81 -> 30.756 | W81: =V81/S81 -> 1 | X81: =Q81-T81 -> 0 | Y81: =R81-U81 -> 0 | Z81: =X81+Y81 -> 0 | AA81: 2117.51 | AB81: =I81-AA81 -> 72.92 | AC81: Completed
C82: 26b | D82: Improvements to Mudhol - Yeragera SH - 127 from km 177.24 to km 207.96 (In selected reaches) (Gujhali, Yeragera, Jambaladinni in Raichur Taluk) | E82: 127 | N82: 15.3 | O82: 11.31 | P82: =N82+O82 -> 26.61 | Q82: 10.265 | R82: 14.096 | S82: =Q82+R82 -> 24.361 | T82: 10.265 | U82: 14.096 | V82: =T82+U82 -> 24.361 | W82: =V82/S82 -> 1 | X82: =Q82-T82 -> 0 | Y82: =R82-U82 -> 0 | Z82: =X82+Y82 -> 0
A83: 27 | B83: PWD/ 45/EAP/27 | C83: 27a | D83: Improvements to Deodurg - Bellary SH - 128 from km 21.00 to km 76.24 (In selected reaches) (Chinchirki, K Thimmapura, Hussain pura, Hire Hanagi, Bhogavathi, Bagalvada, Hirekottankal, Chikkotnakalin Manvi Taluk) | E83: 128 | F83: 2374 | G83: 2305.32 | H83: 200.92 | I83: =G83+H83 -> 2506.24 | J83: Jagadeeswarudu Chilukuri (M/s Haigreeva Infratech Pvt. Ltd) | K83: 05.11.12 | L83: 30.09.2014 | M83: 31.03.2015 | N83: 18.64 | O83: 29.57 | P83: =N83+O83 -> 48.21 | Q83: 16.548 | R83: 23.317 | S83: =Q83+R83 -> 39.865 | T83: 16.548 | U83: 23.317 | V83: =T83+U83 -> 39.865 | W83: =V83/S83 -> 1 | X83: =Q83-T83 -> 0 | Y83: =R83-U83 -> 0 | Z83: =X83+Y83 -> 0 | AA83: 2512.42 | AB83: =I83-AA83 -> -6.18 | AC83: Completed
C84: 27b | D84: Improvements to Deodurg - Bellary SH - 128 from km 0.00 to km 21.00 (In selected reaches)(Mundargi, Galag in Deodurga Taluk) | E84: 128 | N84: 9.9 | O84: 6.6 | P84: =N84+O84 -> 16.5 | Q84: 6.7 | R84: 8.21 | S84: =Q84+R84 -> 14.91 | T84: 6.7 | U84: 8.21 | V84: =T84+U84 -> 14.91 | W84: =V84/S84 -> 1 | X84: =Q84-T84 -> 0 | Y84: =R84-U84 -> 0 | Z84: =X84+Y84 -> 0
A85: 28 | B85: PWD/ 45/EAP/28 | C85: 28a | D85: Improvements to Wanmarpalli - Raichur SH-15 from km 332.05 to km 346.29 (In selected reaches) (Raichur town limit, Singanodi in Raichur Taluk) | E85: 15 | F85: 1770.4 | G85: 1951.97 | H85: 292.13 | I85: =H85+G85 -> 2244.1 | J85: P.Ramarao (Patel Engineering) | K85: 19.10.12 | L85: 18.09.13 | M85: 31.10.2014 | N85: 6.25 | O85: 7.99 | P85: =N85+O85 -> 14.24 | Q85: 5.527 | R85: 8.548 | S85: =Q85+R85 -> 14.075 | T85: 5.527 | U85: 8.548 | V85: =T85+U85 -> 14.075 | W85: =V85/S85 -> 1 | X85: =Q85-T85 -> 0 | Y85: =R85-U85 -> 0 | Z85: =X85+Y85 -> 0 | AA85: 2202.56 | AB85: =I85-AA85 -> 41.54 | AC85: Completed
C86: 28b | D86: Improvements to Managuli - Bichal SH - 61from km 161.00 to km 191.87 (In selected reaches) (Kottadoddi, Arkera, Jagir Jadaladinni, of Deodurga Taluk & Siravara inManvi Taluk) | E86: 61 | N86: 13.07 | O86: 17.8 | P86: =N86+O86 -> 30.87 | Q86: 9.55 | R86: 21.325 | S86: =Q86+R86 -> 30.875 | T86: 9.55 | U86: 21.325 | V86: =SUM(T86:U86) -> 30.875 | W86: =V86/S86 -> 1 | X86: =Q86-T86 -> 0 | Y86: =R86-U86 -> 0 | Z86: =X86+Y86 -> 0
A87: 29 | B87: PWD/ 45/EAP/29 | C87: 29a | D87: Improvements to Raravi- Belur SH - 63 from km 32.50 to km 44.98 (In selected reaches)(Salgunda, Gorebal in Sindanur Taluk) | E87: 63 | F87: 1925.5 | G87: 2140.59 | H87: 64.25 | I87: =H87+G87 -> 2204.84 | J87: P.Ramarao (Patel Engineering) | K87: 12.03.13 | L87: 11.02.14 | M87: 30.11.2014 | N87: 0 | O87: 12.48 | P87: =N87+O87 -> 12.48 | Q87: 0 | R87: 12.48 | S87: =Q87+R87 -> 12.48 | T87: 0 | U87: 12.48 | V87: =T87+U87 -> 12.48 | W87: =V87/S87 -> 1 | X87: =Q87-T87 -> 0 | Y87: =R87-U87 -> 0 | Z87: =X87+Y87 -> 0 | AA87: 2071 | AB87: =I87-AA87 -> 133.84 | AC87: Completed
C88: 29b | D88: Srirangapatna Jewargi SH -19 from km 477.00 to km 505.00 (In selected reaches)(Lingasugur, Gurugunta in Lingasugur Taluk) | E88: 19 | N88: 28 | O88: 0 | P88: =N88+O88 -> 28 | Q88: 28 | R88: 0 | S88: =Q88+R88 -> 28 | T88: 28 | U88: 0 | V88: =T88+U88 -> 28 | W88: =V88/S88 -> 1 | X88: =Q88-T88 -> 0 | Y88: =R88-U88 -> 0 | Z88: =X88+Y88 -> 0
C89: 29c | D89: Improvements to Managuli -Bichal SH -61 from km 239.03 to km 251.05 (In selected reaches) (Gillesuguru in Raichur Taluk) | E89: 61 | N89: 0 | O89: 12.03 | P89: =N89+O89 -> 12.03 | Q89: 0 | R89: 11.975 | S89: =Q89+R89 -> 11.975 | T89: 0 | U89: 11.975 | V89: =T89+U89 -> 11.975 | W89: =V89/S89 -> 1 | X89: =Q89-T89 -> 0 | Y89: =R89-U89 -> 0 | Z89: =X89+Y89 -> 0
A90: DIVISION TOTAL | F90: =SUM(F81:F89) -> 8183.9 | G90: =SUM(G81:G89) -> 8403.35 | H90: =SUM(H81:H89) -> 742.26 | I90: =SUM(I81:I89) -> 9145.61 | N90: =SUM(N81:N89) -> 105.98 | O90: =SUM(O81:O89) -> 113.85 | P90: =SUM(P81:P89) -> 219.83 | Q90: =SUM(Q81:Q89) -> 87.254 | R90: =SUM(R81:R89) -> 120.043 | S90: =SUM(S81:S89) -> 207.297 | T90: =SUM(T81:T89) -> 87.254 | U90: =SUM(U81:U89) -> 120.043 | V90: =SUM(V81:V89) -> 207.297 | W90: =V90/S90 -> 1 | X90: =SUM(X81:X89) -> 0 | Y90: =SUM(Y81:Y89) -> 0 | Z90: =SUM(Z81:Z89) -> 0 | AA90: =SUM(AA81:AA89) -> 8903.49 | AB90: =SUM(AB81:AB89) -> 242.12
A91: KOPPAL DIVISION
A92: 30 | B92: PWD/ 45/EAP/30 | C92: 30 | D92: Improvements to Kalmala - Shiggaon SH -23 from km 162.45 to km 203.58 & Ginigera - Gondabal MDR from km 4.57 to km 20.90 (In selected reaches) (Ginigera, Basavapura, koppal town limit, Chikkasindagi, Hiresindagi, Hatti, Billi Gatta in Koppal Taluk) | E92: 23 & MD R | F92: 2258 | G92: 2464.93 | H92: 244.04 | I92: =G92+H92 -> 2708.97 | J92: Sai Constructions | K92: 16.10.12 | L92: 15.09.13 | M92: 31.03.2014 | N92: 26.04 | O92: 29.09 | P92: =N92+O92 -> 55.13 | Q92: 16.98 | R92: 36.46 | S92: =Q92+R92 -> 53.44 | T92: 16.98 | U92: 36.46 | V92: =T92+U92 -> 53.44 | W92: =V92/S92 -> 1 | X92: =Q92-T92 -> 0 | Y92: =R92-U92 -> 0 | Z92: =X92+Y92 -> 0 | AA92: 2710.98 | AB92: 0 | AC92: Completed
A93: DIVISION TOTAL | F93: =SUM(F92) -> 2258 | G93: =SUM(G92) -> 2464.93 | H93: =SUM(H92) -> 244.04 | I93: =SUM(I92) -> 2708.97 | N93: =SUM(N92) -> 26.04 | O93: =SUM(O92) -> 29.09 | P93: =SUM(P92) -> 55.13 | Q93: =SUM(Q92) -> 16.98 | R93: =SUM(R92) -> 36.46 | S93: =SUM(S92) -> 53.44 | T93: =SUM(T92) -> 16.98 | U93: =SUM(U92) -> 36.46 | V93: =SUM(V92) -> 53.44 | W93: =V93/S93 -> 1 | X93: =SUM(X92) -> 0 | Y93: =SUM(Y92) -> 0 | Z93: =X93+Y93 -> 0 | AA93: =SUM(AA92) -> 2710.98 | AB93: =SUM(AB92) -> 0
A94: BELLARY CIRCLE TOTAL | F94: =F93+F90+F79+F72 -> 22735 | G94: =G93+G90+G79+G72 -> 23903.62 | H94: =H93+H90+H79+H72 -> 1965.57 | I94: =I93+I90+I79+I72 -> 25869.19 | N94: =N93+N90+N79+N72 -> 208.27 | O94: =O93+O90+O79+O72 -> 345.39 | P94: =P93+P90+P79+P72 -> 553.66 | Q94: =Q93+Q90+Q79+Q72 -> 157.044 | R94: =R93+R90+R79+R72 -> 358.362 | S94: =S93+S90+S79+S72 -> 515.406 | T94: =T93+T90+T79+T72 -> 157.044 | U94: =U93+U90+U79+U72 -> 358.362 | V94: =V93+V90+V79+V72 -> 515.406 | W94: =V94/S94 -> 1 | X94: =X93+X90+X79+X72 -> 0 | Y94: =Y93+Y90+Y79+Y72 -> 0 | Z94: =Z93+Z90+Z79+Z72 -> 0 | AA94: =AA93+AA90+AA79+AA72 -> 25481.27 | AB94: =AB93+AB90+AB79+AB72 -> 389.93
A95: GULBARGA CIRCLE
A96: GULBARGA DIVISION
A97: 31 | B97: PWD/ 45/EAP/31 | C97: 31 | D97: Improvements to Mahagaon - Sulepeth SH - 32 from km 70.42 to km 118.00 (In selected reaches) (Mahagaon of Gulbarga Taluk& Ratkal,Kodli, Sulepet of Chincholli Taluk) | E97: 32 | F97: 2486 | G97: 2904.53 | H97: 725.44 | I97: =G97+H97 -> 3629.97 | J97: M/s Shankar Kotarki | K97: 41212 | L97: 41546 | M97: 30.06.2015 | N97: 0 | O97: 47.58 | P97: =N97+O97 -> 47.58 | Q97: 0 | R97: 47.58 | S97: =Q97+R97 -> 47.58 | T97: 0 | U97: 47.58 | V97: =T97+U97 -> 47.58 | W97: =V97/S97 -> 1 | X97: =Q97-T97 -> 0 | Y97: =R97-U97 -> 0 | Z97: =X97+Y97 -> 0 | AA97: 3568.71 | AB97: =I97-AA97 -> 61.26 | AC97: Completed
A98: 32 | B98: PWD/ 45/EAP/32 | C98: 32a | D98: Improvements to Gulbarga - Jewargi - Sindagi MDR via Chigaralli cross joining Yadrami from km 0.00 to km 52.00 (In selected reaches)(Chigaralli , Yedrami of Jewargi Taluk) | E98: MDR | F98: 3144 | G98: 3158.78 | H98: 271.22 | I98: =G98+H98 -> 3430 | J98: M/sKPC Projects . Ltd | K98: 41208 | L98: 41542 | M98: 24.10.2014 | N98: 22 | O98: 30 | P98: =N98+O98 -> 52 | Q98: 0 | R98: 39 | S98: =Q98+R98 -> 39 | T98: 0 | U98: 39 | V98: =T98+U98 -> 39 | W98: =V98/S98 -> 1 | X98: =Q98-T98 -> 0 | Y98: =R98-U98 -> 0 | Z98: =X98+Y98 -> 0 | AA98: 3465.91 | AB98: 0 | AC98: Completed
C99: 32b | D99: Improvements to Srirangapatna - JewargiSH-19 from km 573.00 to km 592.00 (In selected reaches)(Kallur &Jewargi of Jewargi Taluk) | E99: 19 | N99: 19 | O99: 0 | P99: =N99+O99 -> 19 | Q99: 19 | R99: 0 | S99: =Q99+R99 -> 19 | T99: 19 | U99: 0 | V99: =T99+U99 -> 19 | W99: =V99/S99 -> 1 | X99: =Q99-T99 -> 0 | Y99: =R99-U99 -> 0 | Z99: =X99+Y99 -> 0
C100: 32c | D100: Improvements to Mudhol -Yeragera SH-127 from km 0.00 to km 24.50 (In selected reaches)(Mudhol & Itkal of Sedam Taluk) | E100: 127 | N100: 18.94 | O100: 5.56 | P100: =N100+O100 -> 24.5 | Q100: 18.7 | R100: 5.8 | S100: =Q100+R100 -> 24.5 | T100: 18.7 | U100: 5.8 | V100: =T100+U100 -> 24.5 | W100: =V100/S100 -> 1 | X100: =Q100-T100 -> 0 | Y100: =R100-U100 -> 0 | Z100: =X100+Y100 -> 0
A101: 33 | B101: PWD/ 45/EAP/33 | C101: 33 | D101: Improvements to Aurad - Sadashivgad SH - 34 from km 138.67 to km 206.40 (In selected reaches) (Kinni sultan , Jidga of Aland Taluk) | E101: 34 | F101: 1988 | G101: 2372.65 | H101: 229.49 | I101: =G101+H101 -> 2602.14 | J101: M/s SRK Constructions | K101: 41601 | L101: 41569 | M101: 42460 | N101: 33 | O101: 29.7 | P101: =N101+O101 -> 62.7 | Q101: 0 | R101: 26.76 | S101: =Q101+R101 -> 26.76 | T101: 0 | U101: 26.76 | V101: =T101+U101 -> 26.76 | W101: =V101/S101 -> 1 | X101: =Q101-T101 -> 0 | Y101: =R101-U101 -> 0 | Z101: =X101+Y101 -> 0 | AA101: 2514.75 | AB101: =I101-AA101 -> 87.39 | AC101: Completed
...
