Workbook
Name finI_1: 'Progress Report Phase-I (2)'!#REF!
Name finI_1: 'Progress Report Phase-I (3)'!#REF!
Name finI_10: 'Progress Report Phase-I (2)'!#REF!
Name finI_10: 'Progress Report Phase-I (3)'!#REF!
Name finI_11: 'Progress Report Phase-I (2)'!#REF!
Name finI_11: 'Progress Report Phase-I (3)'!#REF!
Name finI_12: 'Progress Report Phase-I (2)'!#REF!
Name finI_12: 'Progress Report Phase-I (3)'!#REF!
Name finI_13: 'Progress Report Phase-I (2)'!#REF!
Name finI_13: 'Progress Report Phase-I (3)'!#REF!
Name finI_14: 'Progress Report Phase-I (2)'!#REF!
Name finI_14: 'Progress Report Phase-I (3)'!#REF!
Name finI_15: 'Progress Report Phase-I (2)'!#REF!
Name finI_15: 'Progress Report Phase-I (3)'!#REF!
Name finI_16: 'Progress Report Phase-I (2)'!#REF!
Name finI_16: 'Progress Report Phase-I (3)'!#REF!
Name finI_17: 'Progress Report Phase-I (2)'!#REF!
Name finI_17: 'Progress Report Phase-I (3)'!#REF!
Name finI_18: 'Progress Report Phase-I (2)'!#REF!
Name finI_18: 'Progress Report Phase-I (3)'!#REF!
Name finI_19: 'Progress Report Phase-I (2)'!#REF!
Name finI_19: 'Progress Report Phase-I (3)'!#REF!
Name finI_2: 'Progress Report Phase-I (2)'!#REF!
Name finI_2: 'Progress Report Phase-I (3)'!#REF!
Name finI_20: 'Progress Report Phase-I (2)'!#REF!
Name finI_20: 'Progress Report Phase-I (3)'!#REF!
Name finI_21: 'Progress Report Phase-I (2)'!#REF!
Name finI_21: 'Progress Report Phase-I (3)'!#REF!
Name finI_22: 'Progress Report Phase-I (2)'!#REF!
Name finI_22: 'Progress Report Phase-I (3)'!#REF!
Name finI_23: 'Progress Report Phase-I (2)'!#REF!
Name finI_23: 'Progress Report Phase-I (3)'!#REF!
Name finI_24: 'Progress Report Phase-I (2)'!#REF!
Name finI_24: 'Progress Report Phase-I (3)'!#REF!
Name finI_25: 'Progress Report Phase-I (2)'!#REF!
Name finI_25: 'Progress Report Phase-I (3)'!#REF!
Name finI_26: 'Progress Report Phase-I (2)'!#REF!
Name finI_26: 'Progress Report Phase-I (3)'!#REF!
Name finI_27: 'Progress Report Phase-I (2)'!#REF!
Name finI_27: 'Progress Report Phase-I (3)'!#REF!
Name finI_28: 'Progress Report Phase-I (2)'!#REF!
Name finI_28: 'Progress Report Phase-I (3)'!#REF!
Name finI_29: 'Progress Report Phase-I (2)'!#REF!
Name finI_29: 'Progress Report Phase-I (3)'!#REF!
Name finI_3: 'Progress Report Phase-I (2)'!#REF!
Name finI_3: 'Progress Report Phase-I (3)'!#REF!
Name finI_30: 'Progress Report Phase-I (2)'!#REF!
Name finI_30: 'Progress Report Phase-I (3)'!#REF!
Name finI_31: 'Progress Report Phase-I (2)'!#REF!
Name finI_31: 'Progress Report Phase-I (3)'!#REF!
Name finI_32: 'Progress Report Phase-I (2)'!#REF!
Name finI_32: 'Progress Report Phase-I (3)'!#REF!
Name finI_33: 'Progress Report Phase-I (2)'!#REF!
Name finI_33: 'Progress Report Phase-I (3)'!#REF!
Name finI_34: 'Progress Report Phase-I (2)'!#REF!
Name finI_34: 'Progress Report Phase-I (3)'!#REF!
Name finI_35: 'Progress Report Phase-I (2)'!#REF!
Name finI_35: 'Progress Report Phase-I (3)'!#REF!
Name finI_36: 'Progress Report Phase-I (2)'!#REF!
Name finI_36: 'Progress Report Phase-I (3)'!#REF!

Sheet Progress Report Phase-I (2)
A1: GOVERNMENT OF KARNATAKA, PIU - STATE HIGHWAY DEVELOPMENT PROJECT, K.R.CIRCLE, BANGALORE
A2: SHDP - PHASE - I PACKAGES
A3: 44530
A4: Sl. No. | B4: Admini- strative approval No. | C4: Pkg No | D4: Details of packages | E4: SH No. | F4: Estimate Amount as per Administrative approval (Rs. in lakhs) | G4: Contract Amount (Rs. in lakhs) | H4: Variation Amount (Rs. in lakhs) | I4: Revised Contract Amount including VO (Rs. in lakhs) | J4: Name of the Contractor | K4: Date | N4: Length As per DPR in km | Q4: Length after VO in km | T4: Physical Progress | X4: Balance Length | AA4: Financial Progress | AC4: Remarks
K5: Commencement | L5: Completion | M5: Revised | N5: Length (in km) Renewal | O5: Length (in km) Improvements | P5: Total Length (in km) | Q5: Length (in km) Renewal | R5: Length (in km) Improvements | S5: Total Length (in km) | T5: Renewal (km) | U5: Improvements (km) | V5: Total Length Completed (in km) | W5: % Progress | X5: Renewal (km) | Y5: Improvements(km) | Z5: Total Length (in km) | AA5: Total (Rs. In Lakhs) | AB5: Financial Progress To Be Achived (Rs. In lakhs)
A7: 1 | B7: 2 | C7: 3 | D7: 4 | E7: 5 | F7: 6 | G7: 7 | H7: 8 | I7: 9 | J7: 10 | K7: 10 | L7: 11 | M7: 12 | N7: 14 | O7: 15 | P7: 16 | Q7: 17 | R7: 18 | S7: 19 | T7: 20 | U7: 21 | V7: 22 | W7: 23 | X7: 24 | Y7: 25 | Z7: 26 | AA7: 27 | AB7: 28 | AC7: 29
A8: NORTH ZONE
A9: DHARWAD DIVISION
A10: 1 | B10: PWD/ 45/EAP/01 | C10: 1 | D10: Improvements to Padubidri -Chikkalgudda SH - 01 from km 318.50 to km 356.96 (In selected reaches) (Tabakadahonnahalli, Devalingikoppa of Kalaghatagi Taluk) | E10: 1 | F10: 1926.67 | G10: 1609.73 | H10: 215.09 | I10: =G10+H10 -> 1824.82 | J10: M/s N.S.Nayak & Sons | K10: 02.11.2012 | L10: 02.10.2013 | M10: 26.12.2013 | N10: 0 | O10: 35.25 | P10: =N10+O10 -> 35.25 | Q10: 0 | R10: 35.25 | S10: =Q10+R10 -> 35.25 | T10: 0 | U10: 35.25 | V10: =T10+U10 -> 35.25 | W10: =V10/S10 -> 1 | X10: =Q10-T10 -> 0 | Y10: =R10-U10 -> 0 | Z10: =X10+Y10 -> 0 | AA10: 1890.98 | AB10: 0 | AC10: Completed
A11: 2 | B11: PWD/ 45/EAP/02 | C11: 2a | D11: Improvements to Kalmala Shiggaon SH - 23 from km 273.61 to km 284.51(In selected reaches) (Railway Gate to Savanur, Taluka Border of Kundagol Taluk) | E11: 23 | F11: 2134.94 | G11: 1929.66 | H11: 53.5 | I11: =G11+H11 -> 1983.16 | J11: N.S.Nayak | K11: 02.11.2012 | L11: 02.10.2013 | M11: 13.11.2013 | N11: 7.9 | O11: 3 | P11: =SUM(N11:O11) -> 10.9 | Q11: 0 | R11: 2.91 | S11: =SUM(Q11:R11) -> 2.91 | T11: 0 | U11: 2.91 | V11: =T11+U11 -> 2.91 | W11: =V11/S11 -> 1 | X11: =Q11-T11 -> 0 | Y11: =R11-U11 -> 0 | Z11: =X11+Y11 -> 0 | AA11: 2058.88 | AB11: 0 | AC11: Completed
C12: 2b | D12: Improvements to Navalgund - Banavasi SH - 137 from km 4.90 to km 18.30(In selected reaches) (Navalgunda to Annigeri of Navalgunda Taluk) | E12: 137 | N12: 0 | O12: 13.4 | P12: =N12+O12 -> 13.4 | Q12: 0 | R12: 13.8 | S12: =Q12+R12 -> 13.8 | T12: 0 | U12: 13.8 | V12: =T12+U12 -> 13.8 | W12: =V12/S12 -> 1 | X12: =Q12-T12 -> 0 | Y12: =R12-U12 -> 0 | Z12: =X12+Y12 -> 0
C13: 2c | D13: Improvements to Supa - Annigeri SH - 28from km 41.31 to km 68.42(In selected reaches) (Mavinkoppa Checkpost to Dharwad via Nigadi of Dharwad Taluk) | E13: 28 | N13: 10.82 | O13: 16.29 | P13: =N13+O13 -> 27.11 | Q13: 9.68 | R13: 16.47 | S13: =Q13+R13 -> 26.15 | T13: 9.68 | U13: 16.47 | V13: =T13+U13 -> 26.15 | W13: =V13/S13 -> 1 | X13: =Q13-T13 -> 0 | Y13: =R13-U13 -> 0 | Z13: =X13+Y13 -> 0
A14: DIVISION TOTAL | F14: =SUM(F10:F13) -> 4061.61 | G14: =SUM(G10:G13) -> 3539.39 | H14: =SUM(H10:H13) -> 268.59 | I14: =SUM(I10:I13) -> 3807.98 | N14: =SUM(N10:N13) -> 18.72 | O14: =SUM(O10:O13) -> 67.94 | P14: =SUM(P10:P13) -> 86.66 | Q14: =SUM(Q10:Q13) -> 9.68 | R14: =SUM(R10:R13) -> 68.43 | S14: =SUM(S10:S13) -> 78.11 | T14: =SUM(T10:T13) -> 9.68 | U14: =SUM(U10:U13) -> 68.43 | V14: =SUM(V10:V13) -> 78.11 | W14: =V14/S14 -> 1 | X14: =SUM(X10:X13) -> 0 | Y14: =SUM(Y10:Y13) -> 0 | Z14: =SUM(Z10:Z13) -> 0 | AA14: =SUM(AA10:AA13) -> 3949.86 | AB14: =SUM(AB10:AB13) -> 0
A15: GADAG DIVISION
A16: 3 | B16: PWD/ 45/EAP/03 | C16: 3 | D16: Improvements to Karwar - Ilkal SH - 06 from km 199.73 to km 271.60(In selected reaches) (Laxmeshwar, Magadi, Gadag of Gadag Taluk) | E16: 6 | F16: 3066.49 | G16: 2915.69 | H16: 164.69 | I16: =H16+G16 -> 3080.38 | J16: P.R.Nayak | K16: 18.10.2012 | L16: 18.09.2013 | M16: 26.06.2013 | N16: 23.59 | O16: 47.07 | P16: =N16+O16 -> 70.66 | Q16: 23.59 | R16: 47.27 | S16: =Q16+R16 -> 70.86 | T16: 23.59 | U16: 47.27 | V16: =T16+U16 -> 70.86 | W16: =V16/S16 -> 1 | X16: =Q16-T16 -> 0 | Y16: =R16-U16 -> 0 | Z16: =X16+Y16 -> 0 | AA16: 3050.1 | AB16: =I16-AA16 -> 30.28 | AC16: Completed
A17: 4 | B17: PWD/ 45/EAP/04 | C17: 4 | D17: Improvements to Karwar - Ilkal SH-06 from km 271.60 to km 310.81(In selected reaches) (Naregal, Gajendraghada of Ron Taluk) | E17: 6 | F17: 1806.23 | G17: 1875.02 | H17: 94.14 | I17: =H17+G17 -> 1969.16 | J17: B.S.Gaonkar | K17: 10.01.2013 | L17: 10.12.2013 | M17: 28.02.2014 | N17: 6.65 | O17: 30.67 | P17: =N17+O17 -> 37.32 | Q17: 8.4 | R17: 24.6 | S17: =Q17+R17 -> 33 | T17: 8.4 | U17: 24.6 | V17: =T17+U17 -> 33 | W17: =V17/S17 -> 1 | X17: =Q17-T17 -> 0 | Y17: =R17-U17 -> 0 | Z17: =X17+Y17 -> 0 | AA17: 1977.29 | AB17: 0 | AC17: Completed
A18: 5 | B18: PWD/ 45/EAP/05 | C18: 5a | D18: Improvements to Sindhnur - Hemmadga SH - 30 from km 117.80 to km149.00 (In selected reaches) (Belavanaki,Yavagal in Naragund & Ron Taluk) | E18: 30 | F18: 1748.83 | G18: 1978.15 | H18: 242.4 | I18: =G18+H18 -> 2220.55 | J18: B.Thirupathi.Reddy | K18: 20.10.2012 | L18: 20.09.2013 | M18: 29.07.2013 | N18: 17.2 | O18: 14 | P18: =N18+O18 -> 31.2 | Q18: 17.2 | R18: 11.6 | S18: =Q18+R18 -> 28.8 | T18: 17.2 | U18: 11.6 | V18: =T18+U18 -> 28.8 | W18: =V18/S18 -> 1 | X18: =Q18-T18 -> 0 | Y18: =R18-U18 -> 0 | Z18: =X18+Y18 -> 0 | AA18: 2251.55 | AB18: 0 | AC18: Completed
C19: 5b | D19: Improvements to Raravi - Belur SH - 63 from km 160.20 to km185.70 (In selected reaches) (Mushigeri in Ron Taluk) | E19: 63 | N19: 17.05 | O19: 6 | P19: =N19+O19 -> 23.05 | Q19: 17.7 | R19: 5.6 | S19: =Q19+R19 -> 23.3 | T19: 17.7 | U19: 5.6 | V19: =T19+U19 -> 23.3 | W19: =V19/S19 -> 1 | X19: =Q19-T19 -> 0 | Y19: =R19-U19 -> 0 | Z19: =X19+Y19 -> 0
A20: 6 | B20: PWD/ 45/EAP/06 | C20: 6 | D20: Improvements to Munavalli - Kotamuchagi SH-83 from km 63.14 to km104.50 (In selected reaches) (Mensigi, Holehalur of Naragund & Ron Taluk) | E20: 83 | F20: 2144.97 | G20: 2347.41 | H20: 348.23 | I20: =H20+G20 -> 2695.64 | J20: N.B.Hiremath | K20: 26.02.2013 | L20: 25.01.2014 | M20: 24.01.2014 | N20: 6 | O20: 35.36 | P20: =N20+O20 -> 41.36 | Q20: 6 | R20: 35.36 | S20: =Q20+R20 -> 41.36 | T20: 6 | U20: 35.36 | V20: =T20+U20 -> 41.36 | W20: =V20/S20 -> 1 | X20: =Q20-T20 -> 0 | Y20: =R20-U20 -> 0 | Z20: =X20+Y20 -> 0 | AA20: 2706.84 | AB20: 0 | AC20: Completed
A21: 7 | B21: PWD/ 45/EAP/07 | C21: 7 | D21: Improvements to Bagalkote - Biligiriranganabetta SH-57 from km 126.51 to km 167.89 (In selected reaches) (Shirahatti, Belatti of Shirahatti Taluk) | E21: 57 | F21: 2168 | G21: 2499.41 | H21: 372.65 | I21: =H21+G21 -> 2872.06 | J21: N.S.Nayak | K21: 13.03.2013 | L21: 12.02.2014 | M21: 12.02.2014 | N21: 0 | O21: 41.38 | P21: =N21+O21 -> 41.38 | Q21: 0.3 | R21: 41.08 | S21: =Q21+R21 -> 41.38 | T21: 0.3 | U21: 41.08 | V21: =T21+U21 -> 41.38 | W21: =V21/S21 -> 1 | X21: =Q21-T21 -> 0 | Y21: =R21-U21 -> 0 | Z21: =X21+Y21 -> 0 | AA21: 2900.44 | AB21: 0 | AC21: Completed
A22: 8 | B22: PWD/ 45/EAP/08 | C22: 8 | D22: Improvements to Bagalkote - Biligiriranganbetta SH-57 from km 72.27 to km 126.51 (In selected reaches) (Betageri , Beladatti of Ron & Gadag Taluks) | E22: 57 | F22: 2249.1 | G22: 2449.94 | H22: 509.75 | I22: =H22+G22 -> 2959.69 | J22: N.B.Hiremath | K22: 01.03.2013 | L22: 01.02.2014 | M22: 13.12.2014 | N22: 0 | O22: 44.51 | P22: =N22+O22 -> 44.51 | Q22: 0 | R22: 42.55 | S22: =Q22+R22 -> 42.55 | T22: 0 | U22: 42.55 | V22: =T22+U22 -> 42.55 | W22: =V22/S22 -> 1 | X22: =Q22-T22 -> 0 | Y22: =R22-U22 -> 0 | Z22: =X22+Y22 -> 0 | AA22: 2939.45 | AB22: =I22-AA22 -> 20.24 | AC22: Completed
A23: DIVISION TOTAL | F23: =SUM(F16:F22) -> 13183.62 | G23: =SUM(G16:G22) -> 14065.62 | H23: =SUM(H16:H22) -> 1731.86 | I23: =SUM(I16:I22) -> 15797.48 | N23: =SUM(N16:N22) -> 70.49 | O23: =SUM(O16:O22) -> 218.99 | P23: =SUM(P16:P22) -> 289.48 | Q23: =SUM(Q16:Q22) -> 73.19 | R23: =SUM(R16:R22) -> 208.06 | S23: =SUM(S16:S22) -> 281.25 | T23: =SUM(T16:T22) -> 73.19 | U23: =SUM(U16:U22) -> 208.06 | V23: =SUM(V16:V22) -> 281.25 | W23: =V23/S23 -> 1 | X23: =SUM(X16:X22) -> 0 | Y23: =SUM(Y16:Y22) -> 0 | Z23: =X23+Y23 -> 0 | AA23: =SUM(AA16:AA22) -> 15825.67 | AB23: =SUM(AB16:AB22) -> 50.52
A24: HAVERI DIVISION
A25: 9 | B25: PWD/ 45/EAP/09 | C25: 9a | D25: Improvements to Ekkumbi - MolkalmurSH-02 from km 8.20 to km 88.49 (In selected reaches) (From Dasanakoppa cross to Hangal crosss & Agadi, Basapur up to Guttal of Hangal & Haveri Taluk | E25: 2 | F25: 2161.68 | G25: 2542.44 | H25: 220.68 | I25: =G25+H25 -> 2763.12 | J25: A.V.Patil | K25: 28.02.2013 | L25: 27.01.2014 | M25: 25.01.2014 | N25: 23.83 | O25: 10.47 | P25: =N25+O25 -> 34.3 | Q25: 22.65 | R25: 10.92 | S25: =Q25+R25 -> 33.57 | T25: 22.65 | U25: 10.92 | V25: =T25+U25 -> 33.57 | W25: =V25/S25 -> 1 | X25: =Q25-T25 -> 0 | Y25: =R25-U25 -> 0 | Z25: =X25+Y25 -> 0 | AA25: 2725.45 | AB25: =I25-AA25 -> 37.67 | AC25: Completed
C26: 9b | D26: Improvements to Haveri - Sagar SH - 62 from km 9.63 to km 57.20 (In selected reaches) (Kagineli, Hamsabhavi of Byadagi & Hirekerur Taluk) | E26: 62 | N26: 4.8 | O26: 17.86 | P26: =N26+O26 -> 22.66 | Q26: 0 | R26: 15.26 | S26: =Q26+R26 -> 15.26 | T26: 0 | U26: 15.26 | V26: =T26+U26 -> 15.26 | W26: =V26/S26 -> 1 | X26: =Q26-T26 -> 0 | Y26: =R26-U26 -> 0 | Z26: =X26+Y26 -> 0
A27: 10 | B27: PWD/ 45/EAP/10 | C27: 10 | D27: Improvements to Bagalkote - Biligiriranganabetta SH-57 from km 196.72 to km 236.83 (In selected reaches) (Ranebennur, Haligeri of Ranebennur Taluk) | E27: 57 | F27: 1434.02 | G27: 1609.55 | H27: 144.25 | I27: =H27+G27 -> 1753.8 | J27: S.R.Bellary | K27: 17.10.2012 | L27: 17.09.2013 | M27: 03.11.2013 | N27: 0 | O27: 25.83 | P27: =N27+O27 -> 25.83 | Q27: 0 | R27: 26.06 | S27: =SUM(Q27:R27) -> 26.06 | T27: 0 | U27: 26.06 | V27: =T27+U27 -> 26.06 | W27: =V27/S27 -> 1 | X27: =Q27-T27 -> 0 | Y27: =R27-U27 -> 0 | Z27: =X27+Y27 -> 0 | AA27: 1750.33 | AB27: =I27-AA27 -> 3.47 | AC27: Completed
A28: 11 | B28: PWD/ 45/EAP/11 | C28: 11 | D28: Improvements to Birur - Sammasagi SH-76 from km 125.01 to km 189.00 (In selected reaches) (Haligeri, koda of Ranebennuru & Hirekerur Taluk) | E28: 76 | F28: 1452.21 | G28: 1616.25 | H28: 98.97 | I28: =H28+G28 -> 1715.22 | J28: S.R.Bellary | K28: 17.10.2012 | L28: 17.09.2013 | M28: 16.11.2013 | N28: 6.14 | O28: 24.95 | P28: =SUM(N28:O28) -> 31.09 | Q28: 6.12 | R28: 24.98 | S28: =Q28+R28 -> 31.1 | T28: 6.12 | U28: 24.98 | V28: =T28+U28 -> 31.1 | W28: =V28/S28 -> 1 | X28: =Q28-T28 -> 0 | Y28: =R28-U28 -> 0 | Z28: =X28+Y28 -> 0 | AA28: 1666.76 | AB28: =I28-AA28 -> 48.46 | AC28: Completed
A29: DIVISION TOTAL | F29: =SUM(F25:F28) -> 5047.91 | G29: =SUM(G25:G28) -> 5768.24 | H29: =SUM(H25:H28) -> 463.9 | I29: =SUM(I25:I28) -> 6232.14 | N29: =SUM(N25:N28) -> 34.77 | O29: =SUM(O25:O28) -> 79.11 | P29: =SUM(P25:P28) -> 113.88 | Q29: =SUM(Q25:Q28) -> 28.77 | R29: =SUM(R25:R28) -> 77.22 | S29: =SUM(S25:S28) -> 105.99 | T29: =SUM(T25:T28) -> 28.77 | U29: =SUM(U25:U28) -> 77.22 | V29: =SUM(V25:V28) -> 105.99 | W29: =V29/S29 -> 1 | X29: =SUM(X25:X28) -> 0 | Y29: =SUM(Y25:Y28) -> 0 | Z29: =SUM(Z25:Z28) -> 0 | AA29: =SUM(AA25:AA28) -> 6142.54 | AB29: =SUM(AB25:AB28) -> 89.6
A30: SIRSI DIVISION
A31: 12 | B31: PWD/ 45/EAP/12 | C31: 12a | D31: Improvements to Kumta - Tadas SH - 69 from km 0.00 to km 27.15(In selected reaches)(from kumta to Sirsi Taluk Border via Alkod of Karwar Taluk) | E31: 69 | F31: 1207.5 | G31: 1075.97 | H31: 183.74 | I31: =G31+H31 -> 1259.71 | J31: Ramashree Global Construction | K31: 16.10.2012 | L31: 16.09.2013 | M31: 30.04.2014 | N31: 16.4 | O31: 1.6 | P31: =N31+O31 -> 18 | Q31: 16.4 | R31: 1.6 | S31: =Q31+R31 -> 18 | T31: 16.4 | U31: 1.6 | V31: =T31+U31 -> 18 | W31: =V31/S31 -> 1 | X31: =Q31-T31 -> 0 | Y31: =R31-U31 -> 0 | Z31: =X31+Y31 -> 0 | AA31: 1259.94 | AB31: =I31-AA31 -> -0.23 | AC31: Completed
C32: 12b | D32: Improvements to Karwar Kaiga Ilkal SH-06 from km 0.50 to km 69.40(In selected reaches)(Shirwadi, Wailwadi of Karwar Taluk) | E32: 6 | N32: 41.25 | O32: 0 | P32: =N32+O32 -> 41.25 | Q32: 25.95 | R32: 15.15 | S32: =Q32+R32 -> 41.1 | T32: 25.95 | U32: 15.15 | V32: =T32+U32 -> 41.1 | W32: =V32/S32 -> 1 | X32: =Q32-T32 -> 0 | Y32: =R32-U32 -> 0 | Z32: =X32+Y32 -> 0
A33: DIVISION TOTAL | F33: =SUM(F31) -> 1207.5 | G33: =SUM(G31) -> 1075.97 | H33: =SUM(H31) -> 183.74 | I33: =SUM(I31) -> 1259.71 | N33: =SUM(N31:N32) -> 57.65 | O33: =SUM(O31:O32) -> 1.6 | P33: =SUM(P31:P32) -> 59.25 | Q33: =SUM(Q31:Q32) -> 42.35 | R33: =SUM(R31:R32) -> 16.75 | S33: =SUM(S31:S32) -> 59.1 | T33: =SUM(T31:T32) -> 42.35 | U33: =SUM(U31:U32) -> 16.75 | V33: =V31+V32 -> 59.1 | W33: =V33/S33 -> 1 | X33: =SUM(X31:X32) -> 0 | Y33: =SUM(Y31:Y32) -> 0 | Z33: =X33+Y33 -> 0 | AA33: =SUM(AA31) -> 1259.94
A34: KARWAR DIVISION | T34: 0 | U34: 0
A35: 13 | B35: PWD/ 45/EAP/13 | C35: 13a | D35: Improvements to Kumta Tadas SH-69 from km 40.00 to km 83.70 (In selected reaches) (Sirsi,Isloor of Sirsi Taluk) | E35: 69 | F35: 1717.28 | G35: 1494.82 | H35: 0 | I35: =G35+H35 -> 1494.82 | J35: N.S.Nayak | K35: 16.10.2012 | L35: 17.06.2013 | M35: 17.06.2013 | N35: 22 | O35: 6.54 | P35: =N35+O35 -> 28.54 | Q35: 24.59 | R35: 2.47 | S35: =Q35+R35 -> 27.06 | T35: 24.59 | U35: 2.47 | V35: =T35+U35 -> 27.06 | W35: =V35/S35 -> 1 | X35: =Q35-T35 -> 0 | Y35: =R35-U35 -> 0 | Z35: =X35+Y35 -> 0 | AA35: 1390.06 | AB35: =I35-AA35 -> 104.76 | AC35: Completed
C36: 13b | D36: Improvements to Karwar - Kaiga - Ilkal SH-06 from km 69.40 to km125.80 (In selected reaches) (Idagundi, Yellapur Taluk) | E36: 6 | N36: 29.64 | O36: 17.86 | P36: =N36+O36 -> 47.5 | Q36: 29.64 | R36: 18.13 | S36: =Q36+R36 -> 47.77 | T36: 29.64 | U36: 18.132 | V36: =T36+U36 -> 47.772 | W36: =V36/S36 -> 1.0000419 | X36: =Q36-T36 -> 0 | Y36: =R36-U36 -> -0.002 | Z36: =X36+Y36 -> -0.002
A37: DIVISION TOTAL | F37: =SUM(F35) -> 1717.28 | G37: =SUM(G35) -> 1494.82 | H37: =SUM(H35) -> 0 | I37: =SUM(I35) -> 1494.82 | N37: =SUM(N35:N36) -> 51.64 | O37: =SUM(O35:O36) -> 24.4 | P37: =SUM(P35:P36) -> 76.04 | Q37: =SUM(Q35:Q36) -> 54.23 | R37: =SUM(R35:R36) -> 20.6 | S37: =SUM(S35:S36) -> 74.83 | T37: =SUM(T35:T36) -> 54.23 | U37: =SUM(U35:U36) -> 20.602 | V37: =SUM(V35:V36) -> 74.832 | W37: =V37/S37 -> 1.0000267 | X37: =SUM(X35:X36) -> 0 | Y37: =SUM(Y35:Y36) -> -0.002 | Z37: =X37+Y37 -> -0.002 | AA37: =SUM(AA35:AA36) -> 1390.06 | AB37: =SUM(AB35:AB36) -> 104.76
A38: DHARWAD CIRCLE TOTAL | F38: =F37+F33+F29+F23+F14 -> 25217.92 | G38: =G37+G33+G29+G23+G14 -> 25944.04 | H38: =H37+H33+H29+H23+H14 -> 2648.09 | I38: =I37+I33+I29+I23+I14 -> 28592.13 | N38: =N37+N33+N29+N23+N14 -> 233.27 | O38: =O37+O33+O29+O23+O14 -> 392.04 | P38: =P37+P33+P29+P23+P14 -> 625.31 | Q38: =Q37+Q33+Q29+Q23+Q14 -> 208.22 | R38: =R37+R33+R29+R23+R14 -> 391.06 | S38: =S37+S33+S29+S23+S14 -> 599.28 | T38: =T37+T33+T29+T23+T14 -> 208.22 | U38: =U37+U33+U29+U23+U14 -> 391.062 | V38: =V37+V33+V29+V23+V14 -> 599.282 | W38: =V38/S38 -> 1.0000033 | X38: =X37+X33+X29+X23+X14 -> 0 | Y38: =Y37+Y33+Y29+Y23+Y14 -> -0.002 | Z38: =Z37+Z33+Z29+Z23+Z14 -> -0.002 | AA38: =AA37+AA33+AA29+AA23+AA14 -> 28568.07 | AB38: =AB37+AB33+AB29+AB23+AB14 -> 244.88
A39: BELAGAVI CIRCLE
A40: BELAGAVI DIVISION
A41: 14 | B41: PWD/ 45/EAP/14 | C41: 14a | D41: Improvements to Khanapur - Talaguppa SH - 93 from km 0.00 to km 34.58 (In selected reaches) (Khanapur of Kahanapur Taluk) | E41: 93 | F41: 2266.02 | G41: 2212.08 | H41: -7.17 | I41: =G41+H41 -> 2204.91 | J41: M/s. P.R. Nayak. Hubli | K41: 41194 | L41: 41528 | M41: 24.05.2013 | N41: 31.57 | O41: 1.456 | P41: =N41+O41 -> 33.026 | Q41: 33.03 | R41: 0 | S41: =SUM(Q41:R41) -> 33.03 | T41: 33.03 | U41: 0 | V41: =T41+U41 -> 33.03 | W41: =V41/S41 -> 1 | X41: =Q41-T41 -> 0 | Y41: =R41-U41 -> 0 | Z41: =X41+Y41 -> 0 | AA41: 2220.59 | AB41: 0 | AC41: Completed
...

Sheet District wise
A1: Phase I Progress District Wise
A2: Sl No | B2: District | C2: No Of Packages | D2: No Of Packages Completed | E2: Improvement in Km | F2: Financial Progress in Lakhs
A4: 1 | B4: Kalburgi | C4: 3 | D4: 3 | E4: ='Progress Report Phase-I (2)'!V102 -> 156.84 | F4: ='Progress Report Phase-I (2)'!AA102 -> 9549.37
A5: 2 | B5: Bidar | C5: 3 | D5: 3 | E5: ='Progress Report Phase-I (2)'!V111 -> 155.03 | F5: ='Progress Report Phase-I (2)'!AA111 -> 7443.62
A6: 3 | B6: Yadgir | C6: 1 | D6: 1 | E6: ='Progress Report Phase-I (2)'!V106 -> 60.5 | F6: ='Progress Report Phase-I (2)'!AA106 -> 2121.38
A7: 4 | B7: Bellary | C7: 5 | D7: 5 | E7: ='Progress Report Phase-I (2)'!V72+'Progress Report Phase-I (2)'!V79 -> 254.669 | F7: ='Progress Report Phase-I (2)'!AA72+'Progress Report Phase-I (2)'!AA79 -> 13866.8
A8: 5 | B8: Raichur | C8: 4 | D8: 4 | E8: ='Progress Report Phase-I (2)'!V90 -> 207.297 | F8: ='Progress Report Phase-I (2)'!AA90 -> 8903.49
A9: 6 | B9: Koppal | C9: 1 | D9: 1 | E9: ='Progress Report Phase-I (2)'!V93 -> 53.44 | F9: ='Progress Report Phase-I (2)'!AA93 -> 2710.98
A10: 7 | B10: Dharwad | C10: 2 | D10: 2 | E10: ='Progress Report Phase-I (2)'!V14 -> 78.11 | F10: ='Progress Report Phase-I (2)'!AA14 -> 3949.86
A11: 8 | B11: Gadag | C11: 6 | D11: 6 | E11: ='Progress Report Phase-I (2)'!V23 -> 281.25 | F11: ='Progress Report Phase-I (2)'!AA23 -> 15825.67
A12: 9 | B12: Haveri | C12: 3 | D12: 3 | E12: ='Progress Report Phase-I (2)'!V29 -> 105.99 | F12: ='Progress Report Phase-I (2)'!AA29 -> 6142.54
A13: 10 | B13: Uttar Kannada | C13: 2 | D13: 2 | E13: ='Progress Report Phase-I (2)'!V33+'Progress Report Phase-I (2)'!V37 -> 133.932 | F13: ='Progress Report Phase-I (2)'!AA33+'Progress Report Phase-I (2)'!AA37 -> 2650
A14: 11 | B14: Belgaum | C14: 4 | D14: 4 | E14: ='Progress Report Phase-I (2)'!V44+'Progress Report Phase-I (2)'!V53 -> 284.411 | F14: ='Progress Report Phase-I (2)'!AA44+'Progress Report Phase-I (2)'!AA53 -> 9656.52
A15: 12 | B15: Vijayapura | C15: 2 | D15: 2 | E15: ='Progress Report Phase-I (2)'!V63 -> 122.125 | F15: ='Progress Report Phase-I (2)'!AA63 -> 5709.01
A16: 13 | B16: Bagalkote | C16: 1 | D16: 1 | E16: ='Progress Report Phase-I (2)'!V57 -> 47.19 | F16: ='Progress Report Phase-I (2)'!AA57 -> 2705.56
A17: 14 | B17: Davanagere | C17: 2 | D17: 2 | E17: ='Progress Report Phase-I (2)'!V181+'Progress Report Phase-I (2)'!V201 -> 95.77 | F17: ='Progress Report Phase-I (2)'!AA181+'Progress Report Phase-I (2)'!AA201 -> 6224.78
A18: 15 | B18: Chitradurga | C18: 3 | D18: 3 | E18: ='Progress Report Phase-I (2)'!V177 -> 157.707 | F18: ='Progress Report Phase-I (2)'!AA177 -> 9217.03
A19: 16 | B19: Shimoga | C19: 3 | D19: 3 | E19: ='Progress Report Phase-I (2)'!V166+'Progress Report Phase-I (2)'!V171 -> 153.77 | F19: ='Progress Report Phase-I (2)'!AA166+'Progress Report Phase-I (2)'!AA171 -> 8952.95
A20: 17 | B20: Bangalore | C20: 0 | D20: 0 | E20: 0 | F20: 0
A21: 18 | B21: C B pura | C21: 0 | D21: 0 | E21: 0 | F21: 0
A22: 19 | B22: Ramanagara | C22: 1 | D22: 1 | E22: ='Progress Report Phase-I (2)'!V117 -> 43.39 | F22: ='Progress Report Phase-I (2)'!AA117 -> 2068.46
A23: 20 | B23: Kolar | C23: 1 | D23: 1 | E23: ='Progress Report Phase-I (2)'!V120 -> 41.182 | F23: ='Progress Report Phase-I (2)'!AA120 -> 2972.56
A24: 21 | B24: Tumkur | C24: 1 | D24: 1 | E24: ='Progress Report Phase-I (2)'!V124 -> 30.57 | F24: ='Progress Report Phase-I (2)'!AA124 -> 2390.57
A25: 22 | B25: Mandya | C25: 3 | D25: 3 | E25: ='Progress Report Phase-I (2)'!V140 -> 153.493 | F25: ='Progress Report Phase-I (2)'!AA140 -> 6904.68
A26: 23 | B26: Mysore | C26: 3 | D26: 3 | E26: ='Progress Report Phase-I (2)'!V130+'Progress Report Phase-I (2)'!V133 -> 97.555 | F26: ='Progress Report Phase-I (2)'!AA130+'Progress Report Phase-I (2)'!AA133 -> 7449.02
A27: 24 | B27: Chamarajnagar | C27: 0 | D27: 0 | E27: 0 | F27: 0
A28: 25 | B28: Udupi | C28: 1 | D28: 1 | E28: ='Progress Report Phase-I (2)'!V193 -> 53.95 | F28: ='Progress Report Phase-I (2)'!AA193 -> 1935.7
A29: 26 | B29: Kodagu | C29: 1 | D29: 1 | E29: ='Progress Report Phase-I (2)'!V197 -> 74.972 | F29: ='Progress Report Phase-I (2)'!AA197 -> 1916.19
A30: 27 | B30: Dakishna Kannada | C30: 2 | D30: 2 | E30: ='Progress Report Phase-I (2)'!V189 -> 127.87 | F30: ='Progress Report Phase-I (2)'!AA189 -> 7132.11
A31: 28 | B31: Chickmagaluru | C31: 2 | D31: 2 | E31: ='Progress Report Phase-I (2)'!V162 -> 130.05 | F31: ='Progress Report Phase-I (2)'!AA162 -> 4302.62
A32: 29 | B32: Hassan | C32: 6 | D32: 6 | E32: ='Progress Report Phase-I (2)'!V151+'Progress Report Phase-I (2)'!V157 -> 302.821 | F32: ='Progress Report Phase-I (2)'!AA151+'Progress Report Phase-I (2)'!AA157 -> 15877.19
A33: TOTAL | C33: =SUM(C4:C32) -> 66 | D33: =SUM(D4:D32) -> 66 | E33: =SUM(E4:E32) -> 3403.884 | F33: =SUM(F4:F32) -> 168578.66

Sheet Progress Report Phase-I (3)
A1: GOVERNMENT OF KARNATAKA, PIU - STATE HIGHWAY DEVELOPMENT PROJECT, K.R.CIRCLE, BANGALORE
A2: SHDP - PHASE - I PACKAGES
A3: 44560
A4: Sl. No. | B4: Admini- strative approval No. | C4: Pkg No | D4: Details of packages | E4: SH No. | F4: Estimate Amount as per Administrative approval (Rs. in lakhs) | G4: Contract Amount (Rs. in lakhs) | H4: Variation Amount (Rs. in lakhs) | I4: Revised Contract Amount including VO (Rs. in lakhs) | J4: Name of the Contractor | K4: Date | N4: Length As per DPR in km | Q4: Length after VO in km | T4: Physical Progress | X4: Balance Length | AA4: Financial Progress | AC4: Remarks
K5: Commencement | L5: Completion | M5: Revised | N5: Length (in km) Renewal | O5: Length (in km) Improvements | P5: Total Length (in km) | Q5: Length (in km) Renewal | R5: Length (in km) Improvements | S5: Total Length (in km) | T5: Renewal (km) | U5: Improvements (km) | V5: Total Length Completed (in km) | W5: % Progress | X5: Renewal (km) | Y5: Improvements(km) | Z5: Total Length (in km) | AA5: Total (Rs. In Lakhs) | AB5: Financial Progress To Be Achived (Rs. In lakhs)
A7: 1 | B7: 2 | C7: 3 | D7: 4 | E7: 5 | F7: 6 | G7: 7 | H7: 8 | I7: 9 | J7: 10 | K7: 10 | L7: 11 | M7: 12 | N7: 14 | O7: 15 | P7: 16 | Q7: 17 | R7: 18 | S7: 19 | T7: 20 | U7: 21 | V7: 22 | W7: 23 | X7: 24 | Y7: 25 | Z7: 26 | AA7: 27 | AB7: 28 | AC7: 29
A8: NORTH ZONE
A9: DHARWAD DIVISION
A10: 1 | B10: PWD/ 45/EAP/01 | C10: 1 | D10: Improvements to Padubidri -Chikkalgudda SH - 01 from km 318.50 to km 356.96 (In selected reaches) (Tabakadahonnahalli, Devalingikoppa of Kalaghatagi Taluk) | E10: 1 | F10: 1926.67 | G10: 1609.73 | H10: 215.09 | I10: =G10+H10 -> 1824.82 | J10: M/s N.S.Nayak & Sons | K10: 02.11.2012 | L10: 02.10.2013 | M10: 26.12.2013 | N10: 0 | O10: 35.25 | P10: =N10+O10 -> 35.25 | Q10: 0 | R10: 35.25 | S10: =Q10+R10 -> 35.25 | T10: 0 | U10: 35.25 | V10: =T10+U10 -> 35.25 | W10: =V10/S10 -> 1 | X10: =Q10-T10 -> 0 | Y10: =R10-U10 -> 0 | Z10: =X10+Y10 -> 0 | AA10: 1890.98 | AB10: 0 | AC10: Completed
A11: 2 | B11: PWD/ 45/EAP/02 | C11: 2a | D11: Improvements to Kalmala Shiggaon SH - 23 from km 273.61 to km 284.51(In selected reaches) (Railway Gate to Savanur, Taluka Border of Kundagol Taluk) | E11: 23 | F11: 2134.94 | G11: 1929.66 | H11: 53.5 | I11: =G11+H11 -> 1983.16 | J11: N.S.Nayak | K11: 02.11.2012 | L11: 02.10.2013 | M11: 13.11.2013 | N11: 7.9 | O11: 3 | P11: =SUM(N11:O11) -> 10.9 | Q11: 0 | R11: 2.91 | S11: =SUM(Q11:R11) -> 2.91 | T11: 0 | U11: 2.91 | V11: =T11+U11 -> 2.91 | W11: =V11/S11 -> 1 | X11: =Q11-T11 -> 0 | Y11: =R11-U11 -> 0 | Z11: =X11+Y11 -> 0 | AA11: 2058.88 | AB11: 0 | AC11: Completed
C12: 2b | D12: Improvements to Navalgund - Banavasi SH - 137 from km 4.90 to km 18.30(In selected reaches) (Navalgunda to Annigeri of Navalgunda Taluk) | E12: 137 | N12: 0 | O12: 13.4 | P12: =N12+O12 -> 13.4 | Q12: 0 | R12: 13.8 | S12: =Q12+R12 -> 13.8 | T12: 0 | U12: 13.8 | V12: =T12+U12 -> 13.8 | W12: =V12/S12 -> 1 | X12: =Q12-T12 -> 0 | Y12: =R12-U12 -> 0 | Z12: =X12+Y12 -> 0
C13: 2c | D13: Improvements to Supa - Annigeri SH - 28from km 41.31 to km 68.42(In selected reaches) (Mavinkoppa Checkpost to Dharwad via Nigadi of Dharwad Taluk) | E13: 28 | N13: 10.82 | O13: 16.29 | P13: =N13+O13 -> 27.11 | Q13: 9.68 | R13: 16.47 | S13: =Q13+R13 -> 26.15 | T13: 9.68 | U13: 16.47 | V13: =T13+U13 -> 26.15 | W13: =V13/S13 -> 1 | X13: =Q13-T13 -> 0 | Y13: =R13-U13 -> 0 | Z13: =X13+Y13 -> 0
A14: DIVISION TOTAL | F14: =SUM(F10:F13) -> 4061.61 | G14: =SUM(G10:G13) -> 3539.39 | H14: =SUM(H10:H13) -> 268.59 | I14: =SUM(I10:I13) -> 3807.98 | N14: =SUM(N10:N13) -> 18.72 | O14: =SUM(O10:O13) -> 67.94 | P14: =SUM(P10:P13) -> 86.66 | Q14: =SUM(Q10:Q13) -> 9.68 | R14: =SUM(R10:R13) -> 68.43 | S14: =SUM(S10:S13) -> 78.11 | T14: =SUM(T10:T13) -> 9.68 | U14: =SUM(U10:U13) -> 68.43 | V14: =SUM(V10:V13) -> 78.11 | W14: =V14/S14 -> 1 | X14: =SUM(X10:X13) -> 0 | Y14: =SUM(Y10:Y13) -> 0 | Z14: =SUM(Z10:Z13) -> 0 | AA14: =SUM(AA10:AA13) -> 3949.86 | AB14: =SUM(AB10:AB13) -> 0
A15: GADAG DIVISION
A16: 3 | B16: PWD/ 45/EAP/03 | C16: 3 | D16: Improvements to Karwar - Ilkal SH - 06 from km 199.73 to km 271.60(In selected reaches) (Laxmeshwar, Magadi, Gadag of Gadag Taluk) | E16: 6 | F16: 3066.49 | G16: 2915.69 | H16: 164.69 | I16: =H16+G16 -> 3080.38 | J16: P.R.Nayak | K16: 18.10.2012 | L16: 18.09.2013 | M16: 26.06.2013 | N16: 23.59 | O16: 47.07 | P16: =N16+O16 -> 70.66 | Q16: 23.59 | R16: 47.27 | S16: =Q16+R16 -> 70.86 | T16: 23.59 | U16: 47.27 | V16: =T16+U16 -> 70.86 | W16: =V16/S16 -> 1 | X16: =Q16-T16 -> 0 | Y16: =R16-U16 -> 0 | Z16: =X16+Y16 -> 0 | AA16: 3050.1 | AB16: =I16-AA16 -> 30.28 | AC16: Completed
A17: 4 | B17: PWD/ 45/EAP/04 | C17: 4 | D17: Improvements to Karwar - Ilkal SH-06 from km 271.60 to km 310.81(In selected reaches) (Naregal, Gajendraghada of Ron Taluk) | E17: 6 | F17: 1806.23 | G17: 1875.02 | H17: 94.14 | I17: =H17+G17 -> 1969.16 | J17: B.S.Gaonkar | K17: 10.01.2013 | L17: 10.12.2013 | M17: 28.02.2014 | N17: 6.65 | O17: 30.67 | P17: =N17+O17 -> 37.32 | Q17: 8.4 | R17: 24.6 | S17: =Q17+R17 -> 33 | T17: 8.4 | U17: 24.6 | V17: =T17+U17 -> 33 | W17: =V17/S17 -> 1 | X17: =Q17-T17 -> 0 | Y17: =R17-U17 -> 0 | Z17: =X17+Y17 -> 0 | AA17: 1977.29 | AB17: 0 | AC17: Completed
A18: 5 | B18: PWD/ 45/EAP/05 | C18: 5a | D18: Improvements to Sindhnur - Hemmadga SH - 30 from km 117.80 to km149.00 (In selected reaches) (Belavanaki,Yavagal in Naragund & Ron Taluk) | E18: 30 | F18: 1748.83 | G18: 1978.15 | H18: 242.4 | I18: =G18+H18 -> 2220.55 | J18: B.Thirupathi.Reddy | K18: 20.10.2012 | L18: 20.09.2013 | M18: 29.07.2013 | N18: 17.2 | O18: 14 | P18: =N18+O18 -> 31.2 | Q18: 17.2 | R18: 11.6 | S18: =Q18+R18 -> 28.8 | T18: 17.2 | U18: 11.6 | V18: =T18+U18 -> 28.8 | W18: =V18/S18 -> 1 | X18: =Q18-T18 -> 0 | Y18: =R18-U18 -> 0 | Z18: =X18+Y18 -> 0 | AA18: 2251.55 | AB18: 0 | AC18: Completed
C19: 5b | D19: Improvements to Raravi - Belur SH - 63 from km 160.20 to km185.70 (In selected reaches) (Mushigeri in Ron Taluk) | E19: 63 | N19: 17.05 | O19: 6 | P19: =N19+O19 -> 23.05 | Q19: 17.7 | R19: 5.6 | S19: =Q19+R19 -> 23.3 | T19: 17.7 | U19: 5.6 | V19: =T19+U19 -> 23.3 | W19: =V19/S19 -> 1 | X19: =Q19-T19 -> 0 | Y19: =R19-U19 -> 0 | Z19: =X19+Y19 -> 0
A20: 6 | B20: PWD/ 45/EAP/06 | C20: 6 | D20: Improvements to Munavalli - Kotamuchagi SH-83 from km 63.14 to km104.50 (In selected reaches) (Mensigi, Holehalur of Naragund & Ron Taluk) | E20: 83 | F20: 2144.97 | G20: 2347.41 | H20: 348.23 | I20: =H20+G20 -> 2695.64 | J20: N.B.Hiremath | K20: 26.02.2013 | L20: 25.01.2014 | M20: 24.01.2014 | N20: 6 | O20: 35.36 | P20: =N20+O20 -> 41.36 | Q20: 6 | R20: 35.36 | S20: =Q20+R20 -> 41.36 | T20: 6 | U20: 35.36 | V20: =T20+U20 -> 41.36 | W20: =V20/S20 -> 1 | X20: =Q20-T20 -> 0 | Y20: =R20-U20 -> 0 | Z20: =X20+Y20 -> 0 | AA20: 2706.84 | AB20: 0 | AC20: Completed
A21: 7 | B21: PWD/ 45/EAP/07 | C21: 7 | D21: Improvements to Bagalkote - Biligiriranganabetta SH-57 from km 126.51 to km 167.89 (In selected reaches) (Shirahatti, Belatti of Shirahatti Taluk) | E21: 57 | F21: 2168 | G21: 2499.41 | H21: 372.65 | I21: =H21+G21 -> 2872.06 | J21: N.S.Nayak | K21: 13.03.2013 | L21: 12.02.2014 | M21: 12.02.2014 | N21: 0 | O21: 41.38 | P21: =N21+O21 -> 41.38 | Q21: 0.3 | R21: 41.08 | S21: =Q21+R21 -> 41.38 | T21: 0.3 | U21: 41.08 | V21: =T21+U21 -> 41.38 | W21: =V21/S21 -> 1 | X21: =Q21-T21 -> 0 | Y21: =R21-U21 -> 0 | Z21: =X21+Y21 -> 0 | AA21: 2900.44 | AB21: 0 | AC21: Completed
A22: 8 | B22: PWD/ 45/EAP/08 | C22: 8 | D22: Improvements to Bagalkote - Biligiriranganbetta SH-57 from km 72.27 to km 126.51 (In selected reaches) (Betageri , Beladatti of Ron & Gadag Taluks) | E22: 57 | F22: 2249.1 | G22: 2449.94 | H22: 509.75 | I22: =H22+G22 -> 2959.69 | J22: N.B.Hiremath | K22: 01.03.2013 | L22: 01.02.2014 | M22: 13.12.2014 | N22: 0 | O22: 44.51 | P22: =N22+O22 -> 44.51 | Q22: 0 | R22: 42.55 | S22: =Q22+R22 -> 42.55 | T22: 0 | U22: 42.55 | V22: =T22+U22 -> 42.55 | W22: =V22/S22 -> 1 | X22: =Q22-T22 -> 0 | Y22: =R22-U22 -> 0 | Z22: =X22+Y22 -> 0 | AA22: 2939.45 | AB22: =I22-AA22 -> 20.24 | AC22: Completed
A23: DIVISION TOTAL | F23: =SUM(F16:F22) -> 13183.62 | G23: =SUM(G16:G22) -> 14065.62 | H23: =SUM(H16:H22) -> 1731.86 | I23: =SUM(I16:I22) -> 15797.48 | N23: =SUM(N16:N22) -> 70.49 | O23: =SUM(O16:O22) -> 218.99 | P23: =SUM(P16:P22) -> 289.48 | Q23: =SUM(Q16:Q22) -> 73.19 | R23: =SUM(R16:R22) -> 208.06 | S23: =SUM(S16:S22) -> 281.25 | T23: =SUM(T16:T22) -> 73.19 | U23: =SUM(U16:U22) -> 208.06 | V23: =SUM(V16:V22) -> 281.25 | W23: =V23/S23 -> 1 | X23: =SUM(X16:X22) -> 0 | Y23: =SUM(Y16:Y22) -> 0 | Z23: =X23+Y23 -> 0 | AA23: =SUM(AA16:AA22) -> 15825.67 | AB23: =SUM(AB16:AB22) -> 50.52
A24: HAVERI DIVISION
A25: 9 | B25: PWD/ 45/EAP/09 | C25: 9a | D25: Improvements to Ekkumbi - MolkalmurSH-02 from km 8.20 to km 88.49 (In selected reaches) (From Dasanakoppa cross to Hangal crosss & Agadi, Basapur up to Guttal of Hangal & Haveri Taluk | E25: 2 | F25: 2161.68 | G25: 2542.44 | H25: 220.68 | I25: =G25+H25 -> 2763.12 | J25: A.V.Patil | K25: 28.02.2013 | L25: 27.01.2014 | M25: 25.01.2014 | N25: 23.83 | O25: 10.47 | P25: =N25+O25 -> 34.3 | Q25: 22.65 | R25: 10.92 | S25: =Q25+R25 -> 33.57 | T25: 22.65 | U25: 10.92 | V25: =T25+U25 -> 33.57 | W25: =V25/S25 -> 1 | X25: =Q25-T25 -> 0 | Y25: =R25-U25 -> 0 | Z25: =X25+Y25 -> 0 | AA25: 2725.45 | AB25: =I25-AA25 -> 37.67 | AC25: Completed
C26: 9b | D26: Improvements to Haveri - Sagar SH - 62 from km 9.63 to km 57.20 (In selected reaches) (Kagineli, Hamsabhavi of Byadagi & Hirekerur Taluk) | E26: 62 | N26: 4.8 | O26: 17.86 | P26: =N26+O26 -> 22.66 | Q26: 0 | R26: 15.26 | S26: =Q26+R26 -> 15.26 | T26: 0 | U26: 15.26 | V26: =T26+U26 -> 15.26 | W26: =V26/S26 -> 1 | X26: =Q26-T26 -> 0 | Y26: =R26-U26 -> 0 | Z26: =X26+Y26 -> 0
A27: 10 | B27: PWD/ 45/EAP/10 | C27: 10 | D27: Improvements to Bagalkote - Biligiriranganabetta SH-57 from km 196.72 to km 236.83 (In selected reaches) (Ranebennur, Haligeri of Ranebennur Taluk) | E27: 57 | F27: 1434.02 | G27: 1609.55 | H27: 144.25 | I27: =H27+G27 -> 1753.8 | J27: S.R.Bellary | K27: 17.10.2012 | L27: 17.09.2013 | M27: 03.11.2013 | N27: 0 | O27: 25.83 | P27: =N27+O27 -> 25.83 | Q27: 0 | R27: 26.06 | S27: =SUM(Q27:R27) -> 26.06 | T27: 0 | U27: 26.06 | V27: =T27+U27 -> 26.06 | W27: =V27/S27 -> 1 | X27: =Q27-T27 -> 0 | Y27: =R27-U27 -> 0 | Z27: =X27+Y27 -> 0 | AA27: 1750.33 | AB27: =I27-AA27 -> 3.47 | AC27: Completed
A28: 11 | B28: PWD/ 45/EAP/11 | C28: 11 | D28: Improvements to Birur - Sammasagi SH-76 from km 125.01 to km 189.00 (In selected reaches) (Haligeri, koda of Ranebennuru & Hirekerur Taluk) | E28: 76 | F28: 1452.21 | G28: 1616.25 | H28: 98.97 | I28: =H28+G28 -> 1715.22 | J28: S.R.Bellary | K28: 17.10.2012 | L28: 17.09.2013 | M28: 16.11.2013 | N28: 6.14 | O28: 24.95 | P28: =SUM(N28:O28) -> 31.09 | Q28: 6.12 | R28: 24.98 | S28: =Q28+R28 -> 31.1 | T28: 6.12 | U28: 24.98 | V28: =T28+U28 -> 31.1 | W28: =V28/S28 -> 1 | X28: =Q28-T28 -> 0 | Y28: =R28-U28 -> 0 | Z28: =X28+Y28 -> 0 | AA28: 1666.76 | AB28: =I28-AA28 -> 48.46 | AC28: Completed
A29: DIVISION TOTAL | F29: =SUM(F25:F28) -> 5047.91 | G29: =SUM(G25:G28) -> 5768.24 | H29: =SUM(H25:H28) -> 463.9 | I29: =SUM(I25:I28) -> 6232.14 | N29: =SUM(N25:N28) -> 34.77 | O29: =SUM(O25:O28) -> 79.11 | P29: =SUM(P25:P28) -> 113.88 | Q29: =SUM(Q25:Q28) -> 28.77 | R29: =SUM(R25:R28) -> 77.22 | S29: =SUM(S25:S28) -> 105.99 | T29: =SUM(T25:T28) -> 28.77 | U29: =SUM(U25:U28) -> 77.22 | V29: =SUM(V25:V28) -> 105.99 | W29: =V29/S29 -> 1 | X29: =SUM(X25:X28) -> 0 | Y29: =SUM(Y25:Y28) -> 0 | Z29: =SUM(Z25:Z28) -> 0 | AA29: =SUM(AA25:AA28) -> 6142.54 | AB29: =SUM(AB25:AB28) -> 89.6
A30: SIRSI DIVISION
A31: 12 | B31: PWD/ 45/EAP/12 | C31: 12a | D31: Improvements to Kumta - Tadas SH - 69 from km 0.00 to km 27.15(In selected reaches)(from kumta to Sirsi Taluk Border via Alkod of Karwar Taluk) | E31: 69 | F31: 1207.5 | G31: 1075.97 | H31: 183.74 | I31: =G31+H31 -> 1259.71 | J31: Ramashree Global Construction | K31: 16.10.2012 | L31: 16.09.2013 | M31: 30.04.2014 | N31: 16.4 | O31: 1.6 | P31: =N31+O31 -> 18 | Q31: 16.4 | R31: 1.6 | S31: =Q31+R31 -> 18 | T31: 16.4 | U31: 1.6 | V31: =T31+U31 -> 18 | W31: =V31/S31 -> 1 | X31: =Q31-T31 -> 0 | Y31: =R31-U31 -> 0 | Z31: =X31+Y31 -> 0 | AA31: 1259.94 | AB31: =I31-AA31 -> -0.23 | AC31: Completed
C32: 12b | D32: Improvements to Karwar Kaiga Ilkal SH-06 from km 0.50 to km 69.40(In selected reaches)(Shirwadi, Wailwadi of Karwar Taluk) | E32: 6 | N32: 41.25 | O32: 0 | P32: =N32+O32 -> 41.25 | Q32: 25.95 | R32: 15.15 | S32: =Q32+R32 -> 41.1 | T32: 25.95 | U32: 15.15 | V32: =T32+U32 -> 41.1 | W32: =V32/S32 -> 1 | X32: =Q32-T32 -> 0 | Y32: =R32-U32 -> 0 | Z32: =X32+Y32 -> 0
A33: DIVISION TOTAL | F33: =SUM(F31) -> 1207.5 | G33: =SUM(G31) -> 1075.97 | H33: =SUM(H31) -> 183.74 | I33: =SUM(I31) -> 1259.71 | N33: =SUM(N31:N32) -> 57.65 | O33: =SUM(O31:O32) -> 1.6 | P33: =SUM(P31:P32) -> 59.25 | Q33: =SUM(Q31:Q32) -> 42.35 | R33: =SUM(R31:R32) -> 16.75 | S33: =SUM(S31:S32) -> 59.1 | T33: =SUM(T31:T32) -> 42.35 | U33: =SUM(U31:U32) -> 16.75 | V33: =V31+V32 -> 59.1 | W33: =V33/S33 -> 1 | X33: =SUM(X31:X32) -> 0 | Y33: =SUM(Y31:Y32) -> 0 | Z33: =X33+Y33 -> 0 | AA33: =SUM(AA31) -> 1259.94
A34: KARWAR DIVISION | T34: 0 | U34: 0
A35: 13 | B35: PWD/ 45/EAP/13 | C35: 13a | D35: Improvements to Kumta Tadas SH-69 from km 40.00 to km 83.70 (In selected reaches) (Sirsi,Isloor of Sirsi Taluk) | E35: 69 | F35: 1717.28 | G35: 1494.82 | H35: 0 | I35: =G35+H35 -> 1494.82 | J35: N.S.Nayak | K35: 16.10.2012 | L35: 17.06.2013 | M35: 17.06.2013 | N35: 22 | O35: 6.54 | P35: =N35+O35 -> 28.54 | Q35: 24.59 | R35: 2.47 | S35: =Q35+R35 -> 27.06 | T35: 24.59 | U35: 2.47 | V35: =T35+U35 -> 27.06 | W35: =V35/S35 -> 1 | X35: =Q35-T35 -> 0 | Y35: =R35-U35 -> 0 | Z35: =X35+Y35 -> 0 | AA35: 1390.06 | AB35: =I35-AA35 -> 104.76 | AC35: Completed
C36: 13b | D36: Improvements to Karwar - Kaiga - Ilkal SH-06 from km 69.40 to km125.80 (In selected reaches) (Idagundi, Yellapur Taluk) | E36: 6 | N36: 29.64 | O36: 17.86 | P36: =N36+O36 -> 47.5 | Q36: 29.64 | R36: 18.13 | S36: =Q36+R36 -> 47.77 | T36: 29.64 | U36: 18.132 | V36: =T36+U36 -> 47.772 | W36: =V36/S36 -> 1.0000419 | X36: =Q36-T36 -> 0 | Y36: =R36-U36 -> -0.002 | Z36: =X36+Y36 -> -0.002
A37: DIVISION TOTAL | F37: =SUM(F35) -> 1717.28 | G37: =SUM(G35) -> 1494.82 | H37: =SUM(H35) -> 0 | I37: =SUM(I35) -> 1494.82 | N37: =SUM(N35:N36) -> 51.64 | O37: =SUM(O35:O36) -> 24.4 | P37: =SUM(P35:P36) -> 76.04 | Q37: =SUM(Q35:Q36) -> 54.23 | R37: =SUM(R35:R36) -> 20.6 | S37: =SUM(S35:S36) -> 74.83 | T37: =SUM(T35:T36) -> 54.23 | U37: =SUM(U35:U36) -> 20.602 | V37: =SUM(V35:V36) -> 74.832 | W37: =V37/S37 -> 1.0000267 | X37: =SUM(X35:X36) -> 0 | Y37: =SUM(Y35:Y36) -> -0.002 | Z37: =X37+Y37 -> -0.002 | AA37: =SUM(AA35:AA36) -> 1390.06 | AB37: =SUM(AB35:AB36) -> 104.76
A38: DHARWAD CIRCLE TOTAL | F38: =F37+F33+F29+F23+F14 -> 25217.92 | G38: =G37+G33+G29+G23+G14 -> 25944.04 | H38: =H37+H33+H29+H23+H14 -> 2648.09 | I38: =I37+I33+I29+I23+I14 -> 28592.13 | N38: =N37+N33+N29+N23+N14 -> 233.27 | O38: =O37+O33+O29+O23+O14 -> 392.04 | P38: =P37+P33+P29+P23+P14 -> 625.31 | Q38: =Q37+Q33+Q29+Q23+Q14 -> 208.22 | R38: =R37+R33+R29+R23+R14 -> 391.06 | S38: =S37+S33+S29+S23+S14 -> 599.28 | T38: =T37+T33+T29+T23+T14 -> 208.22 | U38: =U37+U33+U29+U23+U14 -> 391.062 | V38: =V37+V33+V29+V23+V14 -> 599.282 | W38: =V38/S38 -> 1.0000033 | X38: =X37+X33+X29+X23+X14 -> 0 | Y38: =Y37+Y33+Y29+Y23+Y14 -> -0.002 | Z38: =Z37+Z33+Z29+Z23+Z14 -> -0.002 | AA38: =AA37+AA33+AA29+AA23+AA14 -> 28568.07 | AB38: =AB37+AB33+AB29+AB23+AB14 -> 244.88
A39: BELAGAVI CIRCLE
A40: BELAGAVI DIVISION
A41: 14 | B41: PWD/ 45/EAP/14 | C41: 14a | D41: Improvements to Khanapur - Talaguppa SH - 93 from km 0.00 to km 34.58 (In selected reaches) (Khanapur of Kahanapur Taluk) | E41: 93 | F41: 2266.02 | G41: 2212.08 | H41: -7.17 | I41: =G41+H41 -> 2204.91 | J41: M/s. P.R. Nayak. Hubli | K41: 41194 | L41: 41528 | M41: 24.05.2013 | N41: 31.57 | O41: 1.456 | P41: =N41+O41 -> 33.026 | Q41: 33.03 | R41: 0 | S41: =SUM(Q41:R41) -> 33.03 | T41: 33.03 | U41: 0 | V41: =T41+U41 -> 33.03 | W41: =V41/S41 -> 1 | X41: =Q41-T41 -> 0 | Y41: =R41-U41 -> 0 | Z41: =X41+Y41 -> 0 | AA41: 2220.59 | AB41: 0 | AC41: Completed
...
