Workbook
Name finI_40: '[1]South Zone'!$T$113
Name finI_41: '[1]South Zone'!$T$117
Name finI_42: '[1]South Zone'!$T$118
Name finI_43: '[1]South Zone'!$T$122
Name finI_44: '[1]South Zone'!$T$125
Name finI_45: '[1]South Zone'!$T$127
Name finI_46: '[1]South Zone'!$T$129
Name finI_47: '[1]South Zone'!$T$132
Name finI_48: '[1]South Zone'!$T$134
Name finI_49: '[1]South Zone'!$T$137
Name finI_50: '[1]South Zone'!$T$138
Name finI_51: '[1]South Zone'!$T$142
Name finI_52: '[1]South Zone'!$T$145
Name finI_53: '[1]South Zone'!$T$148
Name finI_54: '[1]South Zone'!$T$150
Name finI_55: '[1]South Zone'!#REF!
Name finI_56: '[1]South Zone'!#REF!
Name finI_57: '[1]South Zone'!#REF!
Name finI_58: '[1]South Zone'!#REF!
Name finI_59: '[1]South Zone'!#REF!
Name finI_60: '[1]South Zone'!#REF!
Name finI_61: '[1]South Zone'!#REF!
Name finI_62: '[1]South Zone'!$T$171
Name finI_63: '[1]South Zone'!$T$174
Name finI_64: '[1]South Zone'!$T$177
Name finI_65: '[1]South Zone'!$T$181
Name finI_66: '[1]South Zone'!#REF!
Name finR_38: '[1]South Zone'!$U$107
Name finR_39: '[1]South Zone'!$U$110
Name finR_40: '[1]South Zone'!$U$113
Name finR_41: '[1]South Zone'!$U$117
Name finR_42: '[1]South Zone'!$U$118
Name finR_43: '[1]South Zone'!$U$122
Name finR_44: '[1]South Zone'!$U$125
Name finR_45: '[1]South Zone'!$U$127
Name finR_46: '[1]South Zone'!$U$129
Name finR_47: '[1]South Zone'!$U$132
Name finR_48: '[1]South Zone'!$U$134
Name finR_49: '[1]South Zone'!$U$137
Name finR_50: '[1]South Zone'!$U$138
Name finR_51: '[1]South Zone'!$U$142
Name finR_52: '[1]South Zone'!$U$145
Name finR_53: '[1]South Zone'!$U$148
Name finR_54: '[1]South Zone'!$U$150
Name finR_55: '[1]South Zone'!#REF!
Name finR_56: '[1]South Zone'!#REF!
Name finR_57: '[1]South Zone'!#REF!
Name finR_58: '[1]South Zone'!#REF!
Name finR_59: '[1]South Zone'!#REF!
Name finR_60: '[1]South Zone'!#REF!
Name finR_61: '[1]South Zone'!#REF!
Name finR_62: '[1]South Zone'!$U$171
Name finR_63: '[1]South Zone'!$U$174
Name finR_64: '[1]South Zone'!$U$177
Name finR_65: '[1]South Zone'!$U$181
Name finR_66: '[1]South Zone'!#REF!
Name phyI_38: '[1]South Zone'!$P$107
Name phyI_39: '[1]South Zone'!$P$110
Name phyI_40: '[1]South Zone'!$P$113
Name phyI_41: '[1]South Zone'!$P$117

Sheet Phase II
A1: GOVERNMENT OF KARNATAKA, PIU - STATE HIGHWAY DEVELOPMENT PROJECT, K.R.CIRCLE, BANGALORE
A2: SHDP - PHASE - II PROGRESS REPORT
A3: 44530
A4: Sl No | B4: Package No. | D4: Name of Work | E4: SH No. | F4: Administrative Approved Amount (Rs. in lakhs) | G4: Technical sanctioned Amount (Rs. in lakhs) | H4: CER No. | I4: Contract Amount (Rs. in lakhs) | J4: Variation Amount (Rs. in lakhs) | K4: Revised Contract Amount (Rs. in lakhs) | L4: Name of Contractor | M4: Date Of Completion | P4: Length Proposed as per DPR in Km | S4: Length Proposed as per VO in Km | V4: Physical Progress | Z4: Financial Progress | AB4: Balance Length ( Km ) | AE4: Balance (Financial amount) Rs. In Lakhs | AF4: Remarks
M5: Commencement | N5: Completion | O5: Revised | P5: Length (in km) Renewal | Q5: Length (in km) Improvements | R5: Total Length (in km) | S5: Length (in km) Renewal | T5: Length (in km) Improvements | U5: Total Length (in km) | V5: Renewal (km) | W5: Improvements (km) | X5: Total Length Completed (in km) | Y5: % Progress | Z5: Total (Rs. In Lakhs) | AA5: % Progress | AB5: Renewal (km) | AC5: Improvements (km) | AD5: Total Balance Length (in km)
A6: 1 | B6: 2 | D6: 3 | E6: 4 | F6: 5 | G6: 6 | H6: 7 | I6: 8 | J6: 9 | K6: 10 | L6: 11 | M6: 12 | N6: 13 | O6: 14 | P6: 15 | Q6: 16 | R6: 17 | S6: 18 | T6: 19 | U6: 20 | V6: 21 | W6: 22 | X6: 23 | Y6: 24 | Z6: 25 | AA6: 26 | AB6: 27 | AC6: 28 | AD6: 29 | AE6: 30 | AF6: 31
A7: GULBARGA CIRCLE
A8: BIDAR DIVISION
A9: 1 | B9: Pkg 67 | C9: 67a | D9: Improvements to Bhalki-Chincholi road SH-75 from km 0.00 to 51.00 (in selected Reaches)in Bidar Dist. | E9: 75 | F9: 1989.24 | G9: 1929.99 | H9: CER No.: 50/2013-14 | I9: 2311.59 | J9: 220.33 | K9: =I9+J9 -> 2531.92 | L9: Sri.Gurunath Kollur | M9: 22.01.2014 | N9: 21.12.2014 | O9: 31.03.2015 | P9: 11.3 | Q9: 13.1 | R9: =P9+Q9 -> 24.4 | S9: 2.5 | T9: 7.572 | U9: =SUM(S9:T9) -> 10.072 | V9: 2.5 | W9: 7.572 | X9: =V9+W9 -> 10.072 | Y9: =X9/U9 -> 1 | Z9: 2547.38 | AA9: =Z9/I9 -> 1.1020034 | AB9: =S9-V9 -> 0 | AC9: =T9-W9 -> 0 | AD9: =AB9+AC9 -> 0 | AE9: =K9-Z9 -> -15.46 | AF9: Completed
C10: 67b | D10: Improvements to Basavakalyan-Raichur road SH-51 from km 0.00 to 33.00 (in selected reaches) in Basavakalyan Tq.of Bidar Dist. | E10: 51 | P10: 18.3 | Q10: 14.7 | R10: =P10+Q10 -> 33 | S10: 0 | T10: 31 | U10: =SUM(S10:T10) -> 31 | V10: 0 | W10: 31 | X10: =V10+W10 -> 31 | Y10: =X10/U10 -> 1 | AB10: =S10-V10 -> 0 | AC10: =T10-W10 -> 0 | AD10: =AB10+AC10 -> 0
A11: DIVISION TOTAL | F11: =SUM(F9) -> 1989.24 | G11: =SUM(G9) -> 1929.99 | I11: =SUM(I9) -> 2311.59 | J11: =SUM(J9) -> 220.33 | K11: =SUM(K9) -> 2531.92 | P11: =SUM(P9:P10) -> 29.6 | Q11: =SUM(Q9:Q10) -> 27.8 | R11: =SUM(R9:R10) -> 57.4 | S11: =SUM(S9:S10) -> 2.5 | T11: =SUM(T9:T10) -> 38.572 | U11: =SUM(U9:U10) -> 41.072 | V11: =SUM(V9:V10) -> 2.5 | W11: =SUM(W9:W10) -> 38.572 | X11: =SUM(X9:X10) -> 41.072 | Y11: =X11/U11 -> 1 | Z11: =SUM(Z9) -> 2547.38 | AB11: =SUM(AB9:AB10) -> 0 | AC11: =SUM(AC9:AC10) -> 0 | AD11: =SUM(AD9:AD10) -> 0 | AE11: =SUM(AE9) -> -15.46
A12: GULBARGA DIVISION
A13: 2 | B13: Pkg 68 | C13: 68 | D13: Improvements to Gulbarga - Hosur road SH-22 from km 58.15 to 99.80 (in selected reaches) in Gulbarga Dist. | E13: 22 | F13: 2193.5 | G13: 2124.59 | H13: CER No.: 21/2013-14 | I13: 2534.94 | J13: -147.6 | K13: =I13+J13 -> 2387.34 | L13: M/s SRK construction | M13: 26.12.2013 | N13: 25.11.2014 | O13: 42460 | P13: 0 | Q13: 19.8 | R13: =P13+Q13 -> 19.8 | S13: 0 | T13: 19.8 | U13: =SUM(S13:T13) -> 19.8 | V13: 0 | W13: 19.8 | X13: =V13+W13 -> 19.8 | Y13: =X13/U13 -> 1 | Z13: 2288.62 | AA13: =Z13/I13 -> 0.90283005 | AB13: =S13-V13 -> 0 | AC13: =T13-W13 -> 0 | AD13: =AB13+AC13 -> 0 | AE13: =K13-Z13 -> 98.72 | AF13: Completed
A14: 3 | B14: Pkg 69 | C14: 69a | D14: Improvements to Basavakalyan - Raichur road SH-51 from km.32.85 to 115.00 (in selected reaches) in Gulbarga Dist. | E14: 51 | F14: 3251 | G14: 3138.72 | H14: CER No.: 23/2013-14 | I14: 3750.42 | J14: 367.46 | K14: =I14+J14 -> 4117.88 | L14: M/S Haigreeva infratech projects ltd | M14: 26.12.2013 | N14: 25.11.2014 | O14: 42460 | P14: 12.6 | Q14: 39.3 | R14: =P14+Q14 -> 51.9 | S14: 0 | T14: 25.3 | U14: =SUM(S14:T14) -> 25.3 | V14: 0 | W14: 25.3 | X14: =V14+W14 -> 25.3 | Y14: =X14/U14 -> 1 | Z14: 4029.72 | AA14: =Z14/I14 -> 1.0744717 | AB14: =S14-V14 -> 0 | AC14: =T14-W14 -> 0 | AD14: =AB14+AC14 -> 0 | AE14: =K14-Z14 -> 88.16 | AF14: Completed
C15: 69b | D15: Improvements to Bhalki - Chincholi road SH-75 from km.57.60 to 92.20 (in selected reaches) in Gulbarga Dist. | E15: 75 | P15: 3 | Q15: 19 | R15: =P15+Q15 -> 22 | S15: 0 | T15: 16.5 | U15: =SUM(S15:T15) -> 16.5 | V15: 0 | W15: 16.5 | X15: =V15+W15 -> 16.5 | Y15: =X15/U15 -> 1 | AB15: =S15-V15 -> 0 | AC15: =T15-W15 -> 0 | AD15: =AB15+AC15 -> 0
A16: 4 | B16: Pkg 70 | C16: 70 | D16: Improvements to Shahapur - Shivarampur road SH-149 from km.22.61 to 125.44 (in selected reaches)in Gulbarga Dist. | E16: 149 | F16: 2649 | G16: 2564.76 | H16: CER No.: 20/2013-14 | I16: 2985.07 | J16: 295.71 | K16: =I16+J16 -> 3280.78 | L16: M/s S.M.Autade | M16: 26.12.2013 | N16: 25.11.2014 | O16: 42308 | P16: 7.94 | Q16: 49.69 | R16: =P16+Q16 -> 57.63 | S16: 0 | T16: 33.99 | U16: =SUM(S16:T16) -> 33.99 | V16: 0 | W16: 33.99 | X16: =V16+W16 -> 33.99 | Y16: =X16/U16 -> 1 | Z16: 3257.76 | AA16: =Z16/I16 -> 1.0913513 | AB16: =S16-V16 -> 0 | AC16: =T16-W16 -> 0 | AD16: =AB16+AC16 -> 0 | AE16: =K16-Z16 -> 23.02 | AF16: Completed
A17: 5 | B17: Pkg 71 | C17: 71 | D17: Improvements to Shahapur - Shivarampur road SH-149 from km.132.35 to 197.80 (in selected reaches) in Gulbarga Dist. | E17: 149 | F17: 2359 | G17: 2273.03 | H17: CER No.: 19/2013-14 | I17: 2711.75 | J17: =2979.85-2711.75 -> 268.1 | K17: =I17+J17 -> 2979.85 | L17: M/s S.M.Autade | M17: 26.12.2013 | N17: 25.11.2014 | O17: 42308 | P17: 19.09 | Q17: 40.57 | R17: =P17+Q17 -> 59.66 | S17: 3 | T17: 22.01 | U17: =SUM(S17:T17) -> 25.01 | V17: 3 | W17: 22.01 | X17: =V17+W17 -> 25.01 | Y17: =X17/U17 -> 1 | Z17: 2964.49 | AA17: =Z17/I17 -> 1.0932018 | AB17: =S17-V17 -> 0 | AC17: =T17-W17 -> 0 | AD17: =AB17+AC17 -> 0 | AE17: =K17-Z17 -> 15.36 | AF17: Completed
A18: DIVISION TOTAL | F18: =SUM(F13:F17) -> 10452.5 | G18: =SUM(G13:G17) -> 10101.1 | I18: =SUM(I13:I17) -> 11982.18 | J18: =SUM(J13:J17) -> 783.67 | K18: =SUM(K13:K17) -> 12765.85 | P18: =SUM(P13:P17) -> 42.63 | Q18: =SUM(Q13:Q17) -> 168.36 | R18: =SUM(R13:R17) -> 210.99 | S18: =SUM(S13:S17) -> 3 | T18: =SUM(T13:T17) -> 117.6 | U18: =SUM(U13:U17) -> 120.6 | V18: =SUM(V13:V17) -> 3 | W18: =SUM(W13:W17) -> 117.6 | X18: =SUM(X13:X17) -> 120.6 | Y18: =X18/U18 -> 1 | Z18: =SUM(Z13:Z17) -> 12540.59 | AB18: =SUM(AB13:AB17) -> 0 | AC18: =SUM(AC13:AC17) -> 0 | AD18: =SUM(AD13:AD17) -> 0 | AE18: =SUM(AE13:AE17) -> 225.26
A19: YADGIR DIVISION
A20: 6 | B20: Pkg 72 | C20: 72 | D20: Improvements to Srirangapatna - Jewargi road SH-19 from km 505.500 to 542.00 (in selected reaches) in Yadgir Dist. | E20: 19 | F20: 2105 | G20: 1951.24 | H20: CER No.: 17/2013-14 | I20: 2389.62 | J20: 232.42 | K20: =J20+I20 -> 2622.04 | L20: M/s H.P.Madhukar | M20: 26.12.2013 | N20: 25.11.2014 | O20: 31.03.2015 | P20: 0 | Q20: 37.2 | R20: =P20+Q20 -> 37.2 | S20: 12.5 | T20: 38.2 | U20: =S20+T20 -> 50.7 | V20: 12.5 | W20: 38.2 | X20: =V20+W20 -> 50.7 | Y20: =X20/U20 -> 1 | Z20: 2631.68 | AA20: =Z20/K20 -> 1.0036765 | AB20: =S20-V20 -> 0 | AC20: =T20-W20 -> 0 | AD20: =AB20+AC20 -> 0 | AE20: =K20-Z20 -> -9.64 | AF20: Completed
A21: 7 | B21: Pkg 73 | C21: 73 | D21: Improvements to Sindagi - Kodangal road SH-16 from km 40.00 to 73.30 (in selected reaches) in Yadgir Dist. | E21: 16 | F21: 1540.42 | G21: 1408.33 | H21: CER No.: 22/2013-14 | I21: 1688.24 | J21: 165.49 | K21: =SUM(I21:J21) -> 1853.73 | L21: M/S Haigreeva infratech projects ltd | M21: 26.12.2013 | N21: 25.11.2014 | O21: 42307 | P21: 5 | Q21: 27.9 | R21: =P21+Q21 -> 32.9 | S21: 0 | T21: 27.73 | U21: =S21+T21 -> 27.73 | V21: 0 | W21: 27.73 | X21: =V21+W21 -> 27.73 | Y21: =X21/U21 -> 1 | Z21: 1847.34 | AA21: =Z21/K21 -> 0.9965529 | AB21: =S21-V21 -> 0 | AC21: =T21-W21 -> 0 | AD21: =AB21+AC21 -> 0 | AE21: =K21-Z21 -> 6.39 | AF21: Completed
A22: DIVISION TOTAL | F22: =SUM(F20:F21) -> 3645.42 | G22: =SUM(G20:G21) -> 3359.57 | I22: =SUM(I20:I21) -> 4077.86 | J22: =SUM(J20:J21) -> 397.91 | K22: =SUM(K20:K21) -> 4475.77 | P22: =SUM(P20:P21) -> 5 | Q22: =SUM(Q20:Q21) -> 65.1 | R22: =SUM(R20:R21) -> 70.1 | S22: =SUM(S20:S21) -> 12.5 | T22: =SUM(T20:T21) -> 65.93 | U22: =SUM(U20:U21) -> 78.43 | V22: =SUM(V20:V21) -> 12.5 | W22: =SUM(W20:W21) -> 65.93 | X22: =SUM(X20:X21) -> 78.43 | Y22: =X22/U22 -> 1 | Z22: =SUM(Z20:Z21) -> 4479.02 | AA22: =Z22/K22 -> 1.0007261 | AB22: =SUM(AB20:AB21) -> 0 | AC22: =SUM(AC20:AC21) -> 0 | AD22: =SUM(AD20:AD21) -> 0 | AE22: =SUM(AE20:AE21) -> -3.25
A23: GULBARGA CIRCLE TOTAL | F23: =F22+F18+F11 -> 16087.16 | G23: =G22+G18+G11 -> 15390.66 | I23: =I22+I18+I11 -> 18371.63 | J23: =J22+J18+J11 -> 1401.91 | K23: =K22+K18+K11 -> 19773.54 | P23: =P22+P18+P11 -> 77.23 | Q23: =Q22+Q18+Q11 -> 261.26 | R23: =R22+R18+R11 -> 338.49 | S23: =S22+S18+S11 -> 18 | T23: =T22+T18+T11 -> 222.102 | U23: =U22+U18+U11 -> 240.102 | V23: =V22+V18+V11 -> 18 | W23: =W22+W18+W11 -> 222.102 | X23: =X22+X18+X11 -> 240.102 | Y23: =X23/U23 -> 1 | Z23: =Z22+Z18+Z11 -> 19566.99 | AA23: =Z23/K23 -> 0.98955422 | AB23: =AB22+AB18+AB11 -> 0 | AC23: =AC22+AC18+AC11 -> 0 | AD23: =AD22+AD18+AD11 -> 0 | AE23: =AE22+AE18+AE11 -> 206.55
A24: BELLARY CIRCLE
A25: RAICHUR DIVISION
A26: 1 | B26: 74 | D26: Improvements to Managuli - Yeragera State Highway -127 frorn Krn 94.64 to Krn 134.91(selected reaches) in Devadurga Taluka of Raichur District. | E26: 127 | F26: 1968 | G26: 1920.22 | H26: CER No.: 14/2013-14 | I26: 2252.9 | J26: 222.1 | K26: =I26+J26 -> 2475 | L26: M/S Haigreeva infratech projects ltd | M26: 41636 | N26: 41970 | O26: 42460 | P26: 4.72 | Q26: 35.1 | R26: =SUM(P26:Q26) -> 39.82 | S26: 0 | T26: 36.4 | U26: =SUM(S26:T26) -> 36.4 | V26: 0 | W26: 36.4 | X26: =V26+W26 -> 36.4 | Y26: =X26/U26 -> 1 | Z26: 2408.89 | AA26: =Z26/I26 -> 1.0692396 | AB26: =S26-V26 -> 0 | AC26: =T26-W26 -> 0 | AD26: =AB26+AC26 -> 0 | AE26: =K26-Z26 -> 66.11 | AF26: Completed
A27: 2 | B27: 75 | C27: a | D27: (a)Irnprovements to Managuli - Bichal State Highway - 61 from Km 194.34 to Krn 239.03 (selectecl reaches) in Manvi Taluka of Raichur District. | E27: 61 | F27: 3864.2 | G27: 3675.138 | H27: CER No.: 44/2013-14 | I27: 4540.58 | J27: 1117 | K27: =I27+J27 -> 5657.58 | L27: M/s KBR Infratech Ltd | M27: 41829 | N27: 42163 | O27: 42490 | P27: 24.43 | Q27: 16.835 | R27: =SUM(P27:Q27) -> 41.265 | S27: 0 | T27: 20.671 | U27: =SUM(S27:T27) -> 20.671 | V27: 0 | W27: 20.671 | X27: =V27+W27 -> 20.671 | Y27: =X27/U27 -> 1 | Z27: 5155.69 | AA27: =Z27/I27 -> 1.1354695 | AB27: =S27-V27 -> 0 | AC27: =T27-W27 -> 0 | AD27: =AB27+AC27 -> 0 | AE27: =K27-Z27 -> 501.89 | AF27: Completed
C28: b | D28: (b)Improvements to Deodurg - Bellary State Highway-128 from Km76.24 to Km 108.16 (selected reaches) in Sindanur Taluka of Raichur District. | E28: 128 | P28: 9.66 | Q28: 18.3 | R28: =SUM(P28:Q28) -> 27.96 | S28: 0 | T28: =23.16-1.7 -> 21.46 | U28: =SUM(S28:T28) -> 21.46 | V28: 0 | W28: 21.46 | X28: =V28+W28 -> 21.46 | Y28: =X28/U28 -> 1 | AB28: =S28-V28 -> 0 | AC28: =T28-W28 -> 0 | AD28: =AB28+AC28 -> 0
C29: c | D29: (c )Improvements to Chikkesaruru - Mundargi State Highway-129 from Km 0.00 to Km 5l.63 (Selected reaches) in Lingasugur Taluka of Raichur District | E29: 129 | P29: 32.76 | Q29: 8.57 | R29: =SUM(P29:Q29) -> 41.33 | S29: 0 | T29: 19.53 | U29: =SUM(S29:T29) -> 19.53 | V29: 0 | W29: 19.53 | X29: =V29+W29 -> 19.53 | Y29: =X29/U29 -> 1 | AB29: =S29-V29 -> 0 | AC29: =T29-W29 -> 0 | AD29: =AB29+AC29 -> 0
A30: Division Total | F30: =SUM(F26:F29) -> 5832.2 | G30: =SUM(G26:G29) -> 5595.358 | I30: =SUM(I26:I29) -> 6793.48 | J30: =SUM(J26:J29) -> 1339.1 | K30: =SUM(K26:K29) -> 8132.58 | P30: =SUM(P26:P29) -> 71.57 | Q30: =SUM(Q26:Q29) -> 78.805 | R30: =SUM(R26:R29) -> 150.375 | S30: =SUM(S26:S29) -> 0 | T30: =SUM(T26:T29) -> 98.061 | U30: =SUM(U26:U29) -> 98.061 | V30: =SUM(V26:V29) -> 0 | W30: =SUM(W26:W29) -> 98.061 | X30: =SUM(X26:X29) -> 98.061 | Y30: =X30/U30 -> 1 | Z30: =SUM(Z26:Z29) -> 7564.58 | AA30: =Z30/K30 -> 0.93015747 | AB30: =SUM(AB26:AB29) -> 0 | AC30: =SUM(AC26:AC29) -> 0 | AD30: =SUM(AD26:AD29) -> 0 | AE30: =SUM(AE26:AE29) -> 568
A31: BELLARY DIVISION
A32: 3 | B32: 76 | C32: a | D32: Improvements to Raravi - Belur State Highway-63 from Km 13.00 to Km 23.54 (selected reaches) in Siraguppa Taluka of Bellary District. | E32: 63 | F32: 2616 | G32: 2558.56 | H32: CER No.:16/2013-14 | I32: 2829.39 | J32: 703.3 | K32: =I32+J32 -> 3532.69 | L32: Sri.Srinivasa Constructions (India) Pvt.Ltd | M32: 41636 | N32: 41970 | O32: 42460 | P32: 0 | Q32: 10.538 | R32: =SUM(P32:Q32) -> 10.538 | S32: 0 | T32: 2.22 | U32: =SUM(S32:T32) -> 2.22 | V32: 0 | W32: 2.22 | X32: =V32+W32 -> 2.22 | Y32: =X32/U32 -> 1 | Z32: 3443.41 | AA32: =Z32/I32 -> 1.217015 | AB32: =S32-V32 -> 0 | AC32: =T32-W32 -> 0 | AD32: =AB32+AC32 -> 0 | AE32: =K32-Z32 -> 89.28 | AF32: Completed
C33: b | D33: lmprovements to Deodurg - Bellary State Highway-128 from Km 117.11 to Km 180.44 (selected reaches) in Siraguppa Taluka of Bellary District. | E33: 128 | P33: 27.19 | Q33: 29.65 | R33: =SUM(P33:Q33) -> 56.84 | S33: 0.3 | T33: 56.22 | U33: =SUM(S33:T33) -> 56.52 | V33: 0.3 | W33: 56.22 | X33: =V33+W33 -> 56.52 | Y33: =X33/U33 -> 1 | AB33: =S33-V33 -> 0 | AC33: =T33-W33 -> 0 | AD33: =AB33+AC33 -> 0
A34: 4 | B34: 77 | D34: lmprovements to Deodurg - Bellary State Highway-128 from 180.44 Km to Km266.26 (selected reaches) in Bellary Taluka of Bellary District. | E34: 128 | F34: 2497 | G34: 2429.72 | H34: CER NO:15/2013-14 | I34: 2699.59 | J34: 260.75 | K34: =I34+J34 -> 2960.34 | L34: Sri.Srinivasa Constructions (India) Pvt.Ltd | M34: 41636 | N34: 41970 | O34: 30.05.2015 | P34: 46.68 | Q34: 24.63 | R34: =SUM(P34:Q34) -> 71.31 | S34: 20.76 | T34: 33.81 | U34: =SUM(S34:T34) -> 54.57 | V34: 20.76 | W34: 33.81 | X34: =V34+W34 -> 54.57 | Y34: =X34/U34 -> 1 | Z34: 2594.84 | AA34: =Z34/I34 -> 0.96119781 | AB34: =S34-V34 -> 0 | AC34: 0 | AD34: =AB34+AC34 -> 0 | AE34: =K34-Z34 -> 365.5 | AF34: Completed
A35: DIVISION TOTAL | F35: =SUM(F32:F34) -> 5113 | G35: =SUM(G32:G34) -> 4988.28 | I35: =SUM(I32:I34) -> 5528.98 | J35: =SUM(J32:J34) -> 964.05 | K35: =SUM(K32:K34) -> 6493.03 | P35: =SUM(P32:P34) -> 73.87 | Q35: =SUM(Q32:Q34) -> 64.818 | R35: =SUM(R32:R34) -> 138.688 | S35: =SUM(S32:S34) -> 21.06 | T35: =SUM(T32:T34) -> 92.25 | U35: =SUM(U32:U34) -> 113.31 | V35: =SUM(V32:V34) -> 21.06 | W35: =SUM(W32:W34) -> 92.25 | X35: =SUM(X32:X34) -> 113.31 | Y35: =X35/U35 -> 1 | Z35: =SUM(Z32:Z34) -> 6038.25 | AA35: =Z35/K35 -> 0.92995874 | AB35: =SUM(AB32:AB34) -> 0 | AC35: =SUM(AC32:AC34) -> 0 | AD35: =SUM(AD32:AD34) -> 0 | AE35: =SUM(AE32:AE34) -> 454.78
A36: HADAGALI DIVISION
A37: 5 | B37: 78 | C37: a | D37: Improvements to Ekkumbi - Molakalmur State Highway-02 from Km 166.00 to Km 205.80 (in selected reaches) in Kudlgi Taluka of Bellary District. | E37: 2 | F37: 1214 | G37: 1176.69 | H37: CER NO:18/2013-14 | I37: 1396.15 | J37: 136.36 | K37: =J37+I37 -> 1532.51 | L37: Sali Basavaraj | M37: 41636 | N37: 41970 | O37: 27.11.2014 | P37: 0 | Q37: 7.8 | R37: =SUM(P37:Q37) -> 7.8 | S37: 0 | T37: 7.8 | U37: =SUM(S37:T37) -> 7.8 | V37: 0 | W37: 7.8 | X37: =V37+W37 -> 7.8 | Y37: =X37/U37 -> 1 | Z37: 1507.93 | AA37: =Z37/K37 -> 0.98396095 | AB37: =S37-V37 -> 0 | AC37: =T37-W37 -> 0 | AD37: =AB37+AC37 -> 0 | AE37: =K37-Z37 -> 24.58 | AF37: Completed
C38: b | D38: lmprovements to Arabhavi - Challakere State Highway-45 from Km 199.52 to Km 234.10 (selected reaches) in Hadagali Taluka of Bellary District | E38: 45 | P38: 0 | Q38: 16.085 | R38: =SUM(P38:Q38) -> 16.085 | S38: 0 | T38: 16.3 | U38: =SUM(S38:T38) -> 16.3 | V38: 0 | W38: 16.3 | X38: =V38+W38 -> 16.3 | Y38: =X38/U38 -> 1 | AB38: =S38-V38 -> 0 | AC38: =T38-W38 -> 0 | AD38: =AB38+AC38 -> 0
A39: DIVISION TOTAL | F39: =SUM(F37) -> 1214 | G39: =SUM(G37) -> 1176.69 | H39: =SUM(H37) -> 0 | I39: =SUM(I37) -> 1396.15 | J39: =SUM(J37) -> 136.36 | K39: =SUM(K37) -> 1532.51 | M39: =SUM(M37) -> 41636 | P39: =SUM(P37:P38) -> 0 | Q39: =SUM(Q37:Q38) -> 23.885 | R39: =SUM(R37:R38) -> 23.885 | S39: =SUM(S37:S38) -> 0 | T39: =SUM(T37:T38) -> 24.1 | U39: =SUM(U37:U38) -> 24.1 | V39: =SUM(V37:V38) -> 0 | W39: =SUM(W37:W38) -> 24.1 | X39: =SUM(X37:X38) -> 24.1 | Y39: =X39/U39 -> 1 | Z39: =SUM(Z37:Z38) -> 1507.93 | AA39: =Z39/K39 -> 0.98396095 | AB39: =SUM(AB37:AB38) -> 0 | AC39: =SUM(AC37:AC38) -> 0 | AD39: =SUM(AD37:AD38) -> 0 | AE39: =SUM(AE37) -> 24.58
A40: KOPPAL DIVISION
A41: 6 | B41: 79 | C41: a | D41: lmprovements to Sindhanoor - Hemmadga StateHighway-30 from Km 64.20 to Km 80.14 (selected reaches) in Kustagi Taluka of Koppal District | E41: 30 | F41: 2013 | G41: 1973.39 | H41: CER No:45/2013-14 | I41: 2317.36 | J41: 229.94 | K41: =J41+I41 -> 2547.3 | L41: Sri.Sai Constructions | M41: 41634 | N41: 41968 | O41: 31.03.2015 | P41: 15.94 | Q41: 0 | R41: =SUM(P41:Q41) -> 15.94 | S41: 6.19 | T41: 1.6 | U41: =SUM(S41:T41) -> 7.79 | V41: 6.19 | W41: 1.6 | X41: =V41+W41 -> 7.79 | Y41: =X41/U41 -> 1 | Z41: 2435.39 | AA41: =Z41/K41 -> 0.95606721 | AB41: =S41-V41 -> 0 | AC41: =T41-W41 -> 0 | AD41: =AB41+AC41 -> 0 | AE41: =K41-Z41 -> 111.91 | AF41: Completed
C42: b | D42: lmprovements to Chickhesaruru - Mundargi State Highway-129 from Km 144.40 to Km 183.00 (selected reaches) in Koppal Taluka of Koppal District | E42: 129 | P42: 27.78 | Q42: 10.82 | R42: =SUM(P42:Q42) -> 38.6 | S42: 0 | T42: 34.7 | U42: =SUM(S42:T42) -> 34.7 | V42: 0 | W42: 34.7 | X42: =V42+W42 -> 34.7 | Y42: =X42/U42 -> 1 | AB42: =S42-V42 -> 0 | AC42: =T42-W42 -> 0 | AD42: =AB42+AC42 -> 0
C43: c | D43: Improvements to Chickhesaruru - Mundargi State Highway-129 fiom Km 52.62 to Km 144.40 (selected reaches) in Kustagi Taluka of Koppal District | E43: 129 | P43: 8.56 | Q43: 13 | R43: =SUM(P43:Q43) -> 21.56 | S43: 8.53 | T43: 13.11 | U43: =SUM(S43:T43) -> 21.64 | V43: 8.53 | W43: 13.11 | X43: =V43+W43 -> 21.64 | Y43: =X43/U43 -> 1 | AB43: =S43-V43 -> 0 | AC43: =T43-W43 -> 0 | AD43: =AB43+AC43 -> 0
A44: 7 | B44: 80 | D44: Improvements to Raravi - Belur State Highway-63 from Km 58.22 to Km 159.48 (selected reaches) in Gangavati, Koppal & Yalaburga Talukas of Koppal District | E44: 63 | F44: 2218 | G44: 2150.52 | H44: CER No:43/2013-14 | I44: 2395.8 | J44: 238.03 | K44: =J44+I44 -> 2633.83 | L44: Sri.Saranappa R Alur | M44: 41636 | N44: 41970 | O44: 27.11.2014 | P44: 61.81 | Q44: 21.02 | R44: =SUM(P44:Q44) -> 82.83 | S44: 0 | T44: 53.07 | U44: =SUM(S44:T44) -> 53.07 | V44: 0 | W44: 53.07 | X44: =V44+W44 -> 53.07 | Y44: =X44/U44 -> 1 | Z44: 2586.77 | AA44: =Z44/K44 -> 0.98213248 | AB44: =S44-V44 -> 0 | AC44: =T44-W44 -> 0 | AD44: =AB44+AC44 -> 0 | AE44: =K44-Z44 -> 47.06 | AF44: Completed
A45: Division Total | F45: =SUM(F41:F44) -> 4231 | G45: =SUM(G41:G44) -> 4123.91 | I45: =SUM(I41:I44) -> 4713.16 | J45: =SUM(J41:J44) -> 467.97 | K45: =SUM(K41:K44) -> 5181.13 | P45: =SUM(P41:P44) -> 114.09 | Q45: =SUM(Q41:Q44) -> 44.84 | R45: =SUM(R41:R44) -> 158.93 | S45: =SUM(S41:S44) -> 14.72 | T45: =SUM(T41:T44) -> 102.48 | U45: =SUM(U41:U44) -> 117.2 | V45: =SUM(V41:V44) -> 14.72 | W45: =SUM(W41:W44) -> 102.48 | X45: =SUM(X41:X44) -> 117.2 | Y45: =X45/U45 -> 1 | Z45: =SUM(Z41:Z44) -> 5022.16 | AA45: =Z45/K45 -> 0.9693175 | AB45: =SUM(AB41:AB44) -> 0 | AC45: =SUM(AC41:AC44) -> 0 | AD45: =SUM(AD41:AD44) -> 0 | AE45: =SUM(AE41:AE44) -> 158.97
A46: BELLARY CIRCLE TOTAL | F46: =F45+F39+F35+F30 -> 16390.2 | G46: =G45+G39+G35+G30 -> 15884.238 | I46: =I45+I39+I35+I30 -> 18431.77 | J46: =J45+J39+J35+J30 -> 2907.48 | K46: =K45+K39+K35+K30 -> 21339.25 | P46: =P45+P39+P35+P30 -> 259.53 | Q46: =Q45+Q39+Q35+Q30 -> 212.348 | R46: =R45+R39+R35+R30 -> 471.878 | S46: =S45+S39+S35+S30 -> 35.78 | T46: =T45+T39+T35+T30 -> 316.891 | U46: =U45+U39+U35+U30 -> 352.671 | V46: =V45+V39+V35+V30 -> 35.78 | W46: =W45+W39+W35+W30 -> 316.891 | X46: =X45+X39+X35+X30 -> 352.671 | Y46: =X46/U46 -> 1 | Z46: =Z45+Z39+Z35+Z30 -> 20132.92 | AA46: =Z46/K46 -> 0.94346896 | AB46: =AB45+AB39+AB35+AB30 -> 0 | AC46: =AC45+AC39+AC35+AC30 -> 0 | AD46: =AD45+AD39+AD35+AD30 -> 0 | AE46: =AE45+AE39+AE35+AE30 -> 1206.33
A47: DHARWAD CIRCLE
A48: GADAG DIVISION
A49: 1 | B49: 81 | C49: a | D49: Improvements to Kalmala - Shiggaon State Highway-23 Km 203.75 to Km 273.61 (selected reaches) in Mundargi & Shirahatti Taluk of Gadag Dist. | E49: 23 | F49: 3355.59 | G49: 3285.07 | H49: CER No.: 05/2013-14 | I49: 3804.44 | J49: 377.85 | K49: =J49+I49 -> 4182.29 | L49: M/S P R Nayak Associates | M49: 26.12.13 | N49: 25.11.14 | O49: 31.03.2015 | P49: 10 | Q49: 46.34 | R49: =SUM(P49:Q49) -> 56.34 | S49: 0 | T49: 55.95 | U49: =SUM(S49:T49) -> 55.95 | V49: 0 | W49: 55.95 | X49: =V49+W49 -> 55.95 | Y49: =X49/U49 -> 1 | Z49: 4161.58 | AA49: =Z49/K49 -> 0.99504817 | AB49: =S49-V49 -> 0 | AC49: =T49-W49 -> 0 | AD49: =AB49+AC49 -> 0 | AE49: =K49-Z49 -> 20.71 | AF49: Completed
C50: b | D50: Improvements to Arabhavi - Challakere State Highway-45 Km 174.00 to Km 185.60 (selected reaches) in Mundargi Taluk of Gadag Dist. | E50: 45 | P50: 0 | Q50: 11.6 | R50: =SUM(P50:Q50) -> 11.6 | S50: 1.28 | T50: 0 | U50: =SUM(S50:T50) -> 1.28 | V50: 1.28 | W50: 0 | X50: =V50+W50 -> 1.28 | Y50: =X50/U50 -> 1 | AB50: =S50-V50 -> 0 | AC50: =T50-W50 -> 0 | AD50: =AB50+AC50 -> 0
A51: DIVISION TOTAL | F51: =SUM(F49) -> 3355.59 | G51: =SUM(G49) -> 3285.07 | I51: =SUM(I49) -> 3804.44 | J51: =SUM(J49) -> 377.85 | K51: =SUM(K49) -> 4182.29 | P51: =SUM(P49:P50) -> 10 | Q51: =SUM(Q49:Q50) -> 57.94 | R51: =SUM(R49:R50) -> 67.94 | S51: =SUM(S49:S50) -> 1.28 | T51: =SUM(T49:T50) -> 55.95 | U51: =SUM(U49:U50) -> 57.23 | V51: =SUM(V49:V50) -> 1.28 | W51: =SUM(W49:W50) -> 55.95 | X51: =SUM(X49:X50) -> 57.23 | Y51: =X51/U51 -> 1 | Z51: =SUM(Z49:Z50) -> 4161.58 | AA51: =Z51/K51 -> 0.99504817 | AB51: =SUM(AB49:AB50) -> 0 | AC51: =SUM(AC49:AC50) -> 0 | AD51: =SUM(AD49:AD50) -> 0 | AE51: =SUM(AE49) -> 20.71
A52: HAVERI DIVISION
A53: 2 | B53: 82 | C53: a | D53: Improvement to Bagalkote-Biligiriranganabetta State Highway-57 from Km 167.89 to Km 196.72 (selected reaches) in Haveri Taluk of Haveri Dist | E53: 57 | F53: 2108.18 | G53: 1997.7 | H53: CER No.: 06/2013-14 | I53: 2474.16 | J53: 245.76 | K53: =J53+I53 -> 2719.92 | L53: S R Ballary | M53: 26.12.13 | N53: 25.11.14 | O53: 25.11.2014 | P53: 0 | Q53: 18.18 | R53: =SUM(P53:Q53) -> 18.18 | S53: 0 | T53: 15.595 | U53: =SUM(S53:T53) -> 15.595 | V53: 0 | W53: 15.6 | X53: =V53+W53 -> 15.6 | Y53: =X53/U53 -> 1.0003206 | Z53: 2733.33 | AA53: =Z53/K53 -> 1.0049303 | AB53: =S53-V53 -> 0 | AC53: =T53-W53 -> -0.005 | AD53: =AB53+AC53 -> -0.005 | AE53: =K53-Z53 -> -13.41 | AF53: Completed
C54: b | D54: Improvements to Bagalkote-Biligiriranganabetta State Highway-57 from Km 236.83 to Km 258.03 (selected reaches) in Hirekerur Taluk of Haveri Dist | E54: 57 | P54: 0 | Q54: 19.27 | R54: =SUM(P54:Q54) -> 19.27 | S54: 0 | T54: 13.204 | U54: =SUM(S54:T54) -> 13.204 | V54: 0 | W54: 13.2 | X54: =V54+W54 -> 13.2 | Y54: =X54/U54 -> 0.99969706 | AB54: =S54-V54 -> 0 | AC54: =T54-W54 -> 0.004 | AD54: =AB54+AC54 -> 0.004
A55: 3 | B55: 83 | C55: a | D55: Improvements to Birur-Sammasagi State Highway-76 from Km 176.30 to 181.35 & Km 185.70 to 188.00 (selected reaches) in Byadagi Tq &Km 189.00 to 217.19 (selected reaches) in Hangal Taluk of Haveri Dist | E55: 76 | F55: 2374.84 | G55: 2300.73 | H55: CER No.: /2013-14 | I55: 2863.65 | J55: 714.63 | K55: =J55+I55 -> 3578.28 | L55: A V Patil | M55: 21.12.2013 | N55: 20.11.2014 | O55: 25.02.2015 | P55: 21.01 | Q55: 10.05 | R55: =SUM(P55:Q55) -> 31.06 | S55: 18.765 | T55: 11.996 | U55: =SUM(S55:T55) -> 30.761 | V55: 18.765 | W55: 11.996 | X55: =V55+W55 -> 30.761 | Y55: =X55/U55 -> 1 | Z55: 3581.08 | AA55: =Z55/K55 -> 1.0007825 | AB55: =S55-V55 -> 0 | AC55: =T55-W55 -> 0 | AD55: =AB55+AC55 -> 0 | AE55: =K55-Z55 -> -2.8 | AF55: Completed
C56: b | D56: Improvements to Kumata-Tadas State Highway-69 from Km 126.10 to Km 142.00 (selected reaches) in Shiggaon Taluk of Haveri Dist. | E56: 69 | P56: 8.9 | Q56: 1 | R56: =SUM(P56:Q56) -> 9.9 | S56: 0.49 | T56: 6.82 | U56: =SUM(S56:T56) -> 7.31 | V56: 0.49 | W56: 6.82 | X56: =V56+W56 -> 7.31 | Y56: =X56/U56 -> 1 | AB56: =S56-V56 -> 0 | AC56: =T56-W56 -> 0 | AD56: =AB56+AC56 -> 0
C57: c | D57: Improvements to Kalmala - Shiggaon State Highway-23 from Km 284.51 to Km 304.48 (selected reaches) in Shiggon Taluk of Haveri Dist. | E57: 23 | P57: 13.97 | Q57: 1 | R57: =SUM(P57:Q57) -> 14.97 | S57: 4.5 | T57: 0.95 | U57: =SUM(S57:T57) -> 5.45 | V57: 4.5 | W57: 0.95 | X57: =V57+W57 -> 5.45 | Y57: =X57/U57 -> 1 | AB57: =S57-V57 -> 5.6843419e-14 | AC57: =T57-W57 -> 0 | AD57: =AB57+AC57 -> 5.6843419e-14
C58: d | D58: Improvements to Karwar-Ilkal State Highway-06 from Km 170.00 to Km 194.02 (selected reaches) in Savanur Taluk of Haveri Dist. | E58: 6 | P58: 0 | Q58: 17.47 | R58: =SUM(P58:Q58) -> 17.47 | S58: 0 | T58: 12.35 | U58: =SUM(S58:T58) -> 12.35 | V58: 0 | W58: 12.35 | X58: =V58+W58 -> 12.35 | Y58: =X58/U58 -> 1 | AB58: =S58-V58 -> 0 | AC58: =T58-W58 -> 0 | AD58: =AB58+AC58 -> 0
A59: 4 | B59: 84 | D59: Improvements to Hanagal - Hirekeruru via Hosaaladakatti and Honkana road from Km 4.33 to Km 23.80 & Km 22.64 to Km 31.00 (Selected reaches) in Hanagal & Hirekerur of Haveri Dist | E59: MDR | F59: 1700 | G59: 1632.86 | H59: CER NO: 62/2013-14 | I59: 1983.09 | J59: 194.86 | K59: =J59+I59 -> 2177.95 | L59: S R Ballary | M59: 26.12.13 | N59: 25.11.14 | O59: 25.02.2015 | P59: 0 | Q59: 18.5 | R59: =SUM(P59:Q59) -> 18.5 | S59: 0 | T59: 18.33 | U59: =SUM(S59:T59) -> 18.33 | V59: 0 | W59: 18.33 | X59: =V59+W59 -> 18.33 | Y59: =X59/U59 -> 1 | Z59: 2116.97 | AA59: =Z59/K59 -> 0.97200119 | AB59: =S59-V59 -> 0 | AC59: =T59-W59 -> 0 | AD59: =AB59+AC59 -> 0 | AE59: =K59-Z59 -> 60.98 | AF59: Completed
A60: DIVISION TOTAL | F60: =SUM(F53:F59) -> 6183.02 | G60: =SUM(G53:G59) -> 5931.29 | I60: =SUM(I53:I59) -> 7320.9 | J60: =SUM(J53:J59) -> 1155.25 | K60: =SUM(K53:K59) -> 8476.15 | P60: =SUM(P53:P59) -> 43.88 | Q60: =SUM(Q53:Q59) -> 85.47 | R60: =SUM(R53:R59) -> 129.35 | S60: =SUM(S53:S59) -> 23.755 | T60: =SUM(T53:T59) -> 79.245 | U60: =SUM(U53:U59) -> 103 | V60: =SUM(V53:V59) -> 23.755 | W60: =SUM(W53:W59) -> 79.246 | X60: =SUM(X53:X59) -> 103.001 | Y60: =X60/U60 -> 1.0000097 | Z60: =SUM(Z53:Z59) -> 8431.38 | AA60: =Z60/K60 -> 0.99471812 | AB60: =SUM(AB53:AB59) -> 5.6843419e-14 | AC60: =SUM(AC53:AC59) -> -0.001 | AD60: =SUM(AD53:AD59) -> -0.001 | AE60: =SUM(AE53:AE59) -> 44.77
A61: SIRSI DIVISION
A62: 5 | B62: 85 | C62: a | D62: Improvements to Khanapur - Talaguppa State Highway-93 from Km 131.99 to Km 150.00 (selected reaches) in Sirsi Taluk of Uttarakannada Dist. | E62: 93 | F62: 2459.35 | G62: 2360.43 | H62: CER NO: 24/2013-14 | I62: 2772.35 | J62: 276.17 | K62: =J62+I62 -> 3048.52 | L62: H P Madhukar | M62: 26.12.13 | N62: 25.11.14 | O62: 06.06.2014 | P62: 19.01 | Q62: 0 | R62: =SUM(P62:Q62) -> 19.01 | S62: 17.65 | T62: 0 | U62: =T62+S62 -> 17.65 | V62: 17.65 | W62: 0 | X62: =V62+W62 -> 17.65 | Y62: =X62/U62 -> 1 | Z62: 3029.98 | AA62: =Z62/K62 -> 0.99391836 | AB62: =S62-V62 -> 0 | AC62: =T62-W62 -> 0 | AD62: =AB62+AC62 -> 0 | AE62: =K62-Z62 -> 18.54 | AF62: Completed
C63: b | D63: Improvements to Khanapur - Talaguppa State Highway-93 from Km 179.60 to Km 184.80 & Km 188.82 to 201.00 (selected reaches) in Siddapur Taluk of Uttarakannada Dist. | E63: 93 | P63: 17.4 | Q63: 0 | R63: =SUM(P63:Q63) -> 17.4 | S63: 14.54 | T63: 2.86 | U63: =T63+S63 -> 17.4 | V63: 14.54 | W63: 2.86 | X63: =V63+W63 -> 17.4 | Y63: =X63/U63 -> 1 | AB63: =S63-V63 -> 0 | AC63: =T63-W63 -> 0 | AD63: =AB63+AC63 -> 0
C64: C | D64: Improvements to Khanapur - Talaguppa State Highway-93 from Km 86.85 to Km 93.01 & Km 98.56 to Km 130.99 (selected reaches) in Yellapur Taluk of Uttarakannada Dist. | E64: 93 | P64: 32.94 | Q64: 5.65 | R64: =SUM(P64:Q64) -> 38.59 | S64: 32.64 | T64: 5.95 | U64: =T64+S64 -> 38.59 | V64: 32.64 | W64: 5.95 | X64: =V64+W64 -> 38.59 | Y64: =X64/U64 -> 1 | AB64: =S64-V64 -> 0 | AC64: =T64-W64 -> 0 | AD64: =AB64+AC64 -> 0
C65: d | D65: Improvements to Khanapur - Talaguppa State Highway-93 from Km 35.42 to Km 81.85 (selected reaches) in Haliyal Taluk of Uttarakannada Dist. | E65: 93 | P65: 43.33 | Q65: 0 | R65: =SUM(P65:Q65) -> 43.33 | S65: 35.43 | T65: 7.9 | U65: =T65+S65 -> 43.33 | V65: 35.43 | W65: 7.9 | X65: =V65+W65 -> 43.33 | Y65: =X65/U65 -> 1 | AB65: =S65-V65 -> 0 | AC65: =T65-W65 -> 0 | AD65: =AB65+AC65 -> 0
A66: 6 | B66: 86 | C66: a | D66: Improvements to Karwar - Ilkal State Highway-06 from Km 125.00 to Km 154.40 (selected reaches) in Mundagod Taluk of Uttarakannada Dist. | E66: 6 | F66: 2215.22 | G66: 2100.43 | H66: CER No: 08/2013-14 | I66: 2498.14 | J66: 619.38 | K66: =J66+I66 -> 3117.52 | L66: M/S N S Nayak & Sons | M66: 26.12.13 | N66: 25.11.14 | O66: 25.03.2015 | P66: 23.6 | Q66: 4.8 | R66: =SUM(P66:Q66) -> 28.4 | S66: 17 | T66: 11.4 | U66: =T66+S66 -> 28.4 | V66: 17 | W66: 11.4 | X66: =V66+W66 -> 28.4 | Y66: =X66/U66 -> 1 | Z66: 3111.69 | AA66: =Z66/K66 -> 0.99812992 | AB66: =S66-V66 -> 0 | AC66: =T66-W66 -> 0 | AD66: =AB66+AC66 -> 0 | AE66: =K66-Z66 -> 5.83 | AF66: Completed
C67: b | D67: Improvements to Supa - Annigeri State Highway-28 from Km 33.85 to Km 41.31 (selected reaches) in Haliyal Taluk of Uttarakannada Dist. | E67: 28 | P67: 0 | Q67: 7.46 | R67: =SUM(P67:Q67) -> 7.46 | S67: 0 | T67: 7.46 | U67: =T67+S67 -> 7.46 | V67: 0 | W67: 7.46 | X67: =V67+W67 -> 7.46 | Y67: =X67/U67 -> 1 | AB67: =S67-V67 -> 0 | AC67: =T67-W67 -> 0 | AD67: =AB67+AC67 -> 0
C68: c | D68: Improvements to Supa - Annigeri State Highway-28 from Km 12.30 to 29.51 (selected reaches) in Haliyal Taluk of Uttarakannada Dist. | E68: 28 | P68: 14.71 | Q68: 2.5 | R68: =SUM(P68:Q68) -> 17.21 | S68: 8.73 | T68: 7.19 | U68: =T68+S68 -> 15.92 | V68: 8.73 | W68: 7.19 | X68: =V68+W68 -> 15.92 | Y68: =X68/U68 -> 1 | AB68: =S68-V68 -> 0 | AC68: =T68-W68 -> 0 | AD68: =AB68+AC68 -> 0
C69: d | D69: Improvements to Sidhanur -Hemmadaga State Highway-30 from Km 309.07 to 318.57 (selected reaches) in Joida Taluk of Uttarakannada Dist. | E69: 30 | P69: 0 | Q69: 9.38 | R69: =SUM(P69:Q69) -> 9.38 | S69: 0 | T69: 9.5 | U69: =T69+S69 -> 9.5 | V69: 0 | W69: 9.5 | X69: =V69+W69 -> 9.5 | Y69: =X69/U69 -> 1 | AB69: =S69-V69 -> 0 | AC69: =T69-W69 -> 0 | AD69: =AB69+AC69 -> 0
A70: 7 | B70: 87 | C70: a | D70: Improvements to Kumta - Tadas State Highway-69 from Km 92.00 to Km 95.00 & Km 98.00 to Km 107.00 & Km 115.00 to Km 117.00 & Km 122.00 to Km 123.00 (selected reaches) in Mundagod Taluk of Uttarakannada Dist. | E70: 69 | F70: 1398.2 | G70: 1345.03 | H70: CER No: 25/2013-14 | I70: 1361.21 | J70: 135.68 | K70: =J70+I70 -> 1496.89 | L70: H.P.Madhukar | M70: 01.02.14 | N70: 31.12.14 | O70: 25.03.2015 | P70: 15 | Q70: 0 | R70: =SUM(P70:Q70) -> 15 | S70: 6.635 | T70: 8.465 | U70: =SUM(S70:T70) -> 15.1 | V70: 6.635 | W70: 8.465 | X70: =V70+W70 -> 15.1 | Y70: =X70/U70 -> 1 | Z70: 1496.72 | AA70: =Z70/K70 -> 0.99988643 | AB70: =S70-V70 -> 0 | AC70: =T70-W70 -> 0 | AD70: =AB70+AC70 -> 0 | AE70: =K70-Z70 -> 0.17 | AF70: Completed
C71: b | D71: Improvements to Kumta - Tadas State Highway-69 from Km 83.70 to Km 92.00 & Km 95.00 to Km 98.00 & Km 107.00 to Km 115.00 & Km 117.00 to Km 122.00 & Km 123.00 to Km 126.0 (selected reaches) in Mundagod Taluk of Uttarakannada Dist. | E71: 69 | P71: 0 | Q71: 27.3 | R71: =SUM(P71:Q71) -> 27.3 | S71: 15.1 | T71: 12.2 | U71: =SUM(S71:T71) -> 27.3 | V71: 15.1 | W71: 12.2 | X71: =V71+W71 -> 27.3 | Y71: =X71/U71 -> 1 | AB71: =S71-V71 -> 0 | AC71: =T71-W71 -> 0 | AD71: =AB71+AC71 -> 0
A72: 8 | B72: 88 | C72: a | D72: Improvements to Aurad - Sadashivagad State Highway-34 from Km 661.02 to Km 661.77 & Km 668.87 to Km 684.17 (selected reaches) in Joida Taluk of Uttarakannada Dist. | E72: 34 | F72: 2220.94 | G72: 2156.6 | H72: CER No: 26/2013-14 | I72: 2199.88 | J72: 216.41 | K72: =J72+I72 -> 2416.29 | L72: M/S N S Nayak & Sons | M72: 18.01.13 | N72: 17.12.14 | O72: 25.11.2014 | P72: 0 | Q72: 16.05 | R72: =SUM(P72:Q72) -> 16.05 | S72: 3.14 | T72: 12.91 | U72: =SUM(S72:T72) -> 16.05 | V72: 3.14 | W72: 12.91 | X72: =V72+W72 -> 16.05 | Y72: =X72/U72 -> 1 | Z72: 2383.41 | AA72: =Z72/K72 -> 0.98639236 | AB72: =S72-V72 -> 0 | AC72: =T72-W72 -> 0 | AD72: =AB72+AC72 -> 0 | AE72: =K72-Z72 -> 32.88 | AF72: Completed
C73: b | D73: Improvements to Aurad - Sadashivagad State Highway-34 from Km 604.17 to Km 661.02 & Km 661.77 to Km 668.87 & Km 684.17 to Km 687.56 (selected reaches) in Joida Taluk of Uttarakannada Dist. | E73: 34 | P73: 67.34 | Q73: 0 | R73: =SUM(P73:Q73) -> 67.34 | S73: 47.39 | T73: 19.95 | U73: =SUM(S73:T73) -> 67.34 | V73: 47.39 | W73: 19.95 | X73: =V73+W73 -> 67.34 | Y73: =X73/U73 -> 1 | AB73: =S73-V73 -> 0 | AC73: =T73-W73 -> 6.750156e-14 | AD73: =AB73+AC73 -> 6.750156e-14
A74: DIVISION TOTAL | F74: =SUM(F62:F73) -> 8293.71 | G74: =SUM(G62:G73) -> 7962.49 | I74: =SUM(I62:I73) -> 8831.58 | J74: =SUM(J62:J73) -> 1247.64 | K74: =SUM(K62:K73) -> 10079.22 | P74: =SUM(P62:P73) -> 233.33 | Q74: =SUM(Q62:Q73) -> 73.14 | R74: =SUM(R62:R73) -> 306.47 | S74: =SUM(S62:S73) -> 198.255 | T74: =SUM(T62:T73) -> 105.785 | U74: =SUM(U62:U73) -> 304.04 | V74: =SUM(V62:V73) -> 198.255 | W74: =SUM(W62:W73) -> 105.785 | X74: =SUM(X62:X73) -> 304.04 | Y74: =X74/U74 -> 1 | Z74: =SUM(Z62:Z73) -> 10021.8 | AA74: =Z74/K74 -> 0.99430313 | AB74: =SUM(AB62:AB73) -> 0 | AC74: =SUM(AC62:AC73) -> 6.750156e-14 | AD74: =SUM(AD62:AD73) -> 6.750156e-14 | AE74: =SUM(AE62:AE73) -> 57.42
A75: KARWAR DIVISION
A76: 9 | B76: 89 | D76: Improvements to Aurad - Sadashivagad State Highway-34 from Km 687.56 to 725.34 (selected reaches) in Karwar Taluk of Uttarakannada dist. | E76: 34 | F76: 757 | G76: 735.59 | H76: CER No: 27/2013-14 | I76: 695.09 | J76: 68.48 | K76: =I76+J76 -> 763.57 | L76: M/S Ramasree Globle Consrtution Pvt. Ltd. | M76: 26.12.13 | N76: 25.11.14 | O76: 25.11.2014 | P76: 34.48 | Q76: 0.3 | R76: =SUM(P76:Q76) -> 34.78 | S76: 31.79 | T76: 2.99 | U76: =SUM(S76:T76) -> 34.78 | V76: 31.79 | W76: 2.99 | X76: =V76+W76 -> 34.78 | Y76: =X76/U76 -> 1 | Z76: 761.94 | AA76: =Z76/K76 -> 0.99786529 | AB76: =S76-V76 -> 0 | AC76: =T76-W76 -> 0 | AD76: =AB76+AC76 -> 0 | AE76: =K76-Z76 -> 1.63 | AF76: Completed
A77: DIVISION TOTAL | F77: =SUM(F76) -> 757 | G77: =SUM(G76) -> 735.59 | I77: =SUM(I76) -> 695.09 | J77: =SUM(J76) -> 68.48 | K77: =SUM(K76) -> 763.57 | P77: =SUM(P76) -> 34.48 | Q77: =SUM(Q76) -> 0.3 | R77: =SUM(R76) -> 34.78 | S77: =SUM(S76) -> 31.79 | T77: =SUM(T76) -> 2.99 | U77: =SUM(U76) -> 34.78 | V77: =SUM(V76) -> 31.79 | W77: =SUM(W76) -> 2.99 | X77: =SUM(X76) -> 34.78 | Y77: =X77/U77 -> 1 | Z77: =SUM(Z76) -> 761.94 | AA77: =Z77/K77 -> 0.99786529 | AB77: =SUM(AB76) -> 0 | AC77: =SUM(AC76) -> 0 | AD77: =SUM(AD76) -> 0 | AE77: =SUM(AE76) -> 1.63
A78: DHARWAD DIVISION
A79: 10 | B79: 90 | C79: a | D79: Improvements to Padubidri - Chikkalgudda State Highway-01 from Km 356.96 to Km 393.08 (selected reaches) in Dharwad Taluk of Dharwad Dist | E79: 1 | F79: 1678.69 | G79: 1641.16 | H79: CER No: 29/2013-14 | I79: 1640.59 | J79: 163.18 | K79: =J79+I79 -> 1803.77 | L79: B S Gaonkar | M79: 26.12.13 | N79: 25.11.14 | O79: 20.02.2015 | P79: 0 | Q79: 27.64 | R79: =SUM(P79:Q79) -> 27.64 | S79: 2.3 | T79: 24.44 | U79: =SUM(S79:T79) -> 26.74 | V79: 2.3 | W79: 24.44 | X79: =V79+W79 -> 26.74 | Y79: =X79/U79 -> 1 | Z79: 1830.62 | AA79: =Z79/K79 -> 1.0148855 | AB79: =S79-V79 -> 0 | AC79: =T79-W79 -> 0 | AD79: =AB79+AC79 -> 0 | AE79: =K79-Z79 -> -26.85 | AF79: Completed
C80: b | D80: Improvements to Padubidri - Chikkalgudda State Highway-01 from Km 364.50 to Km 367.38 (selected reaches) in Kalagatagi Taluk of Dharwad Dist | E80: 1 | P80: 2.48 | Q80: 1 | R80: =SUM(P80:Q80) -> 3.48 | S80: 0.38 | T80: 2.5 | U80: =SUM(S80:T80) -> 2.88 | V80: 0.38 | W80: 2.5 | X80: =V80+W80 -> 2.88 | Y80: =X80/U80 -> 1 | AB80: =S80-V80 -> 4.5519144e-15 | AC80: =T80-W80 -> 0 | AD80: =AB80+AC80 -> 4.5519144e-15
A81: 11 | B81: 91 | C81: a | D81: Improvements to Mangasuli - Laxmeshwar State Highway-73 from Km 204.16 to Km 229.20 & Km 248.42 to Km 253.30 (selected reaches)in Dharwad & Hubli Taluk of Dharwad Dist | E81: 73 | F81: 1999.41 | G81: 1958.27 | H81: CER No: 30/2013-14 | I81: 2126.75 | J81: 210.66 | K81: =J81+I81 -> 2337.41 | L81: M/S N S Nayak & Sons | M81: 26.12.13 | N81: 25.11.14 | O81: 31.05.2014 | P81: 0 | Q81: 15.77 | R81: =SUM(P81:Q81) -> 15.77 | S81: 4 | T81: 9.03 | U81: =SUM(S81:T81) -> 13.03 | V81: 4 | W81: 9.03 | X81: =V81+W81 -> 13.03 | Y81: =X81/U81 -> 1 | Z81: 2349.42 | AA81: =Z81/K81 -> 1.0051382 | AB81: =S81-V81 -> 0 | AC81: =T81-W81 -> 0 | AD81: =AB81+AC81 -> 0 | AE81: =K81-Z81 -> -12.01 | AF81: Completed
C82: b | D82: Improvements to Arabhavi - Challakere State Highway-45 from Km 93.25 to Km 107.25 (selected reaches)in Navalgund Taluk of Dharwad Dist | E82: 45 | P82: 0 | Q82: 14 | R82: =SUM(P82:Q82) -> 14 | S82: 0 | T82: 11.98 | U82: =SUM(S82:T82) -> 11.98 | V82: 0 | W82: 11.98 | X82: =V82+W82 -> 11.98 | Y82: =X82/U82 -> 1 | AB82: =S82-V82 -> 0 | AC82: =T82-W82 -> 0 | AD82: =AB82+AC82 -> 0
C83: c | D83: Improvements to Mangasuli - Laxmeshwar State Highway-73 from Km 223.379 to Km 229.200 & Km 248.42 to Km 253.30 (selected reaches)in Hubli Taluk of Dharwad Dist | E83: 73 | P83: 10.52 | Q83: 0.3 | R83: =SUM(P83:Q83) -> 10.82 | S83: 6.87 | T83: 1.52 | U83: =SUM(S83:T83) -> 8.39 | V83: 6.87 | W83: 1.52 | X83: =V83+W83 -> 8.39 | Y83: =X83/U83 -> 1 | AB83: =S83-V83 -> 0 | AC83: =T83-W83 -> 0 | AD83: =AB83+AC83 -> 0
A84: DIVISION TOTAL | F84: =SUM(F79:F83) -> 3678.1 | G84: =SUM(G79:G83) -> 3599.43 | I84: =SUM(I79:I83) -> 3767.34 | J84: =SUM(J79:J83) -> 373.84 | K84: =SUM(K79:K83) -> 4141.18 | P84: =SUM(P79:P83) -> 13 | Q84: =SUM(Q79:Q83) -> 58.71 | R84: =SUM(R79:R83) -> 71.71 | S84: =SUM(S79:S83) -> 13.55 | T84: =SUM(T79:T83) -> 49.47 | U84: =SUM(U79:U83) -> 63.02 | V84: =SUM(V79:V83) -> 13.55 | W84: =SUM(W79:W83) -> 49.47 | X84: =SUM(X79:X83) -> 63.02 | Y84: =X84/U84 -> 1 | Z84: =SUM(Z79:Z83) -> 4180.04 | AA84: =Z84/K84 -> 1.0093838 | AB84: =SUM(AB79:AB83) -> 4.5519144e-15 | AC84: =SUM(AC79:AC83) -> 0 | AD84: =SUM(AD79:AD83) -> 4.5519144e-15 | AE84: =SUM(AE79:AE83) -> -38.86
A85: DHARWAD CIRCLE TOTAL | F85: =F84+F77+F74+F60+F51 -> 22267.42 | G85: =G84+G77+G74+G60+G51 -> 21513.87 | I85: =I84+I77+I74+I60+I51 -> 24419.35 | J85: =J84+J77+J74+J60+J51 -> 3223.06 | K85: =K84+K77+K74+K60+K51 -> 27642.41 | P85: =P84+P77+P74+P60+P51 -> 334.69 | Q85: =Q84+Q77+Q74+Q60+Q51 -> 275.56 | R85: =R84+R77+R74+R60+R51 -> 610.25 | S85: =S84+S77+S74+S60+S51 -> 268.63 | T85: =T84+T77+T74+T60+T51 -> 293.44 | U85: =U84+U77+U74+U60+U51 -> 562.07 | V85: =V84+V77+V74+V60+V51 -> 268.63 | W85: =W84+W77+W74+W60+W51 -> 293.441 | X85: =X84+X77+X74+X60+X51 -> 562.071 | Y85: =X85/U85 -> 1.0000018 | Z85: =Z84+Z77+Z74+Z60+Z51 -> 27556.74 | AA85: =Z85/K85 -> 0.99690078 | AB85: =AB84+AB77+AB74+AB60+AB51 -> 6.1395333e-14 | AC85: =AC84+AC77+AC74+AC60+AC51 -> -0.001 | AD85: =AD84+AD77+AD74+AD60+AD51 -> -0.001 | AE85: =AE84+AE77+AE74+AE60+AE51 -> 85.67
A86: BELGAUM CIRCLE
A87: BELGAUM DIVISION
A88: 1 | B88: 92 | D88: Improvements to Sindanoor - Hemmadaga State Highway-30 from Km 168.17 to Km 304.20 (selected reaches)in Khanapur, Bailhongal & Savadatti Taluk of Belgaum Dist | E88: 30 | F88: 2551.42 | G88: 2471.58 | H88: CER No.: 28/2013-14 | I88: 2962.74 | J88: 295.66 | K88: =J88+I88 -> 3258.4 | L88: N B Hiremath | M88: 41691 | N88: 42025 | O88: 15.05.2015 | P88: 25.5 | Q88: 40.83 | R88: 66.33 | S88: 9.84 | T88: 51.49 | U88: =SUM(S88:T88) -> 61.33 | V88: 9.84 | W88: 51.49 | X88: =V88+W88 -> 61.33 | Y88: =X88/U88 -> 1 | Z88: 3212.93 | AA88: =Z88/K88 -> 0.9860453 | AB88: =S88-V88 -> 0 | AC88: =T88-W88 -> 0 | AD88: =AB88+AC88 -> 0 | AE88: =K88-Z88 -> 45.47 | AF88: Completed
A89: 2 | B89: 93 | D89: Improvements to Jath - Jamboti State Highway-31 from Km 127.50 to Km 219.00 (selected reaches) in Khanapur, Belagavi & Bailhongal Taluk of Belgaum Dist | E89: 31 | F89: 1635.19 | G89: 1587.56 | H89: CER No.: 31/2013-14 | I89: 1777.8 | J89: 177.31 | K89: =J89+I89 -> 1955.11 | L89: M B Kallur | M89: 41636 | N89: 27-11-2014 | O89: 12.02.2015 | P89: 7.41 | Q89: 28.74 | R89: 36.15 | S89: 1 | T89: 35.52 | U89: =SUM(S89:T89) -> 36.52 | V89: 1 | W89: 35.52 | X89: =V89+W89 -> 36.52 | Y89: =X89/U89 -> 1 | Z89: 1940.72 | AA89: =Z89/K89 -> 0.9926398 | AB89: =S89-V89 -> 0 | AC89: =T89-W89 -> 0 | AD89: =AB89+AC89 -> 0 | AE89: =K89-Z89 -> 14.39 | AF89: Completed
A90: 3 | B90: 94 | D90: Improvements to Munvalli - Kotamachagi State Highway-83 from Km 8.30 to Km 38.60 & Km 40.91 to Km 63.14 (selected reaches) in Ramadurga Taluk of Belgaum Dist | E90: 83 | F90: 1718.39 | G90: 1668.19 | H90: CER No.:32/2013-14 | I90: 1932.42 | J90: 193.12 | K90: =J90+I90 -> 2125.54 | L90: N B Hiremath | M90: 41636 | N90: 41970 | O90: 25.02.2015 | P90: 14.18 | Q90: 30.39 | R90: 44.57 | S90: 0 | T90: 29.83 | U90: =SUM(S90:T90) -> 29.83 | V90: 0 | W90: 29.83 | X90: =V90+W90 -> 29.83 | Y90: =X90/U90 -> 1 | Z90: 2101.31 | AA90: =Z90/K90 -> 0.98860054 | AB90: =S90-V90 -> 0 | AC90: =T90-W90 -> 0 | AD90: =AB90+AC90 -> 0 | AE90: =K90-Z90 -> 24.23 | AF90: Completed
A91: 4 | B91: 95 | D91: Improvements to Mangasuli - Laxmeshwar State Highway-73 from Km 122.67 to Km 204.16 (selected reaches) in Bailhongal Taluk of Belgaum Dist | E91: 73 | F91: 2161.26 | G91: 2098.31 | H91: CER NO:33/2013-14 | I91: 2552.22 | J91: 237.79 | K91: =J91+I91 -> 2790.01 | L91: P R Nayak | M91: 41636 | N91: 41970 | O91: 27.11.2014 | P91: 21.23 | Q91: 34.73 | R91: 55.96 | S91: 10.76 | T91: 45.2 | U91: =SUM(S91:T91) -> 55.96 | V91: 10.76 | W91: 45.2 | X91: =V91+W91 -> 55.96 | Y91: =X91/U91 -> 1 | Z91: 2768.72 | AA91: =Z91/K91 -> 0.9923692 | AB91: =S91-V91 -> 0 | AC91: =T91-W91 -> 0 | AD91: =AB91+AC91 -> 0 | AE91: =K91-Z91 -> 21.29 | AF91: Completed
A92: 5 | B92: 96 | C92: a | D92: Improvements to Aurad - Sadashivagad State Highway-34 from Km.442.19 to Km 462.570 (selected reaches) in Ramadurg Taluk of Belgaum Dist | E92: 34 | F92: 2222.73 | G92: 2156.82 | H92: CER NO:34/2013-14 | I92: 2633.1 | J92: 262.76 | K92: =J92+I92 -> 2895.86 | L92: P B Ibrahim | M92: 41636 | N92: 41970 | O92: 25.11.2014 | P92: 10.2 | Q92: 6.78 | R92: =P92+Q92 -> 16.98 | S92: 5.4 | T92: 11.4 | U92: =S92+T92 -> 16.8 | V92: 5.4 | W92: 11.4 | X92: =V92+W92 -> 16.8 | Y92: =X92/U92 -> 1 | Z92: 2883.91 | AA92: =Z92/K92 -> 0.99587342 | AB92: =S92-V92 -> 0 | AC92: =T92-W92 -> 0 | AD92: =AB92+AC92 -> 0 | AE92: =K92-Z92 -> 11.95 | AF92: Completed
C93: b | D93: Improvements to Padabudri - Chikalgudda State Highway-01 from Km 393.08 to Km 446.69 (selected reaches)in Bailhongal Taluk of Belgaum Dist | E93: 1 | P93: 9.23 | Q93: 14.02 | R93: =P93+Q93 -> 23.25 | S93: 4.51 | T93: 18.78 | U93: =S93+T93 -> 23.29 | V93: 4.51 | W93: 18.776 | X93: =V93+W93 -> 23.286 | Y93: =X93/U93 -> 0.99982825 | AB93: =S93-V93 -> 0 | AC93: =T93-W93 -> 0.004 | AD93: =AB93+AC93 -> 0.004
C94: C | D94: Improvements to Arbhavi - Challakere State Highway-45 from Km 35.93 to Km 79.05 (selected reaches) in Savadatti Taluk of Belgaum Dist | E94: 45 | P94: 43.12 | Q94: 0 | R94: =P94+Q94 -> 43.12 | S94: 37.72 | T94: 5.4 | U94: =S94+T94 -> 43.12 | V94: 37.72 | W94: 5.4 | X94: =V94+W94 -> 43.12 | Y94: =X94/U94 -> 1 | AB94: =S94-V94 -> 0 | AC94: =T94-W94 -> 0 | AD94: =AB94+AC94 -> 0
A95: 6 | B95: 97 | C95: a | D95: Improvements to Yaragatti - Babaleshwar State Highway-55 from Km 28.46 to Km 39.62 (seleted reaches) in Gokak Taluk of Belgaum Dist | E95: 55 | F95: 1261.53 | G95: 1224.99 | H95: CER No:35/2013-14 | I95: 1492.94 | J95: 147.36 | K95: =J95+I95 -> 1640.3 | L95: P B Ibrahim | M95: 41634 | N95: 41968 | O95: 31.03.2015 | P95: 0 | Q95: 9 | R95: =P95+Q95 -> 9 | S95: 0 | T95: 8.9 | U95: =S95+T95 -> 8.9 | V95: 0 | W95: 8.9 | X95: =V95+W95 -> 8.9 | Y95: =X95/U95 -> 1 | Z95: 1635.75 | AA95: =Z95/K95 -> 0.99722612 | AB95: =S95-V95 -> 0 | AC95: =T95-W95 -> 0 | AD95: =AB95+AC95 -> 0 | AE95: =K95-Z95 -> 4.55 | AF95: Completed
C96: b | D96: Improvements to Jamboti - Rabakavi State Highway-54 from Km 58.28 to Km 123.00 (in seleted reaches)in Gokak Taluk of Belgaum Dist | E96: 54 | P96: 26.2 | Q96: 10 | R96: =P96+Q96 -> 36.2 | S96: 0 | T96: 16.9 | U96: =S96+T96 -> 16.9 | V96: 0 | W96: 16.9 | X96: =V96+W96 -> 16.9 | Y96: =X96/U96 -> 1 | AB96: =S96-V96 -> 0 | AC96: =T96-W96 -> 0 | AD96: =AB96+AC96 -> 0
A97: DIVISION TOTAL | F97: =SUM(F88:F96) -> 11550.52 | G97: =SUM(G88:G96) -> 11207.45 | I97: =SUM(I88:I96) -> 13351.22 | J97: =SUM(J88:J96) -> 1314 | K97: =SUM(K88:K96) -> 14665.22 | P97: =SUM(P88:P96) -> 157.07 | Q97: =SUM(Q88:Q96) -> 174.49 | R97: =SUM(R88:R96) -> 331.56 | S97: =SUM(S88:S96) -> 69.23 | T97: =SUM(T88:T96) -> 223.42 | U97: =SUM(U88:U96) -> 292.65 | V97: =SUM(V88:V96) -> 69.23 | W97: =SUM(W88:W96) -> 223.416 | X97: =SUM(X88:X96) -> 292.646 | Y97: =X97/U97 -> 0.99998633 | Z97: =SUM(Z88:Z96) -> 14543.34 | AA97: =Z97/K97 -> 0.99168918 | AB97: =SUM(AB88:AB96) -> 0 | AC97: =SUM(AC88:AC96) -> 0.004 | AD97: =SUM(AD88:AD96) -> 0.004 | AE97: =SUM(AE88:AE96) -> 121.88
A98: BIJAPUR DIVISION
A99: 7 | B99: 98 | C99: a | D99: Improvements to Alamatti-Muddebihal from Km 0.00 to Km 27.00 (selected reaches) in Muddebihal Taluk of Bijapur Dist | F99: 2291.82 | G99: 2221.75 | H99: CER No:37/2013-14 | I99: 2448.85 | J99: 243.74 | K99: =J99+I99 -> 2692.59 | L99: S S Alur | M99: 41636 | N99: 41970 | O99: 25.11.2014 | P99: 6 | Q99: 21 | R99: =P99+Q99 -> 27 | S99: 0 | T99: 13.75 | U99: =S99+T99 -> 13.75 | V99: 0 | W99: 13.75 | X99: =V99+W99 -> 13.75 | Y99: =X99/U99 -> 1 | Z99: 2715.76 | AA99: =Z99/K99 -> 1.0086051 | AB99: =S99-V99 -> 0 | AC99: =T99-W99 -> 0 | AD99: =AB99+AC99 -> 0 | AE99: =K99-Z99 -> -23.17 | AF99: Completed
C100: b | D100: Improvements to Sindagi-Kodangal State Highway-16 from Km 0.00 to Km 25.00 (selected reaches) in Sindagi Taluk of Bijapur Dist | E100: 16 | P100: 0 | Q100: 24.1 | R100: =P100+Q100 -> 24.1 | S100: 0 | T100: 16.2 | U100: =S100+T100 -> 16.2 | V100: 0 | W100: 16.2 | X100: =V100+W100 -> 16.2 | Y100: =X100/U100 -> 1 | AB100: =S100-V100 -> 0 | AC100: =T100-W100 -> 0 | AD100: =AB100+AC100 -> 0
...

Sheet District wise
A1: Phase II Progress District Wise
A2: Sl No | B2: District | C2: No Of Packages | D2: No Of Packages Completed | E2: Improvement in Km | F2: Financial Progress in Lakhs
A4: 1 | B4: Kalburgi | C4: 4 | D4: 4 | E4: ='Phase II'!X18 -> 120.6 | F4: ='Phase II'!Z18 -> 12540.59
A5: 2 | B5: Bidar | C5: 1 | D5: 1 | E5: ='Phase II'!X11 -> 41.072 | F5: ='Phase II'!Z11 -> 2547.38
A6: 3 | B6: Yadgir | C6: 2 | D6: 2 | E6: ='Phase II'!X22 -> 78.43 | F6: ='Phase II'!Z22 -> 4479.02
A7: 4 | B7: Bellary | C7: 3 | D7: 3 | E7: ='Phase II'!X35+'Phase II'!X39 -> 137.41 | F7: ='Phase II'!Z35+'Phase II'!Z39 -> 7546.18
A8: 5 | B8: Raichur | C8: 2 | D8: 2 | E8: ='Phase II'!X30 -> 98.061 | F8: ='Phase II'!Z30 -> 7564.58
A9: 6 | B9: Koppal | C9: 2 | D9: 2 | E9: ='Phase II'!X45 -> 117.2 | F9: ='Phase II'!Z45 -> 5022.16
A10: 7 | B10: Dharwad | C10: 2 | D10: 2 | E10: ='Phase II'!X84 -> 63.02 | F10: ='Phase II'!Z84 -> 4180.04
A11: 8 | B11: Gadag | C11: 1 | D11: 1 | E11: ='Phase II'!X51 -> 57.23 | F11: ='Phase II'!Z51 -> 4161.58
A12: 9 | B12: Haveri | C12: 3 | D12: 3 | E12: ='Phase II'!X60 -> 103.001 | F12: ='Phase II'!Z60 -> 8431.38
A13: 10 | B13: Uttar Kannada | C13: 5 | D13: 5 | E13: ='Phase II'!X74+'Phase II'!X77 -> 338.82 | F13: ='Phase II'!Z74+'Phase II'!Z77 -> 10783.74
A14: 11 | B14: Belgaum | C14: 6 | D14: 6 | E14: ='Phase II'!X97 -> 292.646 | F14: ='Phase II'!Z97 -> 14543.34
A15: 12 | B15: Vijayapura | C15: 3 | D15: 3 | E15: ='Phase II'!X103 -> 88.42 | F15: ='Phase II'!Z103 -> 6679.23
A16: 13 | B16: Bagalkote | C16: 2 | D16: 2 | E16: ='Phase II'!X108 -> 89.24 | F16: ='Phase II'!Z108 -> 3954.03
A17: 14 | B17: Davanagere | C17: 3 | D17: 3 | E17: ='Phase II'!X119 -> 129.03 | F17: 8285.23
A18: 15 | B18: Chitradurga | C18: 1 | D18: 1 | E18: ='Phase II'!X124 -> 41.185 | F18: ='Phase II'!Z124 -> 3169.02
A19: 16 | B19: Shimoga | C19: 6 | D19: 6 | E19: ='Phase II'!X134+'Phase II'!X142 -> 278.696 | F19: ='Phase II'!Z134+'Phase II'!Z142 -> 19267.6
A20: 17 | B20: Bangalore | C20: 1 | D20: 1 | E20: ='Phase II'!X156 -> 31.304 | F20: ='Phase II'!Z156 -> 1223.62
A21: 18 | B21: C B pura | C21: 0 | D21: 0 | E21: 0 | F21: 0
A22: 19 | B22: Ramanagara | C22: 0 | D22: 0 | E22: 0 | F22: 0
A23: 20 | B23: Kolar | C23: 0 | D23: 0 | E23: 0 | F23: 0
A24: 21 | B24: Tumkur | C24: 5 | D24: 5 | E24: ='Phase II'!X152 -> 267.289 | F24: ='Phase II'!Z152 -> 15748.97
A25: 22 | B25: Mandya | C25: 1 | D25: 1 | E25: ='Phase II'!X163 -> 37.265 | F25: ='Phase II'!Z163 -> 2756.38
A26: 23 | B26: Mysore | C26: 2 | D26: 2 | E26: ='Phase II'!X172 -> 64.554 | F26: ='Phase II'!Z172 -> 3557.03
A27: 24 | B27: Chamarajnagar | C27: 2 | D27: 2 | E27: ='Phase II'!X167 -> 67.853 | F27: ='Phase II'!Z167 -> 4467.14
A28: 25 | B28: Udupi | C28: 2 | D28: 2 | E28: ='Phase II'!X190 -> 141.434 | F28: ='Phase II'!Z190 -> 5416.34
A29: 26 | B29: Kodagu | C29: 0 | D29: 0 | E29: 0 | F29: 0
A30: 27 | B30: Dakishna Kannada | C30: 2 | D30: 2 | E30: ='Phase II'!X178+'Phase II'!X181 -> 94 | F30: ='Phase II'!Z178+'Phase II'!Z181 -> 2917.56
A31: 28 | B31: Chickmagaluru | C31: 2 | D31: 2 | E31: ='Phase II'!X200 -> 85.94 | F31: ='Phase II'!Z200 -> 3792.89
A32: 29 | B32: Hassan | C32: 7 | D32: 7 | E32: ='Phase II'!X211+'Phase II'!X219 -> 272.46 | F32: ='Phase II'!Z211+'Phase II'!Z219 -> 22949.51
A33: TOTAL | C33: =SUM(C4:C32) -> 70 | D33: =SUM(D4:D32) -> 70 | E33: =SUM(E4:E32) -> 3136.16 | F33: =SUM(F4:F32) -> 185984.54

Sheet Sheet1
A1: Bangalore Circle
A2: Division | B2: PKG No | C2: VO Status | D2: EOT Status
A3: Bangalore Rural | B3: 293 | C3: Approved | D3: Under Scrutiny
B4: 294
B5: 295
B6: 296
B7: 297
A8: Ramnagar | B8: 298 | C8: Under Scrutiny
B9: 299
B10: 300
B11: 301
B12: 302
B13: 303
B14: 304
B15: 305
A16: Tumkur | B16: 306 | C16: Yet to be submitted | D16: To be approved
B17: 307 | C17: Approved | D17: To be approved
B18: 308 | C18: Under Discussion | D18: Yet to be submitted
B19: 309 | C19: Yet to be submitted | D19: Yet to be submitted
B20: 310 | C20: Yet to be submitted | D20: Yet to be submitted
B21: 311 | C21: Under Scrutiny | D21: Yet to be submitted
B22: 312 | C22: Yet to be submitted | D22: Yet to be submitted
A23: Madhugiri | B23: 313 | C23: - | D23: Revised proposal Yet to be submitted
B24: 314 | C24: Yet to be submitted | D24: Sent to Government
B25: 315 | C25: - | D25: Revised programme of work to be submitted
B26: 316 | C26: Yet to be submitted | D26: Sent to Government
A27: Kolar | B27: 317 | C27: Yet to be submitted | D27: Revised programme of work to be submitted
B28: 318 | C28: Yet to be submitted | D28: Yet to be submitted
B29: 319 | C29: Yet to be submitted | D29: Yet to be submitted
B30: 320 | C30: Approved | D30: EOT1 approved EOT2 proposal Yet to be submitted
A31: Chikkaballapura | B31: 321 | C31: Approved | D31: -
B32: 322 | C32: Approved | D32: -
B33: 323 | C33: Yet to be submitted | D33: Sent to Government
B34: 324 | C34: Yet to be submitted | D34: Yet to be submitted
B35: 325 | C35: Yet to be submitted | D35: Yet to be submitted
