Workbook
Name finI_40: '[1]South Zone'!$T$113
Name finI_41: '[1]South Zone'!$T$117
Name finI_42: '[1]South Zone'!$T$118
Name finI_43: '[1]South Zone'!$T$122
Name finI_44: '[1]South Zone'!$T$125
Name finI_45: '[1]South Zone'!$T$127
Name finI_46: '[1]South Zone'!$T$129
Name finI_47: '[1]South Zone'!$T$132
Name finI_48: '[1]South Zone'!$T$134
Name finI_49: '[1]South Zone'!$T$137
Name finI_50: '[1]South Zone'!$T$138
Name finI_51: '[1]South Zone'!$T$142
Name finI_52: '[1]South Zone'!$T$145
Name finI_53: '[1]South Zone'!$T$148
Name finI_54: '[1]South Zone'!$T$150
Name finI_55: '[1]South Zone'!#REF!
Name finI_56: '[1]South Zone'!#REF!
Name finI_57: '[1]South Zone'!#REF!
Name finI_58: '[1]South Zone'!#REF!
Name finI_59: '[1]South Zone'!#REF!
Name finI_60: '[1]South Zone'!#REF!
Name finI_61: '[1]South Zone'!#REF!
Name finI_62: '[1]South Zone'!$T$171
Name finI_63: '[1]South Zone'!$T$174
Name finI_64: '[1]South Zone'!$T$177
Name finI_65: '[1]South Zone'!$T$181
Name finI_66: '[1]South Zone'!#REF!
Name finR_38: '[1]South Zone'!$U$107
Name finR_39: '[1]South Zone'!$U$110
Name finR_40: '[1]South Zone'!$U$113
Name finR_41: '[1]South Zone'!$U$117
Name finR_42: '[1]South Zone'!$U$118
Name finR_43: '[1]South Zone'!$U$122
Name finR_44: '[1]South Zone'!$U$125
Name finR_45: '[1]South Zone'!$U$127
Name finR_46: '[1]South Zone'!$U$129
Name finR_47: '[1]South Zone'!$U$132
Name finR_48: '[1]South Zone'!$U$134
Name finR_49: '[1]South Zone'!$U$137
Name finR_50: '[1]South Zone'!$U$138
Name finR_51: '[1]South Zone'!$U$142
Name finR_52: '[1]South Zone'!$U$145
Name finR_53: '[1]South Zone'!$U$148
Name finR_54: '[1]South Zone'!$U$150
Name finR_55: '[1]South Zone'!#REF!
Name finR_56: '[1]South Zone'!#REF!
Name finR_57: '[1]South Zone'!#REF!
Name finR_58: '[1]South Zone'!#REF!
Name finR_59: '[1]South Zone'!#REF!
Name finR_60: '[1]South Zone'!#REF!
Name finR_61: '[1]South Zone'!#REF!
Name finR_62: '[1]South Zone'!$U$171
Name finR_63: '[1]South Zone'!$U$174
Name finR_64: '[1]South Zone'!$U$177
Name finR_65: '[1]South Zone'!$U$181
Name finR_66: '[1]South Zone'!#REF!
Name phyI_38: '[1]South Zone'!$P$107
Name phyI_39: '[1]South Zone'!$P$110
Name phyI_40: '[1]South Zone'!$P$113
Name phyI_41: '[1]South Zone'!$P$117

Sheet Phase II
A1: GOVERNMENT OF KARNATAKA, PIU - STATE HIGHWAY DEVELOPMENT PROJECT, K.R.CIRCLE, BANGALORE
A2: SHDP - PHASE - II PROGRESS REPORT
A3: 44530
A4: Sl No | B4: Package No. | D4: Name of Work | E4: SH No. | F4: Administrative Approved Amount (Rs. in lakhs) | G4: Technical sanctioned Amount (Rs. in lakhs) | H4: CER No. | I4: Contract Amount (Rs. in lakhs) | J4: Variation Amount (Rs. in lakhs) | K4: Revised Contract Amount (Rs. in lakhs) | L4: Name of Contractor | M4: Date Of Completion | P4: Length Proposed as per DPR in Km | S4: Length Proposed as per VO in Km | V4: Physical Progress | Z4: Financial Progress | AB4: Balance Length ( Km ) | AE4: Balance (Financial amount) Rs. In Lakhs | AF4: Remarks
M5: Commencement | N5: Completion | O5: Revised | P5: Length (in km) Renewal | Q5: Length (in km) Improvements | R5: Total Length (in km) | S5: Length (in km) Renewal | T5: Length (in km) Improvements | U5: Total Length (in km) | V5: Renewal (km) | W5: Improvements (km) | X5: Total Length Completed (in km) | Y5: % Progress | Z5: Total (Rs. In Lakhs) | AA5: % Progress | AB5: Renewal (km) | AC5: Improvements (km) | AD5: Total Balance Length (in km)
A6: 1 | B6: 2 | D6: 3 | E6: 4 | F6: 5 | G6: 6 | H6: 7 | I6: 8 | J6: 9 | K6: 10 | L6: 11 | M6: 12 | N6: 13 | O6: 14 | P6: 15 | Q6: 16 | R6: 17 | S6: 18 | T6: 19 | U6: 20 | V6: 21 | W6: 22 | X6: 23 | Y6: 24 | Z6: 25 | AA6: 26 | AB6: 27 | AC6: 28 | AD6: 29 | AE6: 30 | AF6: 31
A7: GULBARGA CIRCLE
A8: BIDAR DIVISION
A9: 1 | B9: Pkg 67 | C9: 67a | D9: Improvements to Bhalki-Chincholi road SH-75 from km 0.00 to 51.00 (in selected Reaches)in Bidar Dist. | E9: 75 | F9: 1989.24 | G9: 1929.99 | H9: CER No.: 50/2013-14 | I9: 2311.59 | J9: 220.33 | K9: =I9+J9 -> 2531.92 | L9: Sri.Gurunath Kollur | M9: 22.01.2014 | N9: 21.12.2014 | O9: 31.03.2015 | P9: 11.3 | Q9: 13.1 | R9: =P9+Q9 -> 24.4 | S9: 2.5 | T9: 7.572 | U9: =SUM(S9:T9) -> 10.072 | V9: 2.5 | W9: 7.572 | X9: =V9+W9 -> 10.072 | Y9: =X9/U9 -> 1 | Z9: 2547.38 | AA9: =Z9/I9 -> 1.1020034 | AB9: =S9-V9 -> 0 | AC9: =T9-W9 -> 0 | AD9: =AB9+AC9 -> 0 | AE9: =K9-Z9 -> -15.46 | AF9: Completed
C10: 67b | D10: Improvements to Basavakalyan-Raichur road SH-51 from km 0.00 to 33.00 (in selected reaches) in Basavakalyan Tq.of Bidar Dist. | E10: 51 | P10: 18.3 | Q10: 14.7 | R10: =P10+Q10 -> 33 | S10: 0 | T10: 31 | U10: =SUM(S10:T10) -> 31 | V10: 0 | W10: 31 | X10: =V10+W10 -> 31 | Y10: =X10/U10 -> 1 | AB10: =S10-V10 -> 0 | AC10: =T10-W10 -> 0 | AD10: =AB10+AC10 -> 0
A11: DIVISION TOTAL | F11: =SUM(F9) -> 1989.24 | G11: =SUM(G9) -> 1929.99 | I11: =SUM(I9) -> 2311.59 | J11: =SUM(J9) -> 220.33 | K11: =SUM(K9) -> 2531.92 | P11: =SUM(P9:P10) -> 29.6 | Q11: =SUM(Q9:Q10) -> 27.8 | R11: =SUM(R9:R10) -> 57.4 | S11: =SUM(S9:S10) -> 2.5 | T11: =SUM(T9:T10) -> 38.572 | U11: =SUM(U9:U10) -> 41.072 | V11: =SUM(V9:V10) -> 2.5 | W11: =SUM(W9:W10) -> 38.572 | X11: =SUM(X9:X10) -> 41.072 | Y11: =X11/U11 -> 1 | Z11: =SUM(Z9) -> 2547.38 | AB11: =SUM(AB9:AB10) -> 0 | AC11: =SUM(AC9:AC10) -> 0 | AD11: =SUM(AD9:AD10) -> 0 | AE11: =SUM(AE9) -> -15.46
A12: GULBARGA DIVISION
A13: 2 | B13: Pkg 68 | C13: 68 | D13: Improvements to Gulbarga - Hosur road SH-22 from km 58.15 to 99.80 (in selected reaches) in Gulbarga Dist. | E13: 22 | F13: 2193.5 | G13: 2124.59 | H13: CER No.: 21/2013-14 | I13: 2534.94 | J13: -147.6 | K13: =I13+J13 -> 2387.34 | L13: M/s SRK construction | M13: 26.12.2013 | N13: 25.11.2014 | O13: 42460 | P13: 0 | Q13: 19.8 | R13: =P13+Q13 -> 19.8 | S13: 0 | T13: 19.8 | U13: =SUM(S13:T13) -> 19.8 | V13: 0 | W13: 19.8 | X13: =V13+W13 -> 19.8 | Y13: =X13/U13 -> 1 | Z13: 2288.62 | AA13: =Z13/I13 -> 0.90283005 | AB13: =S13-V13 -> 0 | AC13: =T13-W13 -> 0 | AD13: =AB13+AC13 -> 0 | AE13: =K13-Z13 -> 98.72 | AF13: Completed
A14: 3 | B14: Pkg 69 | C14: 69a | D14: Improvements to Basavakalyan - Raichur road SH-51 from km.32.85 to 115.00 (in selected reaches) in Gulbarga Dist. | E14: 51 | F14: 3251 | G14: 3138.72 | H14: CER No.: 23/2013-14 | I14: 3750.42 | J14: 367.46 | K14: =I14+J14 -> 4117.88 | L14: M/S Haigreeva infratech projects ltd | M14: 26.12.2013 | N14: 25.11.2014 | O14: 42460 | P14: 12.6 | Q14: 39.3 | R14: =P14+Q14 -> 51.9 | S14: 0 | T14: 25.3 | U14: =SUM(S14:T14) -> 25.3 | V14: 0 | W14: 25.3 | X14: =V14+W14 -> 25.3 | Y14: =X14/U14 -> 1 | Z14: 4029.72 | AA14: =Z14/I14 -> 1.0744717 | AB14: =S14-V14 -> 0 | AC14: =T14-W14 -> 0 | AD14: =AB14+AC14 -> 0 | AE14: =K14-Z14 -> 88.16 | AF14: Completed
C15: 69b | D15: Improvements to Bhalki - Chincholi road SH-75 from km.57.60 to 92.20 (in selected reaches) in Gulbarga Dist. | E15: 75 | P15: 3 | Q15: 19 | R15: =P15+Q15 -> 22 | S15: 0 | T15: 16.5 | U15: =SUM(S15:T15) -> 16.5 | V15: 0 | W15: 16.5 | X15: =V15+W15 -> 16.5 | Y15: =X15/U15 -> 1 | AB15: =S15-V15 -> 0 | AC15: =T15-W15 -> 0 | AD15: =AB15+AC15 -> 0
A16: 4 | B16: Pkg 70 | C16: 70 | D16: Improvements to Shahapur - Shivarampur road SH-149 from km.22.61 to 125.44 (in selected reaches)in Gulbarga Dist. | E16: 149 | F16: 2649 | G16: 2564.76 | H16: CER No.: 20/2013-14 | I16: 2985.07 | J16: 295.71 | K16: =I16+J16 -> 3280.78 | L16: M/s S.M.Autade | M16: 26.12.2013 | N16: 25.11.2014 | O16: 42308 | P16: 7.94 | Q16: 49.69 | R16: =P16+Q16 -> 57.63 | S16: 0 | T16: 33.99 | U16: =SUM(S16:T16) -> 33.99 | V16: 0 | W16: 33.99 | X16: =V16+W16 -> 33.99 | Y16: =X16/U16 -> 1 | Z16: 3257.76 | AA16: =Z16/I16 -> 1.0913513 | AB16: =S16-V16 -> 0 | AC16: =T16-W16 -> 0 | AD16: =AB16+AC16 -> 0 | AE16: =K16-Z16 -> 23.02 | AF16: Completed
A17: 5 | B17: Pkg 71 | C17: 71 | D17: Improvements to Shahapur - Shivarampur road SH-149 from km.132.35 to 197.80 (in selected reaches) in Gulbarga Dist. | E17: 149 | F17: 2359 | G17: 2273.03 | H17: CER No.: 19/2013-14 | I17: 2711.75 | J17: =2979.85-2711.75 -> 268.1 | K17: =I17+J17 -> 2979.85 | L17: M/s S.M.Autade | M17: 26.12.2013 | N17: 25.11.2014 | O17: 42308 | P17: 19.09 | Q17: 40.57 | R17: =P17+Q17 -> 59.66 | S17: 3 | T17: 22.01 | U17: =SUM(S17:T17) -> 25.01 | V17: 3 | W17: 22.01 | X17: =V17+W17 -> 25.01 | Y17: =X17/U17 -> 1 | Z17: 2964.49 | AA17: =Z17/I17 -> 1.0932018 | AB17: =S17-V17 -> 0 | AC17: =T17-W17 -> 0 | AD17: =AB17+AC17 -> 0 | AE17: =K17-Z17 -> 15.36 | AF17: Completed
A18: DIVISION TOTAL | F18: =SUM(F13:F17) -> 10452.5 | G18: =SUM(G13:G17) -> 10101.1 | I18: =SUM(I13:I17) -> 11982.18 | J18: =SUM(J13:J17) -> 783.67 | K18: =SUM(K13:K17) -> 12765.85 | P18: =SUM(P13:P17) -> 42.63 | Q18: =SUM(Q13:Q17) -> 168.36 | R18: =SUM(R13:R17) -> 210.99 | S18: =SUM(S13:S17) -> 3 | T18: =SUM(T13:T17) -> 117.6 | U18: =SUM(U13:U17) -> 120.6 | V18: =SUM(V13:V17) -> 3 | W18: =SUM(W13:W17) -> 117.6 | X18: =SUM(X13:X17) -> 120.6 | Y18: =X18/U18 -> 1 | Z18: =SUM(Z13:Z17) -> 12540.59 | AB18: =SUM(AB13:AB17) -> 0 | AC18: =SUM(AC13:AC17) -> 0 | AD18: =SUM(AD13:AD17) -> 0 | AE18: =SUM(AE13:AE17) -> 225.26
A19: YADGIR DIVISION
A20: 6 | B20: Pkg 72 | C20: 72 | D20: Improvements to Srirangapatna - Jewargi road SH-19 from km 505.500 to 542.00 (in selected reaches) in Yadgir Dist. | E20: 19 | F20: 2105 | G20: 1951.24 | H20: CER No.: 17/2013-14 | I20: 2389.62 | J20: 232.42 | K20: =J20+I20 -> 2622.04 | L20: M/s H.P.Madhukar | M20: 26.12.2013 | N20: 25.11.2014 | O20: 31.03.2015 | P20: 0 | Q20: 37.2 | R20: =P20+Q20 -> 37.2 | S20: 12.5 | T20: 38.2 | U20: =S20+T20 -> 50.7 | V20: 12.5 | W20: 38.2 | X20: =V20+W20 -> 50.7 | Y20: =X20/U20 -> 1 | Z20: 2631.68 | AA20: =Z20/K20 -> 1.0036765 | AB20: =S20-V20 -> 0 | AC20: =T20-W20 -> 0 | AD20: =AB20+AC20 -> 0 | AE20: =K20-Z20 -> -9.64 | AF20: Completed
A21: 7 | B21: Pkg 73 | C21: 73 | D21: Improvements to Sindagi - Kodangal road SH-16 from km 40.00 to 73.30 (in selected reaches) in Yadgir Dist. | E21: 16 | F21: 1540.42 | G21: 1408.33 | H21: CER No.: 22/2013-14 | I21: 1688.24 | J21: 165.49 | K21: =SUM(I21:J21) -> 1853.73 | L21: M/S Haigreeva infratech projects ltd | M21: 26.12.2013 | N21: 25.11.2014 | O21: 42307 | P21: 5 | Q21: 27.9 | R21: =P21+Q21 -> 32.9 | S21: 0 | T21: 27.73 | U21: =S21+T21 -> 27.73 | V21: 0 | W21: 27.73 | X21: =V21+W21 -> 27.73 | Y21: =X21/U21 -> 1 | Z21: 1847.34 | AA21: =Z21/K21 -> 0.9965529 | AB21: =S21-V21 -> 0 | AC21: =T21-W21 -> 0 | AD21: =AB21+AC21 -> 0 | AE21: =K21-Z21 -> 6.39 | AF21: Completed
A22: DIVISION TOTAL | F22: =SUM(F20:F21) -> 3645.42 | G22: =SUM(G20:G21) -> 3359.57 | I22: =SUM(I20:I21) -> 4077.86 | J22: =SUM(J20:J21) -> 397.91 | K22: =SUM(K20:K21) -> 4475.77 | P22: =SUM(P20:P21) -> 5 | Q22: =SUM(Q20:Q21) -> 65.1 | R22: =SUM(R20:R21) -> 70.1 | S22: =SUM(S20:S21) -> 12.5 | T22: =SUM(T20:T21) -> 65.93 | U22: =SUM(U20:U21) -> 78.43 | V22: =SUM(V20:V21) -> 12.5 | W22: =SUM(W20:W21) -> 65.93 | X22: =SUM(X20:X21) -> 78.43 | Y22: =X22/U22 -> 1 | Z22: =SUM(Z20:Z21) -> 4479.02 | AA22: =Z22/K22 -> 1.0007261 | AB22: =SUM(AB20:AB21) -> 0 | AC22: =SUM(AC20:AC21) -> 0 | AD22: =SUM(AD20:AD21) -> 0 | AE22: =SUM(AE20:AE21) -> -3.25
A23: GULBARGA CIRCLE TOTAL | F23: =F22+F18+F11 -> 16087.16 | G23: =G22+G18+G11 -> 15390.66 | I23: =I22+I18+I11 -> 18371.63 | J23: =J22+J18+J11 -> 1401.91 | K23: =K22+K18+K11 -> 19773.54 | P23: =P22+P18+P11 -> 77.23 | Q23: =Q22+Q18+Q11 -> 261.26 | R23: =R22+R18+R11 -> 338.49 | S23: =S22+S18+S11 -> 18 | T23: =T22+T18+T11 -> 222.102 | U23: =U22+U18+U11 -> 240.102 | V23: =V22+V18+V11 -> 18 | W23: =W22+W18+W11 -> 222.102 | X23: =X22+X18+X11 -> 240.102 | Y23: =X23/U23 -> 1 | Z23: =Z22+Z18+Z11 -> 19566.99 | AA23: =Z23/K23 -> 0.98955422 | AB23: =AB22+AB18+AB11 -> 0 | AC23: =AC22+AC18+AC11 -> 0 | AD23: =AD22+AD18+AD11 -> 0 | AE23: =AE22+AE18+AE11 -> 206.55
A24: BELLARY CIRCLE
A25: RAICHUR DIVISION
A26: 1 | B26: 74 | D26: Improvements to Managuli - Yeragera State Highway -127 frorn Krn 94.64 to Krn 134.91(selected reaches) in Devadurga Taluka of Raichur District. | E26: 127 | F26: 1968 | G26: 1920.22 | H26: CER No.: 14/2013-14 | I26: 2252.9 | J26: 222.1 | K26: =I26+J26 -> 2475 | L26: M/S Haigreeva infratech projects ltd | M26: 41636 | N26: 41970 | O26: 42460 | P26: 4.72 | Q26: 35.1 | R26: =SUM(P26:Q26) -> 39.82 | S26: 0 | T26: 36.4 | U26: =SUM(S26:T26) -> 36.4 | V26: 0 | W26: 36.4 | X26: =V26+W26 -> 36.4 | Y26: =X26/U26 -> 1 | Z26: 2408.89 | AA26: =Z26/I26 -> 1.0692396 | AB26: =S26-V26 -> 0 | AC26: =T26-W26 -> 0 | AD26: =AB26+AC26 -> 0 | AE26: =K26-Z26 -> 66.11 | AF26: Completed
A27: 2 | B27: 75 | C27: a | D27: (a)Irnprovements to Managuli - Bichal State Highway - 61 from Km 194.34 to Krn 239.03 (selectecl reaches) in Manvi Taluka of Raichur District. | E27: 61 | F27: 3864.2 | G27: 3675.138 | H27: CER No.: 44/2013-14 | I27: 4540.58 | J27: 1117 | K27: =I27+J27 -> 5657.58 | L27: M/s KBR Infratech Ltd | M27: 41829 | N27: 42163 | O27: 42490 | P27: 24.43 | Q27: 16.835 | R27: =SUM(P27:Q27) -> 41.265 | S27: 0 | T27: 20.671 | U27: =SUM(S27:T27) -> 20.671 | V27: 0 | W27: 20.671 | X27: =V27+W27 -> 20.671 | Y27: =X27/U27 -> 1 | Z27: 5155.69 | AA27: =Z27/I27 -> 1.1354695 | AB27: =S27-V27 -> 0 | AC27: =T27-W27 -> 0 | AD27: =AB27+AC27 -> 0 | AE27: =K27-Z27 -> 501.89 | AF27: Completed
C28: b | D28: (b)Improvements to Deodurg - Bellary State Highway-128 from Km76.24 to Km 108.16 (selected reaches) in Sindanur Taluka of Raichur District. | E28: 128 | P28: 9.66 | Q28: 18.3 | R28: =SUM(P28:Q28) -> 27.96 | S28: 0 | T28: =23.16-1.7 -> 21.46 | U28: =SUM(S28:T28) -> 21.46 | V28: 0 | W28: 21.46 | X28: =V28+W28 -> 21.46 | Y28: =X28/U28 -> 1 | AB28: =S28-V28 -> 0 | AC28: =T28-W28 -> 0 | AD28: =AB28+AC28 -> 0
C29: c | D29: (c )Improvements to Chikkesaruru - Mundargi State Highway-129 from Km 0.00 to Km 5l.63 (Selected reaches) in Lingasugur Taluka of Raichur District | E29: 129 | P29: 32.76 | Q29: 8.57 | R29: =SUM(P29:Q29) -> 41.33 | S29: 0 | T29: 19.53 | U29: =SUM(S29:T29) -> 19.53 | V29: 0 | W29: 19.53 | X29: =V29+W29 -> 19.53 | Y29: =X29/U29 -> 1 | AB29: =S29-V29 -> 0 | AC29: =T29-W29 -> 0 | AD29: =AB29+AC29 -> 0
A30: Division Total | F30: =SUM(F26:F29) -> 5832.2 | G30: =SUM(G26:G29) -> 5595.358 | I30: =SUM(I26:I29) -> 6793.48 | J30: =SUM(J26:J29) -> 1339.1 | K30: =SUM(K26:K29) -> 8132.58 | P30: =SUM(P26:P29) -> 71.57 | Q30: =SUM(Q26:Q29) -> 78.805 | R30: =SUM(R26:R29) -> 150.375 | S30: =SUM(S26:S29) -> 0 | T30: =SUM(T26:T29) -> 98.061 | U30: =SUM(U26:U29) -> 98.061 | V30: =SUM(V26:V29) -> 0 | W30: =SUM(W26:W29) -> 98.061 | X30: =SUM(X26:X29) -> 98.061 | Y30: =X30/U30 -> 1 | Z30: =SUM(Z26:Z29) -> 7564.58 | AA30: =Z30/K30 -> 0.93015747 | AB30: =SUM(AB26:AB29) -> 0 | AC30: =SUM(AC26:AC29) -> 0 | AD30: =SUM(AD26:AD29) -> 0 | AE30: =SUM(AE26:AE29) -> 568
A31: BELLARY DIVISION
A32: 3 | B32: 76 | C32: a | D32: Improvements to Raravi - Belur State Highway-63 from Km 13.00 to Km 23.54 (selected reaches) in Siraguppa Taluka of Bellary District. | E32: 63 | F32: 2616 | G32: 2558.56 | H32: CER No.:16/2013-14 | I32: 2829.39 | J32: 703.3 | K32: =I32+J32 -> 3532.69 | L32: Sri.Srinivasa Constructions (India) Pvt.Ltd | M32: 41636 | N32: 41970 | O32: 42460 | P32: 0 | Q32: 10.538 | R32: =SUM(P32:Q32) -> 10.538 | S32: 0 | T32: 2.22 | U32: =SUM(S32:T32) -> 2.22 | V32: 0 | W32: 2.22 | X32: =V32+W32 -> 2.22 | Y32: =X32/U32 -> 1 | Z32: 3443.41 | AA32: =Z32/I32 -> 1.217015 | AB32: =S32-V32 -> 0 | AC32: =T32-W32 -> 0 | AD32: =AB32+AC32 -> 0 | AE32: =K32-Z32 -> 89.28 | AF32: Completed
C33: b | D33: lmprovements to Deodurg - Bellary State Highway-128 from Km 117.11 to Km 180.44 (selected reaches) in Siraguppa Taluka of Bellary District. | E33: 128 | P33: 27.19 | Q33: 29.65 | R33: =SUM(P33:Q33) -> 56.84 | S33: 0.3 | T33: 56.22 | U33: =SUM(S33:T33) -> 56.52 | V33: 0.3 | W33: 56.22 | X33: =V33+W33 -> 56.52 | Y33: =X33/U33 -> 1 | AB33: =S33-V33 -> 0 | AC33: =T33-W33 -> 0 | AD33: =AB33+AC33 -> 0
A34: 4 | B34: 77 | D34: lmprovements to Deodurg - Bellary State Highway-128 from 180.44 Km to Km266.26 (selected reaches) in Bellary Taluka of Bellary District. | E34: 128 | F34: 2497 | G34: 2429.72 | H34: CER NO:15/2013-14 | I34: 2699.59 | J34: 260.75 | K34: =I34+J34 -> 2960.34 | L34: Sri.Srinivasa Constructions (India) Pvt.Ltd | M34: 41636 | N34: 41970 | O34: 30.05.2015 | P34: 46.68 | Q34: 24.63 | R34: =SUM(P34:Q34) -> 71.31 | S34: 20.76 | T34: 33.81 | U34: =SUM(S34:T34) -> 54.57 | V34: 20.76 | W34: 33.81 | X34: =V34+W34 -> 54.57 | Y34: =X34/U34 -> 1 | Z34: 2594.84 | AA34: =Z34/I34 -> 0.96119781 | AB34: =S34-V34 -> 0 | AC34: 0 | AD34: =AB34+AC34 -> 0 | AE34: =K34-Z34 -> 365.5 | AF34: Completed
A35: DIVISION TOTAL | F35: =SUM(F32:F34) -> 5113 | G35: =SUM(G32:G34) -> 4988.28 | I35: =SUM(I32:I34) -> 5528.98 | J35: =SUM(J32:J34) -> 964.05 | K35: =SUM(K32:K34) -> 6493.03 | P35: =SUM(P32:P34) -> 73.87 | Q35: =SUM(Q32:Q34) -> 64.818 | R35: =SUM(R32:R34) -> 138.688 | S35: =SUM(S32:S34) -> 21.06 | T35: =SUM(T32:T34) -> 92.25 | U35: =SUM(U32:U34) -> 113.31 | V35: =SUM(V32:V34) -> 21.06 | W35: =SUM(W32:W34) -> 92.25 | X35: =SUM(X32:X34) -> 113.31 | Y35: =X35/U35 -> 1 | Z35: =SUM(Z32:Z34) -> 6038.25 | AA35: =Z35/K35 -> 0.92995874 | AB35: =SUM(AB32:AB34) -> 0 | AC35: =SUM(AC32:AC34) -> 0 | AD35: =SUM(AD32:AD34) -> 0 | AE35: =SUM(AE32:AE34) -> 454.78
A36: HADAGALI DIVISION
A37: 5 | B37: 78 | C37: a | D37: Improvements to Ekkumbi - Molakalmur State Highway-02 from Km 166.00 to Km 205.80 (in selected reaches) in Kudlgi Taluka of Bellary District. | E37: 2 | F37: 1214 | G37: 1176.69 | H37: CER NO:18/2013-14 | I37: 1396.15 | J37: 136.36 | K37: =J37+I37 -> 1532.51 | L37: Sali Basavaraj | M37: 41636 | N37: 41970 | O37: 27.11.2014 | P37: 0 | Q37: 7.8 | R37: =SUM(P37:Q37) -> 7.8 | S37: 0 | T37: 7.8 | U37: =SUM(S37:T37) -> 7.8 | V37: 0 | W37: 7.8 | X37: =V37+W37 -> 7.8 | Y37: =X37/U37 -> 1 | Z37: 1507.93 | AA37: =Z37/K37 -> 0.98396095 | AB37: =S37-V37 -> 0 | AC37: =T37-W37 -> 0 | AD37: =AB37+AC37 -> 0 | AE37: =K37-Z37 -> 24.58 | AF37: Completed
C38: b | D38: lmprovements to Arabhavi - Challakere State Highway-45 from Km 199.52 to Km 234.10 (selected reaches) in Hadagali Taluka of Bellary District | E38: 45 | P38: 0 | Q38: 16.085 | R38: =SUM(P38:Q38) -> 16.085 | S38: 0 | T38: 16.3 | U38: =SUM(S38:T38) -> 16.3 | V38: 0 | W38: 16.3 | X38: =V38+W38 -> 16.3 | Y38: =X38/U38 -> 1 | AB38: =S38-V38 -> 0 | AC38: =T38-W38 -> 0 | AD38: =AB38+AC38 -> 0
A39: DIVISION TOTAL | F39: =SUM(F37) -> 1214 | G39: =SUM(G37) -> 1176.69 | H39: =SUM(H37) -> 0 | I39: =SUM(I37) -> 1396.15 | J39: =SUM(J37) -> 136.36 | K39: =SUM(K37) -> 1532.51 | M39: =SUM(M37) -> 41636 | P39: =SUM(P37:P38) -> 0 | Q39: =SUM(Q37:Q38) -> 23.885 | R39: =SUM(R37:R38) -> 23.885 | S39: =SUM(S37:S38) -> 0 | T39: =SUM(T37:T38) -> 24.1 | U39: =SUM(U37:U38) -> 24.1 | V39: =SUM(V37:V38) -> 0 | W39: =SUM(W37:W38) -> 24.1 | X39: =SUM(X37:X38) -> 24.1 | Y39: =X39/U39 -> 1 | Z39: =SUM(Z37:Z38) -> 1507.93 | AA39: =Z39/K39 -> 0.98396095 | AB39: =SUM(AB37:AB38) -> 0 | AC39: =SUM(AC37:AC38) -> 0 | AD39: =SUM(AD37:AD38) -> 0 | AE39: =SUM(AE37) -> 24.58
A40: KOPPAL DIVISION
...

Sheet District wise
A1: Phase II Progress District Wise
A2: Sl No | B2: District | C2: No Of Packages | D2: No Of Packages Completed | E2: Improvement in Km | F2: Financial Progress in Lakhs
A4: 1 | B4: Kalburgi | C4: 4 | D4: 4 | E4: ='Phase II'!X18 -> 120.6 | F4: ='Phase II'!Z18 -> 12540.59
A5: 2 | B5: Bidar | C5: 1 | D5: 1 | E5: ='Phase II'!X11 -> 41.072 | F5: ='Phase II'!Z11 -> 2547.38
A6: 3 | B6: Yadgir | C6: 2 | D6: 2 | E6: ='Phase II'!X22 -> 78.43 | F6: ='Phase II'!Z22 -> 4479.02
A7: 4 | B7: Bellary | C7: 3 | D7: 3 | E7: ='Phase II'!X35+'Phase II'!X39 -> 137.41 | F7: ='Phase II'!Z35+'Phase II'!Z39 -> 7546.18
A8: 5 | B8: Raichur | C8: 2 | D8: 2 | E8: ='Phase II'!X30 -> 98.061 | F8: ='Phase II'!Z30 -> 7564.58
A9: 6 | B9: Koppal | C9: 2 | D9: 2 | E9: ='Phase II'!X45 -> 117.2 | F9: ='Phase II'!Z45 -> 5022.16
A10: 7 | B10: Dharwad | C10: 2 | D10: 2 | E10: ='Phase II'!X84 -> 63.02 | F10: ='Phase II'!Z84 -> 4180.04
A11: 8 | B11: Gadag | C11: 1 | D11: 1 | E11: ='Phase II'!X51 -> 57.23 | F11: ='Phase II'!Z51 -> 4161.58
A12: 9 | B12: Haveri | C12: 3 | D12: 3 | E12: ='Phase II'!X60 -> 103.001 | F12: ='Phase II'!Z60 -> 8431.38
A13: 10 | B13: Uttar Kannada | C13: 5 | D13: 5 | E13: ='Phase II'!X74+'Phase II'!X77 -> 338.82 | F13: ='Phase II'!Z74+'Phase II'!Z77 -> 10783.74
A14: 11 | B14: Belgaum | C14: 6 | D14: 6 | E14: ='Phase II'!X97 -> 292.646 | F14: ='Phase II'!Z97 -> 14543.34
A15: 12 | B15: Vijayapura | C15: 3 | D15: 3 | E15: ='Phase II'!X103 -> 88.42 | F15: ='Phase II'!Z103 -> 6679.23
A16: 13 | B16: Bagalkote | C16: 2 | D16: 2 | E16: ='Phase II'!X108 -> 89.24 | F16: ='Phase II'!Z108 -> 3954.03
A17: 14 | B17: Davanagere | C17: 3 | D17: 3 | E17: ='Phase II'!X119 -> 129.03 | F17: 8285.23
A18: 15 | B18: Chitradurga | C18: 1 | D18: 1 | E18: ='Phase II'!X124 -> 41.185 | F18: ='Phase II'!Z124 -> 3169.02
A19: 16 | B19: Shimoga | C19: 6 | D19: 6 | E19: ='Phase II'!X134+'Phase II'!X142 -> 278.696 | F19: ='Phase II'!Z134+'Phase II'!Z142 -> 19267.6
A20: 17 | B20: Bangalore | C20: 1 | D20: 1 | E20: ='Phase II'!X156 -> 31.304 | F20: ='Phase II'!Z156 -> 1223.62
A21: 18 | B21: C B pura | C21: 0 | D21: 0 | E21: 0 | F21: 0
A22: 19 | B22: Ramanagara | C22: 0 | D22: 0 | E22: 0 | F22: 0
A23: 20 | B23: Kolar | C23: 0 | D23: 0 | E23: 0 | F23: 0
A24: 21 | B24: Tumkur | C24: 5 | D24: 5 | E24: ='Phase II'!X152 -> 267.289 | F24: ='Phase II'!Z152 -> 15748.97
A25: 22 | B25: Mandya | C25: 1 | D25: 1 | E25: ='Phase II'!X163 -> 37.265 | F25: ='Phase II'!Z163 -> 2756.38
A26: 23 | B26: Mysore | C26: 2 | D26: 2 | E26: ='Phase II'!X172 -> 64.554 | F26: ='Phase II'!Z172 -> 3557.03
A27: 24 | B27: Chamarajnagar | C27: 2 | D27: 2 | E27: ='Phase II'!X167 -> 67.853 | F27: ='Phase II'!Z167 -> 4467.14
A28: 25 | B28: Udupi | C28: 2 | D28: 2 | E28: ='Phase II'!X190 -> 141.434 | F28: ='Phase II'!Z190 -> 5416.34
A29: 26 | B29: Kodagu | C29: 0 | D29: 0 | E29: 0 | F29: 0
A30: 27 | B30: Dakishna Kannada | C30: 2 | D30: 2 | E30: ='Phase II'!X178+'Phase II'!X181 -> 94 | F30: ='Phase II'!Z178+'Phase II'!Z181 -> 2917.56
A31: 28 | B31: Chickmagaluru | C31: 2 | D31: 2 | E31: ='Phase II'!X200 -> 85.94 | F31: ='Phase II'!Z200 -> 3792.89
A32: 29 | B32: Hassan | C32: 7 | D32: 7 | E32: ='Phase II'!X211+'Phase II'!X219 -> 272.46 | F32: ='Phase II'!Z211+'Phase II'!Z219 -> 22949.51
A33: TOTAL | C33: =SUM(C4:C32) -> 70 | D33: =SUM(D4:D32) -> 70 | E33: =SUM(E4:E32) -> 3136.16 | F33: =SUM(F4:F32) -> 185984.54

Sheet Sheet1
A1: Bangalore Circle
A2: Division | B2: PKG No | C2: VO Status | D2: EOT Status
A3: Bangalore Rural | B3: 293 | C3: Approved | D3: Under Scrutiny
B4: 294
B5: 295
B6: 296
B7: 297
A8: Ramnagar | B8: 298 | C8: Under Scrutiny
B9: 299
B10: 300
B11: 301
B12: 302
B13: 303
B14: 304
B15: 305
A16: Tumkur | B16: 306 | C16: Yet to be submitted | D16: To be approved
B17: 307 | C17: Approved | D17: To be approved
B18: 308 | C18: Under Discussion | D18: Yet to be submitted
B19: 309 | C19: Yet to be submitted | D19: Yet to be submitted
B20: 310 | C20: Yet to be submitted | D20: Yet to be submitted
B21: 311 | C21: Under Scrutiny | D21: Yet to be submitted
B22: 312 | C22: Yet to be submitted | D22: Yet to be submitted
A23: Madhugiri | B23: 313 | C23: - | D23: Revised proposal Yet to be submitted
B24: 314 | C24: Yet to be submitted | D24: Sent to Government
B25: 315 | C25: - | D25: Revised programme of work to be submitted
B26: 316 | C26: Yet to be submitted | D26: Sent to Government
A27: Kolar | B27: 317 | C27: Yet to be submitted | D27: Revised programme of work to be submitted
B28: 318 | C28: Yet to be submitted | D28: Yet to be submitted
B29: 319 | C29: Yet to be submitted | D29: Yet to be submitted
B30: 320 | C30: Approved | D30: EOT1 approved EOT2 proposal Yet to be submitted
A31: Chikkaballapura | B31: 321 | C31: Approved | D31: -
B32: 322 | C32: Approved | D32: -
B33: 323 | C33: Yet to be submitted | D33: Sent to Government
B34: 324 | C34: Yet to be submitted | D34: Yet to be submitted
B35: 325 | C35: Yet to be submitted | D35: Yet to be submitted
