Workbook

Sheet 2024-25
A1: GOVERNMENT OF KARNATAKA, PIU - STATE HIGHWAY DEVELOPMENT PROJECT, K.R.CIRCLE, BANGALORE
A2: Package wise Details of Phase-4 Stage-2
A3: As on 28th FEBURARY 2026
A4: 1 | B4: 2 | D4: 3 | E4: 4 | F4: 5 | G4: 6 | I4: 7 | J4: 8 | K4: 9 | L4: 10 | O4: 11 | P4: 12 | Q4: 13 | R4: 14 | S4: 15 | T4: 16 | U4: 17 | V4: 18 | W4: 19 | X4: 20 | Y4: 21 | Z4: 22 | AA4: 23
A5: Sl No | B5: PKG No | D5: Name of Work | E5: SH/ MDR | F5: CER No | G5: Administrative Approved Amount (Rs. in lakhs) | H5: Total Package Cost (Rs. in lakhs) | I5: Technical sanctioned Amount (Rs. in lakhs) | J5: Contract Amount (in Lakhs) | K5: Variation Amount (Rs. in lakhs) | L5: Revised Contract Amount including VO (Rs. in lakhs) | M5: Revised Contract Amount With GST | N5: Revised Contract Amount +PMC cost With GST | O5: Name of Agency | P5: Stipulated Date | S5: Length Proposed as per DPR in Km | T5: Length Proposed as per VO in Km | U5: Physical Progress | W5: Balance Length ( Km ) | X5: Financial Progress | Z5: Balance (Financial amount) Rs. In Lakhs | AA5: Remarks | AY5: Revised Contract Amount +PMC cost With GST
P6: Commencement | Q6: Completion | R6: Revised Completion Date | U6: Total Length Completed (in km) | V6: % Progress | X6: Total Cost (Rs. In Lakhs) | Y6: % Progress
A7: Kalaburagi Circle
A8: Bidar Division
A9: 1 | B9: 429 | C9: A | D9: Improvements to SH-122 Maharastra Border Murki-Aurad-Handarki from Km 0.00 to Km 62.40 (in selected reaches) in Aurad Taluka of Bidar District. | E9: SH- 122 | F9: 9 | G9: 2300 | H9: 3300 | I9: 2847.57 | J9: 3360.22 | K9: 836.68 | L9: =K9+J9 -> 4196.9 | N9: =(I9*1.4%+L9)*1.18 -> 4999.3839 | O9: M/s JS Infra Private Ltd, | P9: 30.5.2022 | Q9: 30.11.2023 | R9: 30.08.2024 | S9: ='Width Wise'!F10 -> 9.7 | T9: ='Width Wise'!G10 -> 11.4 | U9: ='Width Wise'!L10 -> 11.4 | V9: =U9/T9 -> 1 | W9: =T9-U9 -> 0 | X9: 4124.96 | Y9: =X9/N9 -> 0.82509368 | Z9: =N9-X9 -> 874.42386 | AA9: Work completed | AC9: 1 | AJ9: 1 | AK9: 1890.9788 | AQ9: #N/A
C10: B | D10: Improvements to SH-34 Aurad - Sadashivagad, from Km 21.00 to Km 72.50 (in selected reaches) in Bhalki Taluka of Bidar District. | E10: SH-34 | F10: 18 | G10: 1000 | S10: ='Width Wise'!F11 -> 4.41 | T10: ='Width Wise'!G11 -> 6.04 | U10: ='Width Wise'!L11 -> 6.04 | V10: =U10/T10 -> 1 | W10: =T10-U10 -> 0 | AF10: Wrong Entry | AJ10: 2 | AK10: 2058.8756
A11: 2 | B11: 430 | D11: Improvements to road Rajeshwar to Mudbi New SH from Km 0.00 to Km 15.00 (in selected reaches) in Basavakalyan Taluka of Bidar District. | E11: New SH | F11: 22 | G11: 950 | H11: 950 | I11: 812.39 | J11: 974.88 | K11: 97.07 | L11: =K11+J11 -> 1071.95 | N11: =(I11*1.4%+L11)*1.18 -> 1278.3217 | O11: Sri. Prashanth Joshi M/s Santhosh Buildwel Infra Pvt Ltd., | P11: 44775 | Q11: 45231 | R11: 31.03.2025 | S11: ='Width Wise'!F12 -> 3.6 | T11: ='Width Wise'!G12 -> 3.6 | U11: ='Width Wise'!L12 -> 3.6 | V11: =U11/T11 -> 1 | W11: =T11-U11 -> 0 | X11: 1073.09 | Y11: =X11/N11 -> 0.83945224 | Z11: =N11-X11 -> 205.23168 | AA11: Work Completed | AC11: 2 | AJ11: 3 | AK11: 3050.1025
A12: =A11+1 -> 3 | B12: 601 | D12: Improvements to road SH-126 A.P Border with Putpak-Bhosaga from Km 147.20 to Km 156.00 (in selected reaches) in Basavakalyan Taluka of Bidar District. | E12: SH-126 | F12: 27 | G12: 1000 | H12: 1000 | I12: 860.46 | J12: 1035.9 | K12: 102.18 | L12: =K12+J12 -> 1138.08 | N12: =(I12*1.4%+L12)*1.18 -> 1357.1492 | O12: Sri. Narayan Rao Vittalrao Kulkarni, Bijapur | P12: 07.05.2022 | Q12: 06.04.2023 | S12: ='Width Wise'!F13 -> 4.5 | T12: ='Width Wise'!G13 -> 5.17 | U12: ='Width Wise'!L13 -> 5.17 | V12: =U12/T12 -> 1 | W12: =T12-U12 -> 0 | X12: 1326.03 | Y12: =X12/N12 -> 0.97707017 | Z12: =N12-X12 -> 31.119199 | AA12: Work Completed | AC12: 3 | AJ12: 4 | AK12: 1977.2878
A13: =A12+1 -> 4 | B13: 602 | D13: Improvements to SH-122 Maharastra Border -Murki-Aurad-Handarki from Km 117.80 to Km 123.31 (in selected reaches) in Chitaguppa Taluka of Bidar District | E13: SH -122 | F13: 30 | G13: 950 | H13: 950 | I13: 818.33 | J13: 965.64 | L13: =K13+J13 -> 965.64 | N13: =(I13*1.4%+L13)*1.18 -> 1152.974 | O13: Kotarki Laxman Sangamesh ( M/S Kotarki Constructions Private Limited) | P13: 44772 | Q13: 31.10.2024 | R13: 31.10.2024 | S13: ='Width Wise'!F14 -> 4 | T13: ='Width Wise'!G14 -> 4 | U13: ='Width Wise'!L14 -> 4 | V13: =U13/T13 -> 1 | W13: =T13-U13 -> 0 | X13: 787.49 | Y13: =X13/N13 -> 0.68300759 | Z13: =N13-X13 -> 365.48401 | AA13: Work Completed | AC13: 24 | AJ13: 5 | AK13: 2251.5457
D14: Division Total | G14: =SUM(G9:G13) -> 6200 | H14: =SUM(H9:H13) -> 6200 | I14: =SUM(I9:I13) -> 5338.75 | J14: =SUM(J9:J13) -> 6336.64 | K14: =SUM(K9:K13) -> 1035.93 | L14: =SUM(L9:L13) -> 7372.57 | N14: =SUM(N9:N13) -> 8787.8287 | S14: =SUM(S9:S13) -> 26.21 | T14: =SUM(T9:T13) -> 30.21 | U14: =SUM(U9:U13) -> 30.21 | W14: =SUM(W9:W13) -> 0 | X14: =SUM(X9:X13) -> 7311.57 | Z14: =SUM(Z9:Z13) -> 1476.2587 | AJ14: 6 | AK14: 2706.8361
A15: Kalaburagi Division | T15: ='Width Wise'!G16 -> 0 | AJ15: 7 | AK15: 2900.442
A16: 5 | B16: 431 | D16: Improvements to SH-124 Barkhed-Bilagi, from Km 0.00 to Km 71.15 (in selected reaches) in Aland Taluka of Kalaburagi District. (Via Bhimapur, Kamanalli, Lingadalli-Madan Hipparga-Nimbal) | E16: SH-124 | F16: 33 | G16: 2200 | H16: 2200 | I16: 1896.93 | J16: 2371.17 | L16: =K16+J16 -> 2371.17 | N16: =(I16*1.4%+L16)*1.18 -> 2829.3179 | O16: Sri. Shivkant C Mahajan, | P16: 44727 | Q16: 45274 | S16: ='Width Wise'!F17 -> 8.55 | T16: ='Width Wise'!G17 -> 8.55 | U16: ='Width Wise'!L17 -> 8.55 | V16: =U16/T16 -> 1 | W16: =T16-U16 -> 0 | X16: 2234.34 | Y16: =X16/N16 -> 0.78970978 | Z16: =N16-X16 -> 594.97788 | AA16: Work Completed.Final bill submitted | AC16: 4 | AJ16: 8 | AK16: 2939.4542
A17: 6 | B17: 432 | C17: A | D17: Improvements to road Bankalga cross to Mashal, MDR from Km 0.00 to Km 14.00 (in selected reaches) in Afzalpur Taluka of Kalaburagi District. | E17: AFZ204 | F17: 36 | G17: 500 | H17: 950 | I17: 815.4 | J17: 994.79 | K17: 98.91 | L17: =J17+K17 -> 1093.7 | M17: 1290.56 | N17: =(I17*1.4%+L17)*1.18 -> 1304.0364 | O17: Sri. Manzoor Ahmed Patel M/s M A P Construction, Kalaburagi | P17: 44702 | Q17: 30.11.2023 | S17: ='Width Wise'!F18 -> 2.92 | T17: ='Width Wise'!G18 -> 3.7 | U17: ='Width Wise'!L18 -> 3.7 | V17: =U17/T17 -> 1 | W17: =T17-U17 -> 0 | X17: 1293.47 | Y17: =X17/N17 -> 0.99189715 | Z17: =N17-X17 -> 10.566408 | AA17: Work Completed | AC17: 5 | AJ17: 9 | AK17: 2725.4484
C18: B | D18: Improvements to S.H-124 Barked-Bilagi from Km 102.00 to Km 108.00 (in selected reaches) in Afzalpur Taluka of Kalaburagi District. | E18: SH- 124 | F18: 44 | G18: 450 | S18: ='Width Wise'!F19 -> 1.93 | T18: ='Width Wise'!G19 -> 1.93 | U18: ='Width Wise'!L19 -> 1.93 | V18: =U18/T18 -> 1 | W18: =T18-U18 -> 0 | AJ18: 10 | AK18: 1771.5805
A19: 7 | B19: 603 | D19: Improvements to MDR from NH-218, Kattisangavi to Yenkanchi (SH-16) via Madari-Yengunta- Naribol-Biral(B)-Ganvar-Chigralli-ijeri-alur-kadkol-manashivanagi from Km 40.00 to 50.00 Km (in selected reaches) ( from chigralli cross to yedrami )in Jevargi Taluka of Kalaburagi District. | E19: JEW45 | F19: 45 | G19: 950 | H19: 950 | I19: 817.94 | J19: 940.64 | L19: =J19+K19 -> 940.64 | N19: =(I19*1.4%+L19)*1.18 -> 1123.4676 | O19: Sri. Mohammed Sirajuddin, Kalaburagai | P19: 21-5-2022 | Q19: 30.12.2023 | S19: ='Width Wise'!F20 -> 5.2 | T19: ='Width Wise'!G20 -> 5.2 | U19: ='Width Wise'!L20 -> 5.2 | V19: =U19/T19 -> 1 | W19: =T19-U19 -> 0 | X19: 809.57 | Y19: =X19/N19 -> 0.72059935 | Z19: =N19-X19 -> 313.89757 | AA19: Work Completed | AC19: 6 | AF19: =9.94-4.585 -> 5.355 | AJ19: 11 | AK19: 1671.2955
A20: 8 | B20: 433 | D20: Improvements to road from Kadagunchi-Bodana road (MDR) to Tonasalli (SH125), MDR from Km 0.00 to Km17.50 and Km 26.50 to Km 35.00 (in selected reaches) in Kalaburagi Taluka of Kalaburagi District. | E20: New MDR | F20: 50 | G20: 2100 | H20: 2100 | I20: 1808.92 | J20: 2261.15 | K20: 190.03 | L20: =J20+K20 -> 2451.18 | M20: 2892.39 | N20: =(I20*1.4%+L20)*1.18 -> 2922.2758 | O20: Sri. Shivkant C Mahajan, Kalaburagi | P20: 15-6.2022 | Q20: 30.08.2024 | S20: ='Width Wise'!F21 -> 9.935 | T20: ='Width Wise'!G21 -> 10.435 | U20: ='Width Wise'!L21 -> 9.935 | V20: =U20/T20 -> 0.95208433 | W20: =T20-U20 -> 0.5 | X20: 2036.35 | Y20: =X20/N20 -> 0.69683704 | Z20: =N20-X20 -> 885.92576 | AA20: 0.5km Road asphalting work & Furniture Work pending | AB20: 1 | AC20: A | AJ20: 12 | AK20: 1259.9329
A21: 9 | B21: 434 | C21: A | D21: Improvements to road Narona -Chinchansoor, MDR from Km 0.00 to Km 6.30 (in selected reaches) in Aland Taluka of Kalaburagi District. | E21: ALD11 | F21: 54 | G21: 400 | H21: 2250 | I21: 1935.72 | J21: 2414.5 | L21: =K21+J21 -> 2414.5 | N21: =(I21*1.4%+L21)*1.18 -> 2881.0881 | O21: Sri.Santosh Subhash Guttedar | P21: 44722 | Q21: 45269 | S21: ='Width Wise'!F22 -> 1.85 | T21: ='Width Wise'!G22 -> 1.85 | U21: ='Width Wise'!L22 -> 1.85 | V21: =U21/T21 -> 1 | W21: =T21-U21 -> 0 | X21: 1545.71 | Y21: =X21/N21 -> 0.53650216 | Z21: =N21-X21 -> 1335.3781 | AA21: Work Completed | AC21: 7 | AJ21: 13 | AK21: 1390.0602
C22: B | D22: Improvements to road from Malgathi cross to Bolewad via Nippani, MDR from Km 0.00 to Km 4.20 and Km 16.00 to Km 24.00 (in selected reaches) in Kalaburagi Taluka of Kalaburagi District. | E22: GUL205 | F22: 55 | G22: 1150 | S22: ='Width Wise'!F23 -> 3.92 | T22: ='Width Wise'!G23 -> 3.92 | U22: ='Width Wise'!L23 -> 3.92 | V22: =U22/T22 -> 1 | W22: =T22-U22 -> 0 | AJ22: 14 | AK22: 2220.5926
C23: C | D23: Improvements to road from Aurad B(on NH-218) to Jambga(B) (on SH-51) MDR from Km 0.00 to Km 10.70(in selected reaches) in Kalaburagi Taluka of Kalaburagi District. | E23: GUL15 | F23: 63 | G23: 700 | S23: ='Width Wise'!F24 -> 3.97 | T23: ='Width Wise'!G24 -> 3.97 | U23: ='Width Wise'!L24 -> 3.97 | V23: =U23/T23 -> 1 | W23: =T23-U23 -> 0 | AJ23: 15 | AK23: 2646.7122
D24: Kalaburagi Division Total | G24: =SUM(G16:G23) -> 8450 | H24: =SUM(H16:H23) -> 8450 | I24: =SUM(I16:I23) -> 7274.91 | J24: =SUM(J16:J23) -> 8982.25 | K24: =SUM(K16:K23) -> 288.94 | L24: =SUM(L16:L23) -> 9271.19 | M24: =SUM(M16:M23) -> 4182.95 | N24: =SUM(N16:N23) -> 11060.186 | S24: =SUM(S16:S23) -> 38.275 | T24: =SUM(T16:T23) -> 39.555 | U24: =SUM(U16:U23) -> 39.055 | W24: =SUM(W16:W23) -> 0.5 | X24: =SUM(X16:X23) -> 7919.44 | Z24: =SUM(Z16:Z23) -> 3140.7457 | AJ24: 16 | AK24: 1873.2053
A25: Sedam Division | T25: ='Width Wise'!G26 -> 0 | AJ25: 17 | AK25: 2916.0108
A26: 10 | B26: 435 | D26: Improvements to SH-122 Maharastra Border - Murki-Aurad-Handarki, from Km 153.80 to Km 164.00 Km and Km 207.00 to Km 218.77 (in selected reaches) in Sedam/ Chincholi Taluka of Kalaburagi District | E26: SH-122 | F26: 66 | G26: 2250 | H26: 2250 | I26: 1938.02 | J26: 2238.42 | K26: 217.96 | L26: =J26+K26 -> 2456.38 | M26: 2898.53 | N26: =(I26*1.4%+L26)*1.18 -> 2930.5445 | O26: Siddappagouda Patil | P26: 31.5.2022 | Q26: 30.06.2024 | S26: ='Width Wise'!F27 -> 11.81 | T26: ='Width Wise'!G27 -> 11.45 | U26: ='Width Wise'!L27 -> 11.45 | V26: =U26/T26 -> 1 | W26: =T26-U26 -> 0 | X26: 2471.12 | Y26: =X26/N26 -> 0.84322897 | Z26: =N26-X26 -> 459.42449 | AA26: Work Completed | AC26: 8 | AJ26: 18 | AK26: 2705.5646
A27: 11 | B27: 600 | D27: Improvements to SH-32 Umarga border-Aland-VK Salagar-Mahagaon -Sulepet road, from Km 80.00 to Km 118.00 via Herur Cross - Sulepet (in selected reaches) in Chincholi Taluka of Kalaburagi District. | E27: SH-32 | F27: 72 | G27: 2250 | H27: 2250 | I27: 1938.3 | J27: 2289.8 | K27: 209.42 | L27: =J27+K27 -> 2499.22 | N27: =(I27*1.4%+L27)*1.18 -> 2981.1003 | O27: M/s Sharada Construction Pvt Ltd | P27: 44727 | Q27: 01.05.2024 | S27: ='Width Wise'!F28 -> 13.83 | T27: ='Width Wise'!G28 -> 13.83 | U27: ='Width Wise'!L28 -> 13.83 | V27: =U27/T27 -> 1 | W27: =T27-U27 -> 0 | X27: 2319.54 | Y27: =X27/N27 -> 0.77808183 | Z27: =N27-X27 -> 661.56032 | AA27: Work Completed | AC27: 9 | AJ27: 19 | AK27: 2882.3884
A28: 12 | B28: 436 | D28: Improvements to SH -126 Telangana border - Putpak-Bhosaga,from Km 60.00 to Km 75.00 (Chittapur Bus Depot to Tengali Cross SH-10) (in selected reaches) in Chittapur Taluka of Kalaburagi District. | E28: SH-126 | F28: 77 | G28: 1000 | H28: 1000 | I28: 861.3 | J28: 981.02 | K28: 242.63 | L28: =J28+K28 -> 1223.65 | N28: =(I28*1.4%+L28)*1.18 -> 1458.1357 | O28: Manzoor Ahamed | P28: 44735 | Q28: 45068 | S28: ='Width Wise'!F29 -> 3.4 | T28: ='Width Wise'!G29 -> 4.32 | U28: ='Width Wise'!L29 -> 4.32 | V28: =U28/T28 -> 1 | W28: =T28-U28 -> 0 | X28: 1388.86 | Y28: =X28/N28 -> 0.95249024 | Z28: =N28-X28 -> 69.275676 | AA28: Work Completed | AC28: 10 | AJ28: 20 | AK28: 2826.6159
D29: Division Total | G29: =SUM(G26:G28) -> 5500 | H29: =SUM(H26:H28) -> 5500 | I29: =SUM(I26:I28) -> 4737.62 | J29: =SUM(J26:J28) -> 5509.24 | K29: =SUM(K26:K28) -> 670.01 | L29: =SUM(L26:L28) -> 6179.25 | M29: =SUM(M26:M28) -> 2898.53 | N29: =SUM(N26:N28) -> 7369.7805 | S29: =SUM(S26:S28) -> 29.04 | T29: ='Width Wise'!G30 -> 29.6 | U29: =SUM(U26:U28) -> 29.6 | W29: =SUM(W26:W28) -> 0 | X29: =SUM(X26:X28) -> 6179.52 | Z29: =SUM(Z26:Z28) -> 1190.2605 | AJ29: 21 | AK29: 3114.9369
A30: Yadgir Division | AJ30: 22 | AK30: 2921.4467
A31: 13 | B31: =B28+1 -> 437 | C31: A | D31: Improvements to road Maharastra Border to Raichur Border (Markel- Kollur-Bilihar) road, MDR from Km 3.00 Km 9.00 (in selected reaches) in Wadgera Taluka of Yadgir District. | E31: New SH | F31: 88 | G31: 860 | H31: 2150 | I31: 1851.53 | J31: 2090.18 | K31: 199.72 | L31: =J31+K31 -> 2289.9 | M31: 2702.08 | N31: =(I31*1.4%+L31)*1.18 -> 2732.6693 | O31: Shri.Siddappagouda Patil, Yadgir | P31: 44727 | Q31: 30.05.2024 | S31: ='Width Wise'!F32 -> 4.75 | T31: ='Width Wise'!G32 -> 4.75 | U31: ='Width Wise'!L32 -> 4.75 | V31: =U31/T31 -> 1 | W31: =T31-U31 -> 0 | X31: 2105.58 | Y31: =X31/N31 -> 0.77052134 | Z31: =N31-X31 -> 627.08928 | AA31: work completed | AD31: B | AJ31: 23 | AK31: 3168.9009
C32: B | D32: Improvements to road NH-150A to SH-127 Sangam-Raichur Border, MDR from Km16.30 to Km 57.00 (in selected reaches) in Wadgera Taluka of Yadgir District. | E32: SHA35 | F32: 90 | G32: 860 | S32: ='Width Wise'!F33 -> 4.95 | T32: ='Width Wise'!G33 -> 5.31 | U32: ='Width Wise'!L33 -> 5.31 | V32: =U32/T32 -> 1 | W32: =T32-U32 -> 0 | AA32: work completed | AJ32: 24 | AK32: 2191.5448
C33: C | D33: Improvements to road Kurakunda to Bilhar Via Hortur, Halgera, Godihal Kumanur, Arjunagi, Kandalli, MDR from Km 0.00 to Km 13.00 (in selected reaches) in Wadgera Taluka of Yadgir District. | E33: MDR | F33: 91 | G33: 430 | S33: ='Width Wise'!F34 -> 2.3 | T33: ='Width Wise'!G34 -> 2.3 | U33: ='Width Wise'!L34 -> 2.3 | V33: =U33/T33 -> 1 | W33: =T33-U33 -> 0 | AA33: Work completed | AJ33: 25 | AK33: 2469.9691
A34: 14 | B34: 438 | D34: Improvements to SH-16 Sindagi - Kodangal from Km 125.22 to KM 155.62 (in selected reaches) in Gurmitkal Taluka of Yadgir District. | E34: SH-16 | F34: 95 | G34: 950 | H34: 950 | I34: 816.04 | J34: 942.546 | K34: 91.62 | L34: =J34+K34 -> 1034.166 | N34: =(I34*1.4%+L34)*1.18 -> 1233.7969 | O34: Shri.Siddappagouda Patil, Yadgir | P34: 31.5.2022 | Q34: 30.06.204 | S34: ='Width Wise'!F35 -> 9.5 | T34: ='Width Wise'!G35 -> 11.7 | U34: ='Width Wise'!L35 -> 11.7 | V34: =U34/T34 -> 1 | W34: =T34-U34 -> 0 | X34: 945.58 | Y34: =X34/N34 -> 0.76639845 | Z34: =N34-X34 -> 288.21686 | AA34: Work completed | AC34: 11 | AJ34: 26 | AK34: 2117.5127
A35: =A34+1 -> 15 | B35: =B34+1 -> 439 | C35: A | D35: Improvements to road Devargonal to Gogi, MDR from Km 12.80 to Km 20.80 (in selected reaches) in Shahpur Taluka of Yadgir District. | E35: SHA55 | F35: 92 | G35: 700 | H35: =G35+G36 -> 950 | I35: 817.92 | J35: 977.38 | K35: 97.14 | L35: =J35+K35 -> 1074.52 | N35: =(I35*1.4%+L35)*1.18 -> 1281.4456 | O35: Shri.Chandrarayya, Yadgir | P35: 25.5.2022 | Q35: 24.4.2023 | S35: ='Width Wise'!F36 -> 3.82 | T35: ='Width Wise'!G36 -> 4.29 | U35: ='Width Wise'!L36 -> 4.29 | V35: =U35/T35 -> 1 | W35: =T35-U35 -> 0 | X35: 1163.13 | Y35: =X35/N35 -> 0.90767019 | Z35: =N35-X35 -> 118.31564 | AA35: Work Completed | AC35: 12 | AJ35: 27 | AK35: 2512.4155
C36: B | D36: Improvements to road Bheemarayan Gudi to Bijaspur, MDR from Km 10.00 to KM 17.50 (in selected reaches) in Shahpur Taluka of Yadgir District. | E36: SHA59 | F36: 93 | G36: 250 | S36: ='Width Wise'!F37 -> 1.5 | T36: ='Width Wise'!G37 -> 1.5 | U36: ='Width Wise'!L37 -> 1.5 | V36: =U36/T36 -> 1 | W36: =T36-U36 -> 0 | AJ36: 28 | AK36: 2202.5555
A37: =A35+1 -> 16 | B37: =B35+1 -> 440 | D37: Improvements to SH-155 from Pattan cross(SH-10) to Narayanapura dam Km110.00 to KM 167.30 (in selected reaches) in Shorapur Taluka of Yadgir District. | E37: SH-155 | F37: 94 | G37: 2700 | H37: 2700 | I37: 2323.03 | J37: 2760.38 | K37: 595.48 | L37: =J37+K37 -> 3355.86 | N37: =(I37*1.4%+L37)*1.18 -> 3998.2913 | O37: Sri. Basangouda Allikoti, Yadgir | P37: 44727 | Q37: 31.05.2024 | S37: ='Width Wise'!F38 -> 48.52 | T37: ='Width Wise'!G38 -> 15.87 | U37: ='Width Wise'!L38 -> 15.87 | V37: =U37/T37 -> 1 | W37: =T37-U37 -> 0 | X37: 2998.93 | Y37: =X37/N37 -> 0.75005291 | Z37: =N37-X37 -> 999.36126 | AA37: Road work completed | AC37: 13 | AJ37: 29 | AK37: 2070.9989
D38: Division Total | G38: =SUM(G31:G37) -> 6750 | H38: =SUM(H31:H37) -> 6750 | I38: =SUM(I31:I37) -> 5808.52 | J38: =SUM(J31:J37) -> 6770.486 | K38: =SUM(K31:K37) -> 983.96 | L38: =SUM(L31:L37) -> 7754.446 | M38: =SUM(M31:M37) -> 2702.08 | N38: =SUM(N31:N37) -> 9246.203 | S38: =SUM(S31:S37) -> 75.34 | T38: =SUM(T31:T37) -> 45.72 | U38: =SUM(U31:U37) -> 45.72 | W38: =SUM(W31:W37) -> 0 | X38: =SUM(X31:X37) -> 7213.22 | Z38: =SUM(Z31:Z37) -> 2032.983 | AJ38: 30 | AK38: 2710.9786
D39: Kalburgi Circle Total | G39: =G38+G29+G24+G14 -> 26900 | H39: =H38+H29+H24+H14 -> 26900 | I39: =I38+I29+I24+I14 -> 23159.8 | J39: =J38+J29+J24+J14 -> 27598.616 | K39: =K38+K29+K24+K14 -> 2978.84 | L39: =L38+L29+L24+L14 -> 30577.456 | M39: =M38+M29+M24+M14 -> 9783.56 | N39: =N38+N29+N24+N14 -> 36463.998 | S39: =S38+S29+S24+S14 -> 168.865 | T39: =T38+T29+T24+T14 -> 145.085 | U39: =U38+U29+U24+U14 -> 144.585 | W39: =W38+W29+W24+W14 -> 0.5 | X39: =X38+X29+X24+X14 -> 28623.75 | Z39: =Z38+Z29+Z24+Z14 -> 7840.248 | AJ39: 31 | AK39: 3572.5833
A40: Ballary Circle | AJ40: 32 | AK40: 3469.7752
...

Sheet Width Wise
A1: GOVERNMENT OF KARNATAKA, PIU - STATE HIGHWAY DEVELOPMENT PROJECT, K.R.CIRCLE, BANGALORE | S1: 10.75
A2: Package wise Details of Phase-4 Stage-2 | Q2: =10.525+S3 -> 10.75 | S2: =1.785+8.74 -> 10.525
A3: GOVERNMENT OF KARNATAKA, PIU - STATE HIGHWAY DEVELOPMENT PROJECT, K.R.CIRCLE, BANGALORE | Q3: =8.74+0.225 -> 8.965 | S3: =S1-S2 -> 0.225
A4: SHDP - PHASE - IV Stage-2 PROGRESS REPORT
A5: As on 28th FEBURARY 2026
A6: 0 | B6: PKG No | D6: Name of Work | E6: SH/ MDR | F6: Length Proposed as per DPR in Km | G6: Length Proposed as per VO in Km | H6: Total Length Completed | L6: Total
H7: 14 m Width | I7: 7 m Width | J7: 5.50 m Width | K7: 3.75 m Width | Q7: =F10-L10 -> -1.7
A8: Kalaburagi Circle | Q8: =F11-L11 -> -1.63
A9: Bidar Division | Q9: =F12-L12 -> 0
A10: 1 | B10: 429 | C10: A | D10: Improvements to SH-122 Maharastra Border Murki-Aurad-Handarki from Km 0.00 to Km 62.40 (in selected reaches) in Aurad Taluka of Bidar District. | E10: SH- 122 | F10: 9.7 | G10: 11.4 | I10: 11.4 | L10: =SUM(H10:K10) -> 11.4 | N10: =IF(G10='2024-25'!A:AA,0,'Width Wise'!G10-'2024-25'!T9) -> 0 | O10: =IF(L10='2024-25'!U9,0,'Width Wise'!L10-'2024-25'!U9) -> 0 | Q10: =F13-L13 -> -0.67
C11: B | D11: Improvements to SH-34 Aurad - Sadashivagad, from Km 21.00 to Km 72.50 (in selected reaches) in Bhalki Taluka of Bidar District. | E11: SH-34 | F11: 4.41 | G11: 6.04 | I11: 4.41 | J11: 1.63 | L11: =SUM(H11:K11) -> 6.04 | N11: =IF(G11='2024-25'!A:AA,0,'Width Wise'!G11-'2024-25'!T10) -> 0 | O11: =IF(L11='2024-25'!U10,0,'Width Wise'!L11-'2024-25'!U10) -> 0 | Q11: =F14-L14 -> 0 | S11: 7.16
A12: 2 | B12: 430 | D12: Improvements to road Rajeshwar to Mudbi New SH from Km 0.00 to Km 15.00 (in selected reaches) in Basavakalyan Taluka of Bidar District. | E12: New SH | F12: 3.6 | G12: 3.6 | I12: 3.6 | L12: =SUM(H12:K12) -> 3.6 | N12: =IF(G12='2024-25'!A:AA,0,'Width Wise'!G12-'2024-25'!T11) -> 0 | O12: =IF(L12='2024-25'!U11,0,'Width Wise'!L12-'2024-25'!U11) -> 0 | Q12: =F15-L15 -> -4 | S12: wrong entry
A13: =A12+1 -> 3 | B13: 601 | D13: Improvements to road SH-126 A.P Border with Putpak-Bhosaga from Km 147.20 to Km 156.00 (in selected reaches) in Basavakalyan Taluka of Bidar District. | E13: SH-126 | F13: 4.5 | G13: 5.17 | J13: 5.17 | L13: =SUM(H13:K13) -> 5.17 | N13: =IF(G13='2024-25'!A:AA,0,'Width Wise'!G13-'2024-25'!T12) -> 0 | O13: =IF(L13='2024-25'!U12,0,'Width Wise'!L13-'2024-25'!U12) -> 0 | Q13: =F16-L16 -> 0
A14: =A13+1 -> 4 | B14: 602 | D14: Improvements to SH-122 Maharastra Border -Murki-Aurad-Handarki from Km 117.80 to Km 123.31 (in selected reaches) in Chitaguppa Taluka of Bidar District | E14: SH -122 | F14: 4 | G14: 4 | I14: 4 | L14: =SUM(H14:K14) -> 4 | N14: =IF(G14='2024-25'!A:AA,0,'Width Wise'!G14-'2024-25'!T13) -> 0 | O14: =IF(L14='2024-25'!U13,0,'Width Wise'!L14-'2024-25'!U13) -> 0 | Q14: =F17-L17 -> 0
D15: Division Total | F15: =SUM(F10:F14) -> 26.21 | G15: =SUM(G10:G14) -> 30.21 | H15: =SUM(H10:H14) -> 0 | I15: =SUM(I10:I14) -> 23.41 | J15: =SUM(J10:J14) -> 6.8 | K15: =SUM(K10:K14) -> 0 | L15: =SUM(L10:L14) -> 30.21 | N15: =IF(G15='2024-25'!A:AA,0,'Width Wise'!G15-'2024-25'!T14) -> 0 | O15: =IF(L15='2024-25'!U14,0,'Width Wise'!L15-'2024-25'!U14) -> 0 | Q15: =F18-L18 -> -0.78
A16: Kalaburagi Division | N16: =IF(G16='2024-25'!A:AA,0,'Width Wise'!G16-'2024-25'!T15) -> 0 | O16: =IF(L16='2024-25'!U15,0,'Width Wise'!L16-'2024-25'!U15) -> 0 | Q16: =F19-L19 -> 0
A17: 5 | B17: 431 | D17: Improvements to SH-124 Barkhed-Bilagi, from Km 0.00 to Km 71.15 (in selected reaches) in Aland Taluka of Kalaburagi District. (Via Bhimapur, Kamanalli, Lingadalli-Madan Hipparga-Nimbal) | E17: SH-124 | F17: 8.55 | G17: 8.55 | I17: 8.55 | L17: =SUM(H17:K17) -> 8.55 | N17: =IF(G17='2024-25'!A:AA,0,'Width Wise'!G17-'2024-25'!T16) -> 0 | O17: =IF(L17='2024-25'!U16,0,'Width Wise'!L17-'2024-25'!U16) -> 0 | Q17: =F20-L20 -> 0
A18: 6 | B18: 432 | C18: A | D18: Improvements to road Bankalga cross to Mashal, MDR from Km 0.00 to Km 14.00 (in selected reaches) in Afzalpur Taluka of Kalaburagi District. | E18: AFZ204 | F18: 2.92 | G18: 3.7 | J18: 3.7 | L18: =SUM(H18:K18) -> 3.7 | N18: =IF(G18='2024-25'!A:AA,0,'Width Wise'!G18-'2024-25'!T17) -> 0 | O18: =IF(L18='2024-25'!U17,0,'Width Wise'!L18-'2024-25'!U17) -> 0 | Q18: =F21-L21 -> 0
C19: B | D19: Improvements to S.H-124 Barked-Bilagi from Km 102.00 to Km 108.00 (in selected reaches) in Afzalpur Taluka of Kalaburagi District. | E19: SH- 124 | F19: 1.93 | G19: 1.93 | J19: 1.93 | L19: =SUM(H19:K19) -> 1.93 | N19: =IF(G19='2024-25'!A:AA,0,'Width Wise'!G19-'2024-25'!T18) -> 0 | O19: =IF(L19='2024-25'!U18,0,'Width Wise'!L19-'2024-25'!U18) -> 0 | Q19: =F22-L22 -> 0
A20: 7 | B20: 603 | D20: Improvements to MDR from NH-218, Kattisangavi to Yenkanchi (SH-16) via Madari-Yengunta- Naribol-Biral(B)-Ganvar-Chigralli-ijeri-alur-kadkol-manashivanagi from Km 40.00 to 50.00 Km (in selected reaches) ( from chigralli cross to yedrami )in Jevargi Taluka of Kalaburagi District. | E20: JEW45 | F20: 5.2 | G20: 5.2 | J20: 5.2 | L20: =SUM(H20:K20) -> 5.2 | N20: =IF(G20='2024-25'!A:AA,0,'Width Wise'!G20-'2024-25'!T19) -> 0 | O20: =IF(L20='2024-25'!U19,0,'Width Wise'!L20-'2024-25'!U19) -> 0 | Q20: =F23-L23 -> 0
A21: 8 | B21: 433 | D21: Improvements to road from Kadagunchi-Bodana road (MDR) to Tonasalli (SH125), MDR from Km 0.00 to Km17.50 and Km 26.50 to Km 35.00 (in selected reaches) in Kalaburagi Taluka of Kalaburagi District. | E21: New MDR | F21: 9.935 | G21: 10.435 | J21: 9.935 | L21: =SUM(H21:K21) -> 9.935 | N21: =IF(G21='2024-25'!A:AA,0,'Width Wise'!G21-'2024-25'!T20) -> 0 | O21: =IF(L21='2024-25'!U20,0,'Width Wise'!L21-'2024-25'!U20) -> 0 | Q21: =F24-L24 -> 0
A22: 9 | B22: 434 | C22: A | D22: Improvements to road Narona -Chinchansoor, MDR from Km 0.00 to Km 6.30 (in selected reaches) in Aland Taluka of Kalaburagi District. | E22: ALD11 | F22: 1.85 | G22: 1.85 | I22: 1.85 | L22: =SUM(H22:K22) -> 1.85 | N22: =IF(G22='2024-25'!A:AA,0,'Width Wise'!G22-'2024-25'!T21) -> 0 | O22: =IF(L22='2024-25'!U21,0,'Width Wise'!L22-'2024-25'!U21) -> 0 | Q22: =F25-L25 -> -0.78
C23: B | D23: Improvements to road from Malgathi cross to Bolewad via Nippani, MDR from Km 0.00 to Km 4.20 and Km 16.00 to Km 24.00 (in selected reaches) in Kalaburagi Taluka of Kalaburagi District. | E23: GUL205 | F23: 3.92 | G23: 3.92 | J23: 3.92 | L23: =SUM(H23:K23) -> 3.92 | N23: =IF(G23='2024-25'!A:AA,0,'Width Wise'!G23-'2024-25'!T22) -> 0 | O23: =IF(L23='2024-25'!U22,0,'Width Wise'!L23-'2024-25'!U22) -> 0 | Q23: =F26-L26 -> 0
C24: C | D24: Improvements to road from Aurad B(on NH-218) to Jambga(B) (on SH-51) MDR from Km 0.00 to Km 10.70(in selected reaches) in Kalaburagi Taluka of Kalaburagi District. | E24: GUL15 | F24: 3.97 | G24: 3.97 | I24: 3.97 | L24: =SUM(H24:K24) -> 3.97 | N24: =IF(G24='2024-25'!A:AA,0,'Width Wise'!G24-'2024-25'!T23) -> 0 | O24: =IF(L24='2024-25'!U23,0,'Width Wise'!L24-'2024-25'!U23) -> 0 | Q24: =F27-L27 -> 0.36
D25: Division Total | F25: =SUM(F17:F24) -> 38.275 | G25: =SUM(G17:G24) -> 39.555 | H25: =SUM(H17:H24) -> 0 | I25: =SUM(I17:I24) -> 14.37 | J25: =SUM(J17:J24) -> 24.685 | K25: =SUM(K17:K24) -> 0 | L25: =SUM(L17:L24) -> 39.055 | N25: =IF(G25='2024-25'!A:AA,0,'Width Wise'!G25-'2024-25'!T24) -> 0 | O25: =IF(L25='2024-25'!U24,0,'Width Wise'!L25-'2024-25'!U24) -> 0 | Q25: =F28-L28 -> 0
A26: Sedam Division | N26: =IF(G26='2024-25'!A:AA,0,'Width Wise'!G26-'2024-25'!T25) -> 0 | O26: =IF(L26='2024-25'!U25,0,'Width Wise'!L26-'2024-25'!U25) -> 0 | Q26: =F29-L29 -> -0.92
A27: 10 | B27: 435 | D27: Improvements to SH-122 Maharastra Border - Murki-Aurad-Handarki, from Km 153.80 to Km 164.00 Km and Km 207.00 to Km 218.77 (in selected reaches) in Sedam/ Chincholi Taluka of Kalaburagi District | E27: SH-122 | F27: 11.81 | G27: 11.45 | J27: 11.45 | L27: =SUM(H27:K27) -> 11.45 | N27: =IF(G27='2024-25'!A:AA,0,'Width Wise'!G27-'2024-25'!T26) -> 0 | O27: =IF(L27='2024-25'!U26,0,'Width Wise'!L27-'2024-25'!U26) -> 0 | Q27: =F30-L30 -> -0.56
A28: 11 | B28: 600 | D28: Improvements to SH-32 Umarga border-Aland-VK Salagar-Mahagaon -Sulepet road, from Km 80.00 to Km 118.00 via Herur Cross - Sulepet (in selected reaches) in Chincholi Taluka of Kalaburagi District. | E28: SH-32 | F28: 13.83 | G28: 13.83 | J28: 13.83 | L28: =SUM(H28:K28) -> 13.83 | N28: =IF(G28='2024-25'!A:AA,0,'Width Wise'!G28-'2024-25'!T27) -> 0 | O28: =IF(L28='2024-25'!U27,0,'Width Wise'!L28-'2024-25'!U27) -> 0 | Q28: =F31-L31 -> 0
A29: 12 | B29: 436 | D29: Improvements to SH -126 Telangana border - Putpak-Bhosaga,from Km 60.00 to Km 75.00 (Chittapur Bus Depot to Tengali Cross SH-10) (in selected reaches) in Chittapur Taluka of Kalaburagi District. | E29: SH-126 | F29: 3.4 | G29: 4.32 | I29: 4.32 | L29: =SUM(H29:K29) -> 4.32 | N29: =IF(G29='2024-25'!A:AA,0,'Width Wise'!G29-'2024-25'!T28) -> 0 | O29: =IF(L29='2024-25'!U28,0,'Width Wise'!L29-'2024-25'!U28) -> 0 | Q29: =F32-L32 -> 0
D30: Division Total | F30: =SUM(F27:F29) -> 29.04 | G30: =SUM(G27:G29) -> 29.6 | H30: =SUM(H27:H29) -> 0 | I30: =SUM(I27:I29) -> 4.32 | J30: =SUM(J27:J29) -> 25.28 | K30: =SUM(K27:K29) -> 0 | L30: =SUM(L27:L29) -> 29.6 | N30: =IF(G30='2024-25'!A:AA,0,'Width Wise'!G30-'2024-25'!T29) -> 0 | O30: =IF(L30='2024-25'!U29,0,'Width Wise'!L30-'2024-25'!U29) -> 0 | Q30: =F33-L33 -> -0.36
A31: Yadgir Division | N31: =IF(G31='2024-25'!A:AA,0,'Width Wise'!G31-'2024-25'!T30) -> 0 | O31: =IF(L31='2024-25'!U30,0,'Width Wise'!L31-'2024-25'!U30) -> 0 | Q31: =F34-L34 -> 0
A32: 13 | B32: =B29+1 -> 437 | C32: A | D32: Improvements to road Maharastra Border to Raichur Border (Markel- Kollur-Bilihar) road, MDR from Km 3.00 Km 9.00 (in selected reaches) in Wadgera Taluka of Yadgir District. | E32: New SH | F32: 4.75 | G32: 4.75 | J32: 4.75 | L32: =SUM(H32:K32) -> 4.75 | N32: =IF(G32='2024-25'!A:AA,0,'Width Wise'!G32-'2024-25'!T31) -> 0 | O32: =IF(L32='2024-25'!U31,0,'Width Wise'!L32-'2024-25'!U31) -> 0 | Q32: =F35-L35 -> -2.2
C33: B | D33: Improvements to road NH-150A to SH-127 Sangam-Raichur Border, MDR from Km16.30 to Km 57.00 (in selected reaches) in Wadgera Taluka of Yadgir District. | E33: SHA35 | F33: 4.95 | G33: 5.31 | I33: 0.36 | J33: 4.95 | L33: =SUM(H33:K33) -> 5.31 | N33: =IF(G33='2024-25'!A:AA,0,'Width Wise'!G33-'2024-25'!T32) -> 0 | O33: =IF(L33='2024-25'!U32,0,'Width Wise'!L33-'2024-25'!U32) -> 0 | Q33: =F36-L36 -> -0.47
C34: C | D34: Improvements to road Kurakunda to Bilhar Via Hortur, Halgera, Godihal Kumanur, Arjunagi, Kandalli, MDR from Km 0.00 to Km 13.00 (in selected reaches) in Wadgera Taluka of Yadgir District. | E34: MDR | F34: 2.3 | G34: 2.3 | J34: 2.3 | L34: =SUM(H34:K34) -> 2.3 | N34: =IF(G34='2024-25'!A:AA,0,'Width Wise'!G34-'2024-25'!T33) -> 0 | O34: =IF(L34='2024-25'!U33,0,'Width Wise'!L34-'2024-25'!U33) -> 0 | Q34: =F37-L37 -> 0
A35: 14 | B35: 438 | D35: Improvements to SH-16 Sindagi - Kodangal from Km 125.22 to KM 155.62 (in selected reaches) in Gurmitkal Taluka of Yadgir District. | E35: SH-16 | F35: 9.5 | G35: 11.7 | I35: 11.7 | L35: =SUM(H35:K35) -> 11.7 | N35: =IF(G35='2024-25'!A:AA,0,'Width Wise'!G35-'2024-25'!T34) -> 0 | O35: =IF(L35='2024-25'!U34,0,'Width Wise'!L35-'2024-25'!U34) -> 0 | Q35: =F38-L38 -> 32.65
A36: =A35+1 -> 15 | B36: =B35+1 -> 439 | C36: A | D36: Improvements to road Devargonal to Gogi, MDR from Km 12.80 to Km 20.80 (in selected reaches) in Shahpur Taluka of Yadgir District. | E36: SHA55 | F36: 3.82 | G36: 4.29 | J36: 4.29 | L36: =SUM(H36:K36) -> 4.29 | N36: =IF(G36='2024-25'!A:AA,0,'Width Wise'!G36-'2024-25'!T35) -> 0 | O36: =IF(L36='2024-25'!U35,0,'Width Wise'!L36-'2024-25'!U35) -> 0 | Q36: =F39-L39 -> 29.62
C37: B | D37: Improvements to road Bheemarayan Gudi to Bijaspur, MDR from Km 10.00 to KM 17.50 (in selected reaches) in Shahpur Taluka of Yadgir District. | E37: SHA59 | F37: 1.5 | G37: 1.5 | J37: 1.5 | L37: =SUM(H37:K37) -> 1.5 | N37: =IF(G37='2024-25'!A:AA,0,'Width Wise'!G37-'2024-25'!T36) -> 0 | O37: =IF(L37='2024-25'!U36,0,'Width Wise'!L37-'2024-25'!U36) -> 0 | Q37: =F40-L40 -> 24.28
A38: =A36+1 -> 16 | B38: =B36+1 -> 440 | D38: Improvements to SH-155 from Pattan cross(SH-10) to Narayanapura dam Km110.00 to KM 167.30 (in selected reaches) in Shorapur Taluka of Yadgir District. | E38: SH-155 | F38: 48.52 | G38: 15.87 | J38: 15.87 | L38: =SUM(H38:K38) -> 15.87 | N38: =IF(G38='2024-25'!A:AA,0,'Width Wise'!G38-'2024-25'!T37) -> 0 | O38: =IF(L38='2024-25'!U37,0,'Width Wise'!L38-'2024-25'!U37) -> 0 | Q38: =F41-L41 -> 0
D39: Division Total | F39: =SUM(F32:F38) -> 75.34 | G39: =SUM(G32:G38) -> 45.72 | H39: =SUM(H32:H38) -> 0 | I39: =SUM(I32:I38) -> 12.06 | J39: =SUM(J32:J38) -> 33.66 | K39: =SUM(K32:K38) -> 0 | L39: =SUM(L32:L38) -> 45.72 | N39: =IF(G39='2024-25'!A:AA,0,'Width Wise'!G39-'2024-25'!T38) -> 0 | O39: =IF(L39='2024-25'!U38,0,'Width Wise'!L39-'2024-25'!U38) -> 0 | Q39: =F42-L42 -> 0
D40: Kalaburgi Circle Total | F40: =F39+F30+F25+F15 -> 168.865 | G40: =G39+G30+G25+G15 -> 145.085 | H40: =H39+H30+H25+H15 -> 0 | I40: =I39+I30+I25+I15 -> 54.16 | J40: =J39+J30+J25+J15 -> 90.425 | K40: =K39+K30+K25+K15 -> 0 | L40: =L39+L30+L25+L15 -> 144.585 | N40: =IF(G40='2024-25'!A:AA,0,'Width Wise'!G40-'2024-25'!T39) -> 0 | O40: =IF(L40='2024-25'!U39,0,'Width Wise'!L40-'2024-25'!U39) -> 0 | Q40: =F43-L43 -> 0.43
...

Sheet District wise
A1: 46081
A2: Phase IV Stage-II Progress District Wise
A3: Sl No | B3: District | C3: No Of Packages | D3: No Of Packages Completed | E3: Completed works | F3: Improvement in Km | G3: Financial Progress | H3: Completed | I3: Zone | K3: Balance works
A5: 1 | B5: Kalburgi | C5: 8 | E5: 29 | F5: ='2024-25'!U24+'2024-25'!U29 -> 68.655 | G5: 12615.97 | H5: 4 | I5: =SUM(F5:F10) -> 311.525 | J5: NE | K5: 5 | L5: 433441593454456
A6: 2 | B6: Bidar | C6: 4 | F6: ='2024-25'!U14 -> 30.21 | G6: 13763.22 | H6: 2
A7: 3 | B7: Yadgir | C7: 4 | F7: ='2024-25'!U38 -> 45.72 | G7: 8736.12 | H7: 1
A8: 4 | B8: Bellary | C8: 7 | F8: ='2024-25'!U49+'2024-25'!U60 -> 74.444 | G8: 15832.15 | H8: 0 | P8: 34
A9: 5 | B9: Raichur | C9: 6 | F9: ='2024-25'!U86 -> 44.346 | G9: 13854.09 | H9: 1
A10: 6 | B10: Koppal | C10: 5 | F10: ='2024-25'!U70 -> 48.15 | G10: 12162.15 | H10: 1
A11: 7 | B11: Dharwad | C11: 7 | E11: 56 | F11: ='2024-25'!U108 -> 76.124 | G11: 9842.8 | H11: 0 | I11: =SUM(F11:F17) -> 718.355 | J11: N | K11: 2
A12: 8 | B12: Gadag | C12: 4 | F12: ='2024-25'!U124 -> 77.84 | G12: 6163.25 | H12: 3 | P12: 58
A13: 9 | B13: Haveri | C13: 7 | F13: ='2024-25'!U146 -> 113.17 | G13: 10413.23 | H13: 2 | L13: 475,495,
A14: 10 | B14: Uttar Kannada | C14: 7 | F14: ='2024-25'!U159+'2024-25'!U168 -> 134.971 | G14: 10582.91 | H14: 2
A15: 11 | B15: Belgaum | C15: 19 | F15: ='2024-25'!U213+'2024-25'!U233 -> 189.57 | G15: 17561.66 | H15: =4+8 -> 12
A16: 12 | B16: Vijayapura | C16: 8 | F16: ='2024-25'!U181 -> 55.68 | G16: 41467.11 | H16: 1
A17: 13 | B17: Bagalkote | C17: 6 | F17: ='2024-25'!U197 -> 71 | G17: 11122.08 | H17: 3
A18: 14 | B18: Davanagere | C18: 5 | E18: 31 | F18: ='2024-25'!U257 -> 74.538 | G18: 11687.1 | H18: 0 | I18: =SUM(F18:F20)+F21+F22+F23 -> 536.362 | J18: Central | K18: 3
A19: 15 | B19: Chitradurga | C19: 7 | F19: ='2024-25'!U275 -> 101.3 | G19: 15298.04 | H19: 4
A20: 16 | B20: Shimoga | C20: 7 | F20: ='2024-25'!U286+'2024-25'!U295 -> 106.585 | G20: 12239.84 | H20: =0 -> 0 | L20: 514515544 | P20: 34
A21: 17 | B21: Udupi | C21: 4 | F21: ='2024-25'!U331 -> 61.429 | G21: 11435.03 | H21: 1
A22: 18 | B22: Dakishna Kannada | C22: 7 | F22: ='2024-25'!U356 -> 82.02 | G22: 9605.64 | H22: 3
A23: 19 | B23: Chickmagaluru | C23: 4 | F23: ='2024-25'!U313 -> 110.49 | G23: 12011.04 | H23: 3
A24: 20 | B24: Bangalore | C24: 6 | E24: 46 | F24: ='2024-25'!U385 -> 95.316 | G24: 8526.74 | H24: 0 | I24: =SUM(F24:F31)+F32+F33 -> 703.405 | J24: South | K24: 6
A25: 21 | B25: C B pura | C25: 3 | F25: ='2024-25'!U436 -> 48.086 | G25: 11900.3 | H25: 2 | L25: 548552573574606
A26: 22 | B26: Ramanagara | C26: 3 | F26: ='2024-25'!U392+'2024-25'!U397 -> 55.74 | G26: 15611.02 | H26: 1 | P26: 52
A27: 23 | B27: Kolar | C27: 3 | F27: ='2024-25'!U450 -> 58.993 | G27: 11594.3 | H27: 0
A28: 24 | B28: Tumkur | C28: 11 | F28: ='2024-25'!U417+'2024-25'!U426 -> 110.989 | G28: 27652.69 | H28: 8
A29: 25 | B29: Mandya | C29: 7 | F29: ='2024-25'!U482 -> 68.825 | G29: 25220.98 | H29: 2
A30: 26 | B30: Mysore | C30: 5 | F30: ='2024-25'!U496+'2024-25'!U508 -> 68.35 | G30: 21611.53 | H30: 2
A31: 27 | B31: Chamarajnagar | C31: 4 | F31: ='2024-25'!U525 -> 46.744 | G31: 6139.84 | H31: 0
A32: 28 | B32: Kodagu | C32: 3 | F32: ='2024-25'!U555 -> 51.388 | G32: 2441.14 | H32: 3
A33: 29 | B33: Hassan | C33: 7 | F33: ='2024-25'!U547 -> 98.974 | G33: 46455.14 | H33: 4
A34: TOTAL | C34: =SUM(C5:C33) -> 178 | D34: =SUM(D5:D33) -> 0 | E34: =SUM(E5:E33) -> 162 | F34: =SUM(F5:F33) -> 2269.647 | G34: =SUM(G5:G33) -> 433547.11 | H34: =SUM(H5:H33) -> 65 | I34: =SUM(I5:I33) -> 2269.647 | K34: =SUM(K5:K33) -> 16
C35: 178
F36: =I34-F34 -> 0
E37: =C34-E34 -> 16 | K37: =I34-K34 -> 2253.647 | N37: =34-28 -> 6
A46: V stage-I nov | B46: 0 | C46: 23.83 | D46: 0 | E46: 21.22 | F46: 0 | I46: 45.05 | K46: 21.22
A47: V stage-I dec | B47: 0 | C47: 23.83 | D47: 8.77 | E47: 29.99 | F47: 11 | I47: 64.82 | K47: 29.99
A48: diff | B48: =B47-B46 -> 0 | C48: =C47-C46 -> 0 | D48: =D47-D46 -> 8.77 | E48: =E47-E46 -> 8.77 | F48: =F47-F46 -> 11 | G48: =G47-G46 -> 0 | H48: =H47-H46 -> 0 | I48: =I47-I46 -> 19.77 | K48: =K47-K46 -> 8.77

Sheet 2022-23 (6)
A1: GOVERNMENT OF KARNATAKA, PIU - STATE HIGHWAY DEVELOPMENT PROJECT, K.R.CIRCLE, BANGALORE
A2: Package wise Details of Phase-4 Stage-2
A4: 1 | B4: 2 | D4: 3 | E4: 4 | F4: 5 | G4: 6 | I4: 7 | J4: 8 | K4: 9 | L4: 10 | O4: 11 | P4: 12 | Q4: 13 | R4: 14 | S4: 15 | T4: 16 | U4: 17 | V4: 18 | W4: 19 | X4: 20 | Y4: 21 | Z4: 22 | AA4: 23
A5: Sl No | B5: PKG No | D5: Name of Work | E5: SH/ MDR | F5: CER No | G5: Administrative Approved Amount (Rs. in lakhs) | H5: Total Package Cost (Rs. in lakhs) | I5: Technical sanctioned Amount (Rs. in lakhs) | J5: Contract Amount (in Lakhs) | K5: Variation Amount (Rs. in lakhs) | L5: Revised Contract Amount including VO (Rs. in lakhs) | M5: Revised Contract Amount With GST | N5: Revised Contract Amount +PMC cost With GST | O5: Name of Agency | P5: Stipulated Date | S5: Length Proposed as per DPR in Km | T5: Length Proposed as per VO in Km | U5: Physical Progress | W5: Balance Length ( Km ) | X5: Financial Progress | Z5: Balance (Financial amount) Rs. In Lakhs | AA5: Remarks
P6: Commencement | Q6: Completion | R6: Revised Completion Date | U6: Total Length Completed (in km) | V6: % Progress | X6: Total Cost (Rs. In Lakhs) | Y6: % Progress
A7: Kalaburagi Circle
A8: Bidar Division
A9: 1 | B9: 429 | C9: A | D9: Improvements to SH-122 Maharastra Border Murki-Aurad-Handarki from Km 0.00 to Km 62.40 (in selected reaches) in Aurad Taluka of Bidar District. | E9: SH- 122 | F9: 9 | G9: 2300 | H9: 3300 | I9: 2847.57 | J9: 3360.22 | K9: 836.68 | L9: 4196.9 | O9: M/s JS Infra Private Ltd, | P9: 30.5.2022 | Q9: 30.11.2023 | S9: 9.7 | T9: 11.4 | U9: 11.15 | V9: 0.97807018 | W9: 0.25 | X9: 2485.34 | Y9: 0.59218471 | Z9: 1711.56 | AA9: 0.25 Km GSB+WMM+DBM+BC & CC drain Pending
C10: B | D10: Improvements to SH-34 Aurad - Sadashivagad, from Km 21.00 to Km 72.50 (in selected reaches) in Bhalki Taluka of Bidar District. | E10: SH-34 | F10: 18 | G10: 1000 | S10: 4.41 | T10: 6.04 | U10: 4.41 | V10: 0.73013245 | W10: 1.63 | AA10: 1.63 Km BC Pending
A11: 2 | B11: 602 | D11: Improvements to SH-122 Maharastra Border -Murki-Aurad-Handarki from Km 117.80 to Km 123.31 (in selected reaches) in Chitaguppa Taluka of Bidar District | E11: SH -122 | F11: 30 | G11: 950 | H11: 950 | I11: 818.33 | J11: 965.64 | L11: 965.64 | O11: Kotarki Laxman Sangamesh ( M/S Kotarki Constructions Private Limited) | P11: 44772 | Q11: 45106 | S11: 4 | T11: 4 | U11: 0 | V11: 0 | W11: 4 | X11: 0 | Y11: 0 | Z11: 965.64 | AA11: 4.00 Km SG+GSB+WMM+DBM+BC Pending, Instructed EE, PWD to submit resending proposal
D12: Division Total | G12: =SUM(G9:G11) -> 4250 | H12: =SUM(H9:H11) -> 4250 | I12: =SUM(I9:I11) -> 3665.9 | J12: =SUM(J9:J11) -> 4325.86 | K12: =SUM(K9:K11) -> 836.68 | L12: =SUM(L9:L11) -> 5162.54 | M12: =SUM(M9:M11) -> 0 | N12: =SUM(N9:N11) -> 0 | S12: =SUM(S9:S11) -> 18.11 | T12: =SUM(T9:T11) -> 21.44 | U12: =SUM(U9:U11) -> 15.56 | V12: =SUM(V9:V11) -> 1.7082026 | W12: =SUM(W9:W11) -> 5.88 | X12: =SUM(X9:X11) -> 2485.34 | Z12: =SUM(Z9:Z11) -> 2677.2
A13: Kalaburagi Division
A14: 3 | B14: 603 | D14: Improvements to MDR from NH-218, Kattisangavi to Yenkanchi (SH-16) via Madari-Yengunta- Naribol-Biral(B)-Ganvar-Chigralli-ijeri-alur-kadkol-manashivanagi from Km 40.00 to 50.00 Km (in selected reaches) ( from chigralli cross to yedrami )in Jevargi Taluka of Kalaburagi District. | E14: JEW45 | F14: 45 | G14: 950 | H14: 950 | I14: 817.94 | J14: 940.64 | L14: 940.64 | O14: Sri. Mohammed Sirajuddin, Kalaburagai | P14: 44702 | Q14: 45036 | S14: 5.2 | T14: 5.2 | U14: 0 | V14: 0 | W14: 5.2 | X14: 115 | Y14: 0.12225719 | Z14: 825.64 | AA14: 0.77 Km Sub grade, 1.19 Km GSB, Km, 2.19 Km WMM, 3.087 Km DBM & 5.176 Km BC pending.
A15: 4 | B15: 433 | D15: Improvements to road from Kadagunchi-Bodana road (MDR) to Tonasalli (SH125), MDR from Km 0.00 to Km17.50 and Km 26.50 to Km 35.00 (in selected reaches) in Kalaburagi Taluka of Kalaburagi District. | E15: New MDR | F15: 50 | G15: 2100 | H15: 2100 | I15: 1808.92 | J15: 2261.15 | L15: 2261.15 | O15: Sri. Shivkant C Mahajan, Kalaburagi | P15: 44727 | Q15: 45274 | S15: 9.935 | T15: 9.935 | U15: 0 | V15: 0 | W15: 9.935 | X15: 1158.66 | Y15: 0.51242067 | Z15: 1102.49 | AA15: 1.08 Km SG & 1.14 Km GSB, 0.75 Km WMM+BM & 9.275 Km BC & 0.39 Km CC Road & CC drain pending
D16: Division Total | G16: =SUM(G14:G15) -> 3050 | H16: =SUM(H14:H15) -> 3050 | I16: =SUM(I14:I15) -> 2626.86 | J16: =SUM(J14:J15) -> 3201.79 | K16: =SUM(K14:K15) -> 0 | L16: =SUM(L14:L15) -> 3201.79 | M16: =SUM(M14:M15) -> 0 | N16: =SUM(N14:N15) -> 0 | S16: =SUM(S14:S15) -> 15.135 | T16: =SUM(T14:T15) -> 15.135 | U16: =SUM(U14:U15) -> 0 | W16: =SUM(W14:W15) -> 15.135 | X16: =SUM(X14:X15) -> 1273.66 | Z16: =SUM(Z14:Z15) -> 1928.13
A17: Sedam Division
A18: 5 | B18: 435 | D18: Improvements to SH-122 Maharastra Border - Murki-Aurad-Handarki, from Km 153.80 to Km 164.00 Km and Km 207.00 to Km 218.77 (in selected reaches) in Sedam/ Chincholi Taluka of Kalaburagi District | E18: SH-122 | F18: 66 | G18: 2250 | H18: 2250 | I18: 1938.02 | J18: 2238.42 | K18: 217.96 | L18: 2456.38 | O18: Siddappagouda Patil | P18: 31.5.2022 | Q18: 30.11.2023 | S18: 11.81 | T18: 11.81 | U18: 7.62 | V18: 0.64521592 | W18: 4.19 | X18: 452.91 | Y18: 0.18438108 | Z18: 2003.47 | AA18: 0.2 Km SG ,2.42 km GSB, 2.22 Km WMM+DBM, 3.35 Km BC & 0.2 Km DLC+PQC & CC drain pending
A19: 6 | B19: 600 | D19: Improvements to SH-32 Umarga border-Aland-VK Salagar-Mahagaon -Sulepet road, from Km 80.00 to Km 118.00 via Herur Cross - Sulepet (in selected reaches) in Chincholi Taluka of Kalaburagi District. | E19: SH-32 | F19: 72 | G19: 2250 | H19: 2250 | I19: 1938.3 | J19: 2289.8 | K19: 209.42 | L19: 2499.22 | O19: M/s Sharada Construction Pvt Ltd | P19: 44727 | Q19: 45274 | S19: 13.83 | T19: 13.83 | U19: 0 | V19: 0 | W19: 13.83 | X19: 923.33 | Y19: 0.36944727 | Z19: 1575.89 | AA19: 0.40 Km SG+GSB+WMM+DBM & 13.727 Km BC work pending
D20: Division Total | G20: =SUM(G18:G19) -> 4500 | H20: =SUM(H18:H19) -> 4500 | I20: =SUM(I18:I19) -> 3876.32 | J20: =SUM(J18:J19) -> 4528.22 | K20: =SUM(K18:K19) -> 427.38 | L20: =SUM(L18:L19) -> 4955.6 | M20: =SUM(M18:M19) -> 0 | N20: =SUM(N18:N19) -> 0 | S20: =SUM(S18:S19) -> 25.64 | T20: =SUM(T18:T19) -> 25.64 | U20: =SUM(U18:U19) -> 7.62 | W20: =SUM(W18:W19) -> 18.02 | X20: =SUM(X18:X19) -> 1376.24 | Z20: =SUM(Z18:Z19) -> 3579.36
A21: Yadgir Division
A22: 7 | B22: 437 | C22: A | D22: Improvements to road Maharastra Border to Raichur Border (Markel- Kollur-Bilihar) road, MDR from Km 3.00 Km 9.00 (in selected reaches) in Wadgera Taluka of Yadgir District. | E22: New SH | F22: 88 | G22: 860 | H22: 2150 | I22: 1851.53 | J22: 2090.18 | K22: 199.72 | L22: 2289.9 | O22: Shri.Siddappagouda Patil, Yadgir | P22: 44727 | Q22: 45274 | S22: 4.75 | T22: 4.75 | U22: 0 | V22: 0 | W22: 4.75 | X22: 485.96 | Y22: 0.21221887 | Z22: 1803.94 | AA22: 0.8 Km GSB++DLC+PQC & 3.90 Km BC pending 1.35 Km GSB+WMM+DBM+BC work & CC drain pending
C23: B | D23: Improvements to road NH-150A to SH-127 Sangam-Raichur Border, MDR from Km16.30 to Km 57.00 (in selected reaches) in Wadgera Taluka of Yadgir District. | E23: SHA35 | F23: 90 | G23: 860 | S23: 4.95 | T23: 5.31 | U23: 4.95 | V23: 0.93220339 | W23: 0.36 | AA23: 0.36 Km Road work is in Progress
C24: C | D24: Improvements to road Kurakunda to Bilhar Via Hortur, Halgera, Godihal Kumanur, Arjunagi, Kandalli, MDR from Km 0.00 to Km 13.00 (in selected reaches) in Wadgera Taluka of Yadgir District. | E24: MDR | F24: 91 | G24: 430 | S24: 2.3 | T24: 2.3 | U24: 0 | V24: 0 | W24: 2.3 | AA24: 2.30 Km WMM+DBM+BC pending road work
A25: 8 | B25: 440 | D25: Improvements to SH-155 from Pattan cross(SH-10) to Narayanapura dam Km110.00 to KM 167.30 (in selected reaches) in Shorapur Taluka of Yadgir District. | E25: SH-155 | F25: 94 | G25: 2700 | H25: 2700 | I25: 2323.03 | J25: 2760.38 | K25: 595.48 | L25: 3355.86 | O25: Sri. Basangouda Allikoti, Yadgir | P25: 44727 | Q25: 45274 | S25: 48.52 | T25: 16.534 | U25: 4.35 | V25: 0.26309423 | W25: 12.184 | X25: 265 | Y25: 0.078966345 | Z25: 3090.86 | AA25: 12.18 Km SG+GSB+WMM+DBM 15.23 Km BC & 0.108 Km CC & CC drain pending
D26: Division Total | G26: =SUM(G22:G25) -> 4850 | H26: =SUM(H22:H25) -> 4850 | I26: =SUM(I22:I25) -> 4174.56 | J26: =SUM(J22:J25) -> 4850.56 | K26: =SUM(K22:K25) -> 795.2 | L26: =SUM(L22:L25) -> 5645.76 | M26: =SUM(M22:M25) -> 0 | N26: =SUM(N22:N25) -> 0 | S26: =SUM(S22:S25) -> 60.52 | T26: =SUM(T22:T25) -> 28.894 | U26: =SUM(U22:U25) -> 9.3 | W26: =SUM(W22:W25) -> 19.594 | X26: =SUM(X22:X25) -> 750.96 | Z26: =SUM(Z22:Z25) -> 4894.8
D27: Kalburgi Circle Total | G27: =G26+G20+G12 -> 13600 | H27: =H26+H20+H12 -> 13600 | I27: =I26+I20+I12 -> 11716.78 | J27: =J26+J20+J12 -> 13704.64 | K27: =K26+K20+K12 -> 2059.26 | L27: =L26+L20+L12 -> 15763.9 | M27: =M26+M20+M12 -> 0 | N27: =N26+N20+N12 -> 0 | S27: =S26+S20+S12 -> 104.27 | T27: =T26+T20+T12 -> 75.974 | U27: =U26+U20+U12 -> 32.48 | W27: =W26+W20+W12 -> 43.494 | X27: =X26+X20+X12 -> 4612.54 | Z27: =Z26+Z20+Z12 -> 11151.36
A28: Ballary Circle
A29: Ballary Division
A30: 9 | B30: 441 | C30: A | D30: Improvements to MDR road of Ballary - Kalyanadurga Ch.0.80 km to 2.00 Km ( double road) in Ballary taluk, Ballary district. | E30: MDRBER6 | F30: 96/21-22 | G30: 600 | H30: 1400 | I30: 1197.28 | J30: 1292.96 | L30: 1292.96 | O30: Sri. T Ramanjaneya Reddy, Mysore | P30: 44747 | Q30: 45203 | S30: 1.08 | T30: 1.08 | U30: 0.275 | V30: 0.25462963 | W30: 0.805 | X30: 320.79 | Y30: 0.24810512 | Z30: 972.17 | AA30: Sub Grade-0.525 kmGSB-0.525 kmWMM-0.525 km DBM-0.275 kmBC-0.275 km CC Drain-1.205 km completed
C31: B | D31: Improvements MDR road from Kampli-Kurugodu-Kuduthini-Haraginidoni-Ballary-Aluru via Moka village Devalapura -Kamalapura from ch.88.99 km to 90.39 Km (in selected reaches) in Ballary taluk,Ballary district. | E31: SH-132(BER19) | F31: 97/21-22 | G31: 800 | S31: 1.06 | T31: 1.06 | U31: 0.35 | V31: 0.33018868 | W31: 0.71 | AA31: Sub Grade-6.600 km GSB-0.600 km WMM-0.300 km DBM-0.300 km BC-0.300 km CC Drain-0.600 km completed Box Culvert work in progress 2x2,2v & 2x2,1v
A32: 10 | B32: 443 | C32: A | D32: Improvements to road from maruthi camp somasandra Siddammanahalli to Yarangalli village road chainage 5.00 Km to 9.50 Km in kurugodu Taluk Bellary District. | E32: MDR | F32: 111/21-22 | G32: 400 | H32: 950 | I32: 813.27 | J32: 934.45 | K32: 89.79 | L32: 1024.24 | O32: Sri. Kalkutiginahal Masididipura Praveen Kumar (Sri Siddarameswara Construction), Ballary | P32: 44720 | Q32: 45053 | S32: 2.05 | T32: 2.05 | U32: 2.05 | V32: 1 | W32: 0 | X32: 555.41 | Y32: 0.54226548 | Z32: 468.83 | AA32: Road furniture work is in Progress
C33: B | D33: Improvements to road from Kanivathimmalapura village to Ramasagara road Chainage 0.00 Km to 4.00 Km in Kampli Taluk Bellary District | E33: MDR | F33: 123/21-22 | G33: 300 | S33: 1.4 | T33: 2 | U33: 0 | V33: 0 | W33: 2 | AA33: 1.90km WMM under progress
C34: C | D34: Improvements to road from Kuduthini to orvaayi cross road chainage 15.00 Km to 18.50 Km in Kurgodu Taluk Bellary District. | E34: MDR | F34: 135/21-22 | G34: 250 | S34: 1.35 | T34: 1.35 | U34: 1.35 | V34: 1 | W34: 0 | AA34: Road furniture work is in Progress
D35: Division total | G35: =SUM(G30:G34) -> 2350 | H35: =SUM(H30:H34) -> 2350 | I35: =SUM(I30:I34) -> 2010.55 | J35: =SUM(J30:J34) -> 2227.41 | K35: =SUM(K30:K34) -> 89.79 | L35: =SUM(L30:L34) -> 2317.2 | M35: =SUM(M30:M34) -> 0 | N35: =SUM(N30:N34) -> 0 | S35: =SUM(S30:S34) -> 6.94 | T35: =SUM(T30:T34) -> 7.54 | U35: =SUM(U30:U34) -> 4.025 | W35: =SUM(W30:W34) -> 3.515 | X35: =SUM(X30:X34) -> 876.2 | Z35: =SUM(Z30:Z34) -> 1441
A36: Vijayanagara Division
A37: 11 | B37: 442 | C37: A | D37: Improvements to MDR road from Nallapura to Hosachinnapura ch.6.00 km to 9.40 Km in Hospet taluk ,Ballary district. | E37: MDR HSP-217 | F37: 98/21-22 | G37: 400 | H37: 2300 | I37: 1961.66 | J37: 2315.76 | K37: 156.75 | L37: 2472.51 | O37: Sri. Sali Basavaraj, Hosapete | P37: 44729 | Q37: 45276 | S37: 2.53 | T37: 3.23 | U37: 3.23 | V37: 1 | W37: 0 | X37: 1131.66 | Y37: 0.45769683 | Z37: 1340.85 | AA37: Road furniture work is in Progress
C38: B | D38: Improvements to MDR road Connecting Ingalagi village to NH -63 km0.00 to 3.00 Km in Hospet taluk, Ballary district | E38: MDR HSP-221 | F38: 99/21-22 | G38: 500 | S38: 1.93 | T38: 1.949 | U38: 1.949 | V38: 1 | W38: 0 | AA38: Road furniture work is in Progress
C39: C | D39: Improvements to MDR road from Devalapura -Kamalapura , ch.10.00 km to 18.00 Km (in selected reaches) in Hospet taluk, Ballary district. | E39: MDR HSP-14 | F39: 100/21-22 | G39: 700 | S39: 7.74 | T39: 7.633 | U39: 7.63 | V39: 0.99960697 | W39: 0.003 | AA39: Road furniture work is in Progress
C40: D | D40: Improvements to MDR Road from Kondanayakanahalii to Danapura via Nagenahalli Thanda, ch.0.00 km to 6.00 Km in Hosapete taluk, Ballary district | E40: MDR HSP 213 | F40: 108/21-22 | G40: 700 | S40: 2.78 | T40: 5.7 | U40: 0 | V40: 0 | W40: 5.7 | AA40: C & G work completed and work stopped
A41: 12 | B41: 445 | C41: A | D41: Improvements SH -131 road from Hampi to Kamalapura via Hagaribommnahally from ch.131.00 to ch 137.00 km, ch.140.00 to Ch 141.15.00 km & ch.153.00 to Ch 156.15 km in Kudligi taluk , Ballary district. | E41: SH-131(KDL44) | F41: 171/21-22 | G41: 1250 | H41: 2250 | I41: 1928.95 | J41: 2276.15 | K41: 210.5 | L41: 2486.65 | O41: Sri. Sali Basavarj , Hosapete | P41: 44727 | Q41: 45274 | S41: 7.1 | T41: 8.31 | U41: 6.1 | V41: 0.73405535 | W41: 2.21 | X41: 1686.43 | Y41: 0.67819355 | Z41: 800.22 | AA41: GSB work under progress
...

Sheet Sheet1
A1: 3403.88
A2: 3136.16 | D2: 3403.88
A3: 3829.49 | D3: 3136.16
A4: 3391.67 | D4: 3829.49
A5: 1697.15 | D5: 3444.526
A6: =SUM(A1:A5) -> 15458.35 | D6: 2021.336
D8: =SUM(D2:D7) -> 15835.392
K10: 3403.88
K11: 3136.16
K12: 3829.49
K14: 3444.526
K15: 2071.593
K16: =K15+K14+K12+K11+K10 -> 15885.649 | L16: 15885.653
C20: V stage-I Nov | D20: 0 | E20: 23.83 | F20: 15.223 | G20: 0 | H20: 39.053
C21: V stage-I October | D21: 0 | E21: 11.9 | F21: 11.26 | G21: 0 | H21: 23.16
C22: diff | D22: =D20-D21 -> 0 | E22: =E20-E21 -> 11.93 | F22: =F20-F21 -> 3.963 | G22: =G20-G21 -> 0 | H22: =H20-H21 -> 15.893
C26: 3403.88
C27: 3136.16
C28: 3829.49
C29: 3455.33
C30: 2191.97
C31: 480.62
C32: =SUM(C26:C31) -> 16497.45
C35: 3403.88
C36: 3136.16
C37: 3829.49
C38: 3460.3
C39: 2248.93
C40: 819.65
C41: =SUM(C35:C40) -> 16898.41
C43: 16898.41

Sheet Sheet5
A1: 2022-23 | D1: 2023-24
A2: 2933.83 | D2: 3338.813 | E2: 1387.52
A3: 3325.42 | B3: 1190.76 | D3: 3396.12 | E3: 1728.85
A4: =A3-A2 -> 391.59 | B4: =B3-B2 -> 1190.76 | D4: =D3-D2 -> 57.307 | E4: =E3-E2 -> 341.33 | F4: =SUM(A4:E4) -> 1980.987
A7: 4517 | B7: 4944.41 | C7: 4524.11
A8: 3468.75 | B8: 3888.64 | C8: 1857.71
A9: =SUM(A7:A8) -> 7985.75 | B9: =SUM(B7:B8) -> 8833.05 | C9: =SUM(C7:C8) -> 6381.82
E11: 3403.88
E12: 3136.16
E13: 3829.49
E14: 3444.526
E15: 2055.842
A22: 3403.88
A23: 3136.16
A24: 3829.49
A25: 3460.3
A26: 2269.65
A27: 936.31
A28: =SUM(A22:A27) -> 17035.79 | B28: 17035.79
